BEGIN:VCALENDAR
VERSION:2.0
PRODID:-//Craiova Live - ECPv6.15.18//NONSGML v1.0//EN
CALSCALE:GREGORIAN
METHOD:PUBLISH
X-ORIGINAL-URL:https://craiovalive.ro
X-WR-CALDESC:Evenimente pentru Craiova Live
REFRESH-INTERVAL;VALUE=DURATION:PT1H
X-Robots-Tag:noindex
X-PUBLISHED-TTL:PT1H
BEGIN:VTIMEZONE
TZID:Europe/Bucharest
BEGIN:DAYLIGHT
TZOFFSETFROM:+0200
TZOFFSETTO:+0300
TZNAME:EEST
DTSTART:20250330T010000
END:DAYLIGHT
BEGIN:STANDARD
TZOFFSETFROM:+0300
TZOFFSETTO:+0200
TZNAME:EET
DTSTART:20251026T010000
END:STANDARD
BEGIN:DAYLIGHT
TZOFFSETFROM:+0200
TZOFFSETTO:+0300
TZNAME:EEST
DTSTART:20260329T010000
END:DAYLIGHT
BEGIN:STANDARD
TZOFFSETFROM:+0300
TZOFFSETTO:+0200
TZNAME:EET
DTSTART:20261025T010000
END:STANDARD
BEGIN:DAYLIGHT
TZOFFSETFROM:+0200
TZOFFSETTO:+0300
TZNAME:EEST
DTSTART:20270328T010000
END:DAYLIGHT
BEGIN:STANDARD
TZOFFSETFROM:+0300
TZOFFSETTO:+0200
TZNAME:EET
DTSTART:20271031T010000
END:STANDARD
END:VTIMEZONE
BEGIN:VEVENT
DTSTART;TZID=Europe/Bucharest:20260109T190000
DTEND;TZID=Europe/Bucharest:20260109T203000
DTSTAMP:20260424T113509
CREATED:20251227T164910Z
LAST-MODIFIED:20251227T164936Z
UID:10012688-1767985200-1767990600@craiovalive.ro
SUMMARY:Concert extraordinar de Anul Nou
DESCRIPTION:9-10 IANUARIE 2026\, ORA 19:00Concert extraordinar de Anul NouORCHESTRA SIMFONICĂ A FILARMONICII „OLTENIA” DIRIJOR: THEO WOLTERS (OLANDA) SOLISTĂ: SILVIA MICU (soprană)————În program:– Otto Nicolai: Uvertura operei „Nevestele vesele din Windsor”– Antonín Dvořák: „Cântec pentru Lună” din opera „Rusalka” pentru soprană și orchestrăDans slavonic op. 72\, nr. 2 și 7– Giacomo Puccini: Valsul Musettei din opera „Boema” pentru soprană și orchestră– Jacques Offenbach: Uvertura „Orfeu în Infern”– Johann Strauss II: Uvertura operetei „Voievodul țiganilor”– Emmerich Kálmán: Aria Silviei din opereta „Prințesa ceardașului” pentru soprană și orchestră– Johann Strauss II: Polca orașului și a țării\, op. 322„Tren de plăcere” polca rapidă\, op. 281 (solo Theo Wolters)Aria „Sunete de acasă” din opereta „Liliacul” pentru soprană și orchestrăValsul imperial\, op. 437 „Tunete și fulgere”\, polca rapidă\, op. 324 \n  \nLINK BILETE CONCERT 09.01 \nLINK BILETE CONCERT 10.01
URL:https://craiovalive.ro/eveniment/concert-extraordinar-de-anul-nou-2/2026-01-09/
LOCATION:Filarmonica Oltenia\, Calea Unirii\, nr. 16\, Craiova\, Dolj\, 200585\, România
CATEGORIES:Muzică
ATTACH;FMTTYPE=image/jpeg:https://craiovalive.ro/wp-content/uploads/2025/12/Concert-extraordinar-de-Anul-Nou.jpg
ORGANIZER;CN="Filarmonica Oltenia Craiova":MAILTO:secretariat@filarmonica-oltenia.ro
GEO:44.3172308;23.7944364
X-APPLE-STRUCTURED-LOCATION;VALUE=URI;X-ADDRESS=Filarmonica Oltenia Calea Unirii nr. 16 Craiova Dolj 200585 România;X-APPLE-RADIUS=500;X-TITLE=Calea Unirii\, nr. 16:geo:23.7944364,44.3172308
END:VEVENT
BEGIN:VEVENT
DTSTART;TZID=Europe/Bucharest:20260110T190000
DTEND;TZID=Europe/Bucharest:20260110T203000
DTSTAMP:20260424T113509
CREATED:20251227T164910Z
LAST-MODIFIED:20251227T164936Z
UID:10012689-1768071600-1768077000@craiovalive.ro
SUMMARY:Concert extraordinar de Anul Nou
DESCRIPTION:9-10 IANUARIE 2026\, ORA 19:00Concert extraordinar de Anul NouORCHESTRA SIMFONICĂ A FILARMONICII „OLTENIA” DIRIJOR: THEO WOLTERS (OLANDA) SOLISTĂ: SILVIA MICU (soprană)————În program:– Otto Nicolai: Uvertura operei „Nevestele vesele din Windsor”– Antonín Dvořák: „Cântec pentru Lună” din opera „Rusalka” pentru soprană și orchestrăDans slavonic op. 72\, nr. 2 și 7– Giacomo Puccini: Valsul Musettei din opera „Boema” pentru soprană și orchestră– Jacques Offenbach: Uvertura „Orfeu în Infern”– Johann Strauss II: Uvertura operetei „Voievodul țiganilor”– Emmerich Kálmán: Aria Silviei din opereta „Prințesa ceardașului” pentru soprană și orchestră– Johann Strauss II: Polca orașului și a țării\, op. 322„Tren de plăcere” polca rapidă\, op. 281 (solo Theo Wolters)Aria „Sunete de acasă” din opereta „Liliacul” pentru soprană și orchestrăValsul imperial\, op. 437 „Tunete și fulgere”\, polca rapidă\, op. 324 \n  \nLINK BILETE CONCERT 09.01 \nLINK BILETE CONCERT 10.01
URL:https://craiovalive.ro/eveniment/concert-extraordinar-de-anul-nou-2/2026-01-10/
LOCATION:Filarmonica Oltenia\, Calea Unirii\, nr. 16\, Craiova\, Dolj\, 200585\, România
CATEGORIES:Muzică
ATTACH;FMTTYPE=image/jpeg:https://craiovalive.ro/wp-content/uploads/2025/12/Concert-extraordinar-de-Anul-Nou.jpg
ORGANIZER;CN="Filarmonica Oltenia Craiova":MAILTO:secretariat@filarmonica-oltenia.ro
GEO:44.3172308;23.7944364
X-APPLE-STRUCTURED-LOCATION;VALUE=URI;X-ADDRESS=Filarmonica Oltenia Calea Unirii nr. 16 Craiova Dolj 200585 România;X-APPLE-RADIUS=500;X-TITLE=Calea Unirii\, nr. 16:geo:23.7944364,44.3172308
END:VEVENT
END:VCALENDAR