BEGIN:VCALENDAR
VERSION:2.0
PRODID:-//Craiova Live - ECPv6.15.18//NONSGML v1.0//EN
CALSCALE:GREGORIAN
METHOD:PUBLISH
X-WR-CALNAME:Craiova Live
X-ORIGINAL-URL:https://craiovalive.ro
X-WR-CALDESC:Evenimente pentru Craiova Live
REFRESH-INTERVAL;VALUE=DURATION:PT1H
X-Robots-Tag:noindex
X-PUBLISHED-TTL:PT1H
BEGIN:VTIMEZONE
TZID:Europe/Bucharest
BEGIN:DAYLIGHT
TZOFFSETFROM:+0200
TZOFFSETTO:+0300
TZNAME:EEST
DTSTART:20240331T010000
END:DAYLIGHT
BEGIN:STANDARD
TZOFFSETFROM:+0300
TZOFFSETTO:+0200
TZNAME:EET
DTSTART:20241027T010000
END:STANDARD
BEGIN:DAYLIGHT
TZOFFSETFROM:+0200
TZOFFSETTO:+0300
TZNAME:EEST
DTSTART:20250330T010000
END:DAYLIGHT
BEGIN:STANDARD
TZOFFSETFROM:+0300
TZOFFSETTO:+0200
TZNAME:EET
DTSTART:20251026T010000
END:STANDARD
BEGIN:DAYLIGHT
TZOFFSETFROM:+0200
TZOFFSETTO:+0300
TZNAME:EEST
DTSTART:20260329T010000
END:DAYLIGHT
BEGIN:STANDARD
TZOFFSETFROM:+0300
TZOFFSETTO:+0200
TZNAME:EET
DTSTART:20261025T010000
END:STANDARD
END:VTIMEZONE
BEGIN:VEVENT
DTSTART;TZID=Europe/Bucharest:20251221T230000
DTEND;TZID=Europe/Bucharest:20251222T050000
DTSTAMP:20260424T184322
CREATED:20251215T174428Z
LAST-MODIFIED:20251215T174428Z
UID:10012640-1766358000-1766379600@craiovalive.ro
SUMMARY:Weekend with Andrei YC
DESCRIPTION:Free entry
URL:https://craiovalive.ro/eveniment/weekend-with-andrei-yc/2025-12-21/
LOCATION:The 20s\, Str. Traian Demetrescu\, nr. 14\, Craiova\, Dolj\, 200395\, România
CATEGORIES:Muzică,Party
ATTACH;FMTTYPE=image/jpeg:https://craiovalive.ro/wp-content/uploads/2025/12/Weekend-with-Andrei-YC.jpg
GEO:44.3166319;23.8001481
X-APPLE-STRUCTURED-LOCATION;VALUE=URI;X-ADDRESS=The 20s Str. Traian Demetrescu nr. 14 Craiova Dolj 200395 România;X-APPLE-RADIUS=500;X-TITLE=Str. Traian Demetrescu\, nr. 14:geo:23.8001481,44.3166319
END:VEVENT
BEGIN:VEVENT
DTSTART;TZID=Europe/Bucharest:20251223T200000
DTEND;TZID=Europe/Bucharest:20251223T230000
DTSTAMP:20260424T184322
CREATED:20251208T135400Z
LAST-MODIFIED:20251208T135400Z
UID:10012626-1766520000-1766530800@craiovalive.ro
SUMMARY:Touluse Lautrec Acustic @B!erlin
DESCRIPTION:Touluse Lautrec nu mai necesită nicio prezentare\, așa că precizăm doar detaliile de organizare a evenimentului: accesul se face în baza rezervării unuia dintre locurile foarte limitate\, pe mesageria Biergarten fb sau insta. Locurile sunt pe scaune (și tribune laterale) în sala de jos\, aka B!erlin. Artist fee-ul se achită la fața locului\, 100 de lei.
URL:https://craiovalive.ro/eveniment/touluse-lautrec-acustic-berlin/
LOCATION:Biergarten\, Str. Fraţii Buzeşti nr. 18\, Craiova\, Dolj\, 200381\, România
CATEGORIES:Muzică
ATTACH;FMTTYPE=image/jpeg:https://craiovalive.ro/wp-content/uploads/2025/12/Touluse-Lautrec-Acustic-@Berlin.jpg
GEO:44.314387198457;23.799027336713
X-APPLE-STRUCTURED-LOCATION;VALUE=URI;X-ADDRESS=Biergarten Str. Fraţii Buzeşti nr. 18 Craiova Dolj 200381 România;X-APPLE-RADIUS=500;X-TITLE=Str. Fraţii Buzeşti nr. 18:geo:23.799027336713,44.314387198457
END:VEVENT
END:VCALENDAR