BEGIN:VCALENDAR
VERSION:2.0
PRODID:-//Craiova Live - ECPv6.15.18//NONSGML v1.0//EN
CALSCALE:GREGORIAN
METHOD:PUBLISH
X-WR-CALNAME:Craiova Live
X-ORIGINAL-URL:https://craiovalive.ro
X-WR-CALDESC:Evenimente pentru Craiova Live
REFRESH-INTERVAL;VALUE=DURATION:PT1H
X-Robots-Tag:noindex
X-PUBLISHED-TTL:PT1H
BEGIN:VTIMEZONE
TZID:Europe/Bucharest
BEGIN:DAYLIGHT
TZOFFSETFROM:+0200
TZOFFSETTO:+0300
TZNAME:EEST
DTSTART:20240331T010000
END:DAYLIGHT
BEGIN:STANDARD
TZOFFSETFROM:+0300
TZOFFSETTO:+0200
TZNAME:EET
DTSTART:20241027T010000
END:STANDARD
BEGIN:DAYLIGHT
TZOFFSETFROM:+0200
TZOFFSETTO:+0300
TZNAME:EEST
DTSTART:20250330T010000
END:DAYLIGHT
BEGIN:STANDARD
TZOFFSETFROM:+0300
TZOFFSETTO:+0200
TZNAME:EET
DTSTART:20251026T010000
END:STANDARD
BEGIN:DAYLIGHT
TZOFFSETFROM:+0200
TZOFFSETTO:+0300
TZNAME:EEST
DTSTART:20260329T010000
END:DAYLIGHT
BEGIN:STANDARD
TZOFFSETFROM:+0300
TZOFFSETTO:+0200
TZNAME:EET
DTSTART:20261025T010000
END:STANDARD
END:VTIMEZONE
BEGIN:VEVENT
DTSTART;TZID=Europe/Bucharest:20251217T173000
DTEND;TZID=Europe/Bucharest:20251217T183000
DTSTAMP:20260424T132336
CREATED:20251215T174229Z
LAST-MODIFIED:20251215T174229Z
UID:10012638-1765992600-1765996200@craiovalive.ro
SUMMARY:Concertul de colinde Tabăra Bucuriei
DESCRIPTION:Vă invităm la Concertul (tradițional) de Crăciun al Asociației Bucurie pentru Viață\, miercuri\, 17 decembrie\, orele 17.30\, la Teatrul pentru copii si tineret Colibri Craiova . Intrarea se face pe bază de invitații\, disponibile\, ca de obicei\, la magazinul Magic Hobby din Craiova.Vor fi alături de noi\, pe scenă\, prieteni buni ai Taberei Bucuriei:– interpreta de muzică populară Lavinia Bîrsoghe– preotul Gigi Smădoi– grupul de colindători ai Colegiului Național Militar ”Tudor Vladimirescu” din Craiova– grupul folk format din: Durlea Anisia\, Barbu Clara\, Florea Vlad și Udrea Iris.Concertul este dedicat prietenilor taberei și\, într-un număr limitat de locuri\, celor care doresc să ne fie alături în această seară. Intrarea se face pe bază de invitații\, disponibile\, ca de obicei\, la magazinul Magic Hobby din Craiova\, cartier Craiovița Nouă\, zona Fortuna.Vă așteptăm cu tot dragul!
URL:https://craiovalive.ro/eveniment/concertul-de-colinde-tabara-bucuriei/
LOCATION:Teatrul pentru copii și tineret Colibri\, Calea București\, nr. 56\, Craiova\, Dolj\, România
CATEGORIES:Muzică
ATTACH;FMTTYPE=image/jpeg:https://craiovalive.ro/wp-content/uploads/2025/12/Concertul-de-colinde-Tabara-Bucuriei.jpg
GEO:44.3151148;23.8215842
X-APPLE-STRUCTURED-LOCATION;VALUE=URI;X-ADDRESS=Teatrul pentru copii și tineret Colibri Calea București nr. 56 Craiova Dolj România;X-APPLE-RADIUS=500;X-TITLE=Calea București\, nr. 56:geo:23.8215842,44.3151148
END:VEVENT
BEGIN:VEVENT
DTSTART;TZID=Europe/Bucharest:20251217T190000
DTEND;TZID=Europe/Bucharest:20251217T203000
DTSTAMP:20260424T132336
CREATED:20251118T125215Z
LAST-MODIFIED:20251208T092508Z
UID:10012510-1765998000-1766003400@craiovalive.ro
SUMMARY:Concert de Ziua Filarmonicii Oltenia / Închiderea Festivalului Craiova Muzicală 2025
DESCRIPTION:MIERCURI\, 17 DECEMBRIE 2025\, ORA 19:00 – Închiderea festivalului Internațional Craiova Muzicală 52/ ZIUA FILARMONICII – 121 de aniSIMFONIA a IX-a de BEETHOVEN\nORCHESTRA SIMFONICĂ ȘI CORALA ACADEMICĂ ALE FILARMONICII „OLTENIA”\n DIRIJOR: RADU ZAHARIA SOLIȘTI: MIHAELA MARCU (soprană)\, ANTONELA BÂRNAT (mezzosoprană)\, REMUS ALĂZĂROAIE (tenor)\, LUCIAN ONIȚA (bariton) Maestru de cor: PAVEL ȘOPOV\n Rezervați locurile la Filarmonică sau online. Prețuri bilete: 50 lei | 15 lei (elevi\, studenți\, seniori) 0251 414 698 | Luni–Vineri\, 10:00–18:00\nConcert inclus în Abonamentul Melomanului.
URL:https://craiovalive.ro/eveniment/concert-de-ziua-filarmonicii-oltenia-inchiderea-festivalului-craiova-muzicala-2025/
LOCATION:Filarmonica Oltenia\, Calea Unirii\, nr. 16\, Craiova\, Dolj\, 200585\, România
CATEGORIES:Muzică
ATTACH;FMTTYPE=image/jpeg:https://craiovalive.ro/wp-content/uploads/2025/11/Concert-de-Ziua-Filarmonicii-Oltenia-Inchiderea-Festivalului-Craiova-Muzicala-2025.jpg
ORGANIZER;CN="Filarmonica Oltenia Craiova":MAILTO:secretariat@filarmonica-oltenia.ro
GEO:44.3172308;23.7944364
X-APPLE-STRUCTURED-LOCATION;VALUE=URI;X-ADDRESS=Filarmonica Oltenia Calea Unirii nr. 16 Craiova Dolj 200585 România;X-APPLE-RADIUS=500;X-TITLE=Calea Unirii\, nr. 16:geo:23.7944364,44.3172308
END:VEVENT
BEGIN:VEVENT
DTSTART;TZID=Europe/Bucharest:20251218T200000
DTEND;TZID=Europe/Bucharest:20251218T220000
DTSTAMP:20260424T132336
CREATED:20251208T132701Z
LAST-MODIFIED:20251208T132701Z
UID:10012619-1766088000-1766095200@craiovalive.ro
SUMMARY:𝐉𝐨𝐢𝐚 𝐝𝐞 𝐦𝐮𝐳𝐢𝐜𝐚̆ 🎶 Acoustic Night cu Adi Blejoiu & Ionuț Ilicevici Live la Curte
DESCRIPTION:𝐉𝐨𝐢𝐚 𝐝𝐞 𝐦𝐮𝐳𝐢𝐜𝐚̆  Acoustic Night cu Adi Blejoiu & Ionuț Ilicevici Live la  Curtea Berarilor Craiova – un eveniment Magazinul de Muzică\n O chitară și două voci pot schimba complet o seară obișnuită.  Vino pentru muzică\, rămâi pentru atmosferă și mai cere un refill de #TimiLaTank.  Ne vedem la Curte pentru o seară memorabilă!\n Free access Info & Rezervări: 0724.924.824
URL:https://craiovalive.ro/eveniment/%f0%9d%90%89%f0%9d%90%a8%f0%9d%90%a2%f0%9d%90%9a-%f0%9d%90%9d%f0%9d%90%9e-%f0%9d%90%a6%f0%9d%90%ae%f0%9d%90%b3%f0%9d%90%a2%f0%9d%90%9c%f0%9d%90%9a%cc%86-%f0%9f%8e%b6-acoustic-night-cu-adi-blejoiu-io/
LOCATION:Curtea Berarilor Craiova\, Strada Traian Demetrescu 12\, Craiova\, Dolj\, România
CATEGORIES:Muzică
ATTACH;FMTTYPE=image/png:https://craiovalive.ro/wp-content/uploads/2025/12/curtea-berarilor-joia-de-muzica-ionut-si-adi-dec-2025.png
GEO:44.3165732;23.7999731
X-APPLE-STRUCTURED-LOCATION;VALUE=URI;X-ADDRESS=Curtea Berarilor Craiova Strada Traian Demetrescu 12 Craiova Dolj România;X-APPLE-RADIUS=500;X-TITLE=Strada Traian Demetrescu 12:geo:23.7999731,44.3165732
END:VEVENT
BEGIN:VEVENT
DTSTART;TZID=Europe/Bucharest:20251219T170000
DTEND;TZID=Europe/Bucharest:20251219T183000
DTSTAMP:20260424T132336
CREATED:20251118T125340Z
LAST-MODIFIED:20251208T093032Z
UID:10012609-1766163600-1766169000@craiovalive.ro
SUMMARY:Concert de colinde\, dirijor Eduard Dinu
DESCRIPTION:Concert de colindeVINERI 19 DECEMBRIE 2025 – ORA 17:00 / Ora 19:00 – Sala Filarmonicii OlteniaCORALA ACADEMICĂ A FILARMONICII OLTENIA CORUL FILARMONICII DIN PLOIEȘTICORUL DE COPII GLASURI CRISTALINEDirijorEDUARD DINUIULIA MANDA Dirijor cor copiiCORINA LIANA STĂNESCU – pian
URL:https://craiovalive.ro/eveniment/concert-de-colinde/2025-12-19/3/
LOCATION:Filarmonica Oltenia\, Calea Unirii\, nr. 16\, Craiova\, Dolj\, 200585\, România
CATEGORIES:Muzică
ATTACH;FMTTYPE=image/jpeg:https://craiovalive.ro/wp-content/uploads/2025/11/Concert-de-colinde-dirijor-Eduard-Dinu.jpg
ORGANIZER;CN="Filarmonica Oltenia Craiova":MAILTO:secretariat@filarmonica-oltenia.ro
GEO:44.3172308;23.7944364
X-APPLE-STRUCTURED-LOCATION;VALUE=URI;X-ADDRESS=Filarmonica Oltenia Calea Unirii nr. 16 Craiova Dolj 200585 România;X-APPLE-RADIUS=500;X-TITLE=Calea Unirii\, nr. 16:geo:23.7944364,44.3172308
END:VEVENT
BEGIN:VEVENT
DTSTART;TZID=Europe/Bucharest:20251219T210000
DTEND;TZID=Europe/Bucharest:20251219T220000
DTSTAMP:20260424T132336
CREATED:20251118T125340Z
LAST-MODIFIED:20251208T093032Z
UID:10012610-1766178000-1766181600@craiovalive.ro
SUMMARY:Concert de colinde\, dirijor Eduard Dinu
DESCRIPTION:Concert de colindeVINERI 19 DECEMBRIE 2025 – ORA 17:00 / Ora 19:00 – Sala Filarmonicii OlteniaCORALA ACADEMICĂ A FILARMONICII OLTENIA CORUL FILARMONICII DIN PLOIEȘTICORUL DE COPII GLASURI CRISTALINEDirijorEDUARD DINUIULIA MANDA Dirijor cor copiiCORINA LIANA STĂNESCU – pian
URL:https://craiovalive.ro/eveniment/concert-de-colinde/2025-12-19/4/
LOCATION:Filarmonica Oltenia\, Calea Unirii\, nr. 16\, Craiova\, Dolj\, 200585\, România
CATEGORIES:Muzică
ATTACH;FMTTYPE=image/jpeg:https://craiovalive.ro/wp-content/uploads/2025/11/Concert-de-colinde-dirijor-Eduard-Dinu.jpg
ORGANIZER;CN="Filarmonica Oltenia Craiova":MAILTO:secretariat@filarmonica-oltenia.ro
GEO:44.3172308;23.7944364
X-APPLE-STRUCTURED-LOCATION;VALUE=URI;X-ADDRESS=Filarmonica Oltenia Calea Unirii nr. 16 Craiova Dolj 200585 România;X-APPLE-RADIUS=500;X-TITLE=Calea Unirii\, nr. 16:geo:23.7944364,44.3172308
END:VEVENT
BEGIN:VEVENT
DTSTART;TZID=Europe/Bucharest:20251220T230000
DTEND;TZID=Europe/Bucharest:20251221T050000
DTSTAMP:20260424T132336
CREATED:20251215T174428Z
LAST-MODIFIED:20251215T174428Z
UID:10012639-1766271600-1766293200@craiovalive.ro
SUMMARY:Weekend with Andrei YC
DESCRIPTION:Free entry
URL:https://craiovalive.ro/eveniment/weekend-with-andrei-yc/2025-12-20/
LOCATION:The 20s\, Str. Traian Demetrescu\, nr. 14\, Craiova\, Dolj\, 200395\, România
CATEGORIES:Muzică,Party
ATTACH;FMTTYPE=image/jpeg:https://craiovalive.ro/wp-content/uploads/2025/12/Weekend-with-Andrei-YC.jpg
GEO:44.3166319;23.8001481
X-APPLE-STRUCTURED-LOCATION;VALUE=URI;X-ADDRESS=The 20s Str. Traian Demetrescu nr. 14 Craiova Dolj 200395 România;X-APPLE-RADIUS=500;X-TITLE=Str. Traian Demetrescu\, nr. 14:geo:23.8001481,44.3166319
END:VEVENT
BEGIN:VEVENT
DTSTART;TZID=Europe/Bucharest:20251221T190000
DTEND;TZID=Europe/Bucharest:20251221T203000
DTSTAMP:20260424T132336
CREATED:20251030T213847Z
LAST-MODIFIED:20251030T213847Z
UID:10012188-1766343600-1766349000@craiovalive.ro
SUMMARY:Christmas Show – Eduard Cotoară & invitații
DESCRIPTION:🎄 CHRISTMAS SHOW – Eduard Cotoară & invitații \n✨ Pe 21 decembrie\, ora 19:00\, la Sala Filarmonicii Oltenia Craiova\, sunteți invitați să trăiți magia sărbătorilor de iarnă printr-un spectacol unic susținut de Eduard Cotoară\, fondatorul proiectului 2NormaL\, alături de invitați de excepție. \nShow-ul îmbină muzica live cu momente speciale de teatru\, într-o atmosfera festivă\, așadar pregătiți-vă pentru o experiență memorabilă\, plină de magie. „Christmas Show” aduce pe scenă interpretări speciale ale unor piese proprii din repertoriul 2NormaL\, dar și momente artistice dedicate Crăciunului\, toate acompaniate de o trupă live. \n⸻ \nProtagoniștii serii: \n•⁠  ⁠Eduard Cotoară – solist și compozitor\, cunoscut pentru proiectul 2NormaL și piesele sale lansate de-a lungul anilor: „1.000 de luni”\, „Shot-uri de iubire”\, „Regina”\, „Beam\, Beam”\, „Tu nu știi”\, „Și poate” și „Și dacă tu nu ai mai fi”. \n•⁠  ⁠Alin Stoica – „tenorul inimilor”\, interpret cu o voce excepțională și o carieră remarcabilă\, laureat al premiului Luciano Pavarotti \n•⁠  ⁠Romanița Duminică – Semifinalista Vocii României\, artista cu o voce caldă și prezență scenică remarcabilă. \n•⁠  ⁠Adrian Andone – actor cunoscut al scenei teatrului craiovean\, care va aduce emoție și profunzime momentelor din spectacol. \nBiletele EARLY BIRD sunt disponibile până la 1 noiembrie astfel: \nCategoria A – 170 lei\nCategoria B – 120 lei \nDupa data de 1 noiembrie\, biletele vor fi disponibile după cum urmează: \nCategoria A – 200 lei \nCategoria B – 150 lei \n⸻ \n„Christmas Show” este mai mult decât un concert\, este un spectacol complex\, care îmbină muzica\, teatrul și magia Crăciunului într-un format modern și rafinat. \nDacă sunteți în căutarea cadoului perfect pentru cei dragi o seară plină de emoție\, lumini\, povești și colinde reintrepretate poate fi un CADOU DE NEUITAT.\n⸻ \nDetalii: \n📍 Locație: Sala Filarmonica Oltenia Craiova\n📅 Data: 21 decembrie 2025\n🕖 Ora: 19:00\n🎟 Bilete: disponibile în rețeaua more.com \n🎙 Partener media: Radio România Oltenia – Craiova\n💛 Sponsor oficial: MYTHOS \n⸻ \nUn eveniment cultural de marcă \n„Christmas Show” este o celebrare a artei autentice\, a colaborării dintre muzicieni și actori\, o seară în care Craiova devine scena bucuriei și a emoției de Crăciun.\nUn eveniment dedicat publicului care iubește frumosul\, eleganța și trăirea sinceră prin artă.
URL:https://craiovalive.ro/eveniment/christmas-show-eduard-cotoara-invitatii/
LOCATION:Filarmonica Oltenia\, Calea Unirii\, nr. 16\, Craiova\, Dolj\, 200585\, România
CATEGORIES:Muzică
ATTACH;FMTTYPE=image/jpeg:https://craiovalive.ro/wp-content/uploads/2025/10/Christmas-Show-–-Eduard-Cotoara-invitatii.jpg
GEO:44.3172308;23.7944364
X-APPLE-STRUCTURED-LOCATION;VALUE=URI;X-ADDRESS=Filarmonica Oltenia Calea Unirii nr. 16 Craiova Dolj 200585 România;X-APPLE-RADIUS=500;X-TITLE=Calea Unirii\, nr. 16:geo:23.7944364,44.3172308
END:VEVENT
BEGIN:VEVENT
DTSTART;TZID=Europe/Bucharest:20251221T190000
DTEND;TZID=Europe/Bucharest:20251221T203000
DTSTAMP:20260424T132336
CREATED:20251208T095439Z
LAST-MODIFIED:20251208T095439Z
UID:10012614-1766343600-1766349000@craiovalive.ro
SUMMARY:Strauss Magical Christmas
DESCRIPTION:Strauss Magical Christmas \nData: 21 decembrie 2025 \nOra: 19.00 \nLocația: Teatrul Național Marin Sorescu \nStrauss Magical Christmas \nÎntr-o seară de iarnă plină de farmec\, când luminițele scaldă orașul în strălucire\, iar aerul poartă emoția sărbătorilor\, Opera Română Craiova deschide porțile unui tărâm al eleganței\, al bucuriei și al muzicii care atinge sufletul. \nCelebra orchestră Johann Strauss Ensemble și dirijorul Russell McGregor vin în fața publicului craiovean în cadrul unui eveniment de Crăciun ce poartă amprenta rafinamentului vienez și a spiritului festiv. Alături de artiștii și invitații Operei Române Craiova\, ne vom lăsa purtați de farmecul unic al valsurilor lui Strauss\, de armoniile care încălzesc sufletul și de emoția muzicii trăite cu pasiune. \nAnul 2025 este pentru iubitorii muzicii un moment aniversar special: se împlinesc 200 de ani de la nașterea lui Johann Strauss\, iar spectacolul „Strauss Magical Christmas” este o celebrare a „regelui valsului”\, a frumuseții\, tradiției și armoniei artistice. \nO seară de poveste\, în care eleganța vieneză se împletește cu spiritul cald al Crăciunului\, un dar muzical oferit tuturor celor care își deschid sufletul în fața bucuriei sărbătorilor. \n  \nPreț: 120 RON \n  \nInformații suplimentare: \nAgenția Operei Române Craiova de la Sala Polivalentă \nBulevardul Ilie Balaci nr. 6 \n0351.442.471\, agentiadebilete@operacraiova.ro
URL:https://craiovalive.ro/eveniment/strauss-magical-christmas/
LOCATION:Teatrul Național Craiova – Sala Amza Pellea\, Str. A. I. Cuza\, nr. 11\, Craiova\, Dolj\, 200585\, România
CATEGORIES:Muzică
ATTACH;FMTTYPE=image/webp:https://craiovalive.ro/wp-content/uploads/2025/12/Strauss-Magical-Christmas.webp
ORGANIZER;CN="Opera Rom%C3%A2n%C4%83 Craiova":MAILTO:rezervari@operacraiova.ro
GEO:44.3186661;23.8003743
X-APPLE-STRUCTURED-LOCATION;VALUE=URI;X-ADDRESS=Teatrul Național Craiova – Sala Amza Pellea Str. A. I. Cuza nr. 11 Craiova Dolj 200585 România;X-APPLE-RADIUS=500;X-TITLE=Str. A. I. Cuza\, nr. 11:geo:23.8003743,44.3186661
END:VEVENT
BEGIN:VEVENT
DTSTART;TZID=Europe/Bucharest:20251221T190000
DTEND;TZID=Europe/Bucharest:20251221T210000
DTSTAMP:20260424T132336
CREATED:20250904T095054Z
LAST-MODIFIED:20250904T095054Z
UID:10009078-1766343600-1766350800@craiovalive.ro
SUMMARY:Madrigal de Crăciun | 2 în 1 la Craiova
DESCRIPTION:MADRIGAL DE CRĂCIUN | Două concerte într-un singur spectacol\nDe peste 60 de ani\, sărbătoarea Nașterii Domnului are la români sunetul Madrigalului.\nCorul Național de Cameră „Madrigal – Marin Constantin”\, dirijat de Anna Ungureanu\, aduce în luna decembrie la Craiova mesajul său plin de pace și speranță și conectează spectatorii cu bucuria Crăciunului printr-un spectacol special\, ce reunește două concerte de colinde. \nMiracolul Nașterii Mântuitorului este vestit la Sala Polivalentă din Sibiu prin cea mai frumoasă muzică de Sărbători\, dar și vizual\, prin light design și proiecții. Publicul va avea prilejul să se bucure pe 21 decembrie de cea mai frumoasă colecție de colinde românești și internaționale\, alese din spectacolele „Crăciunul Florilor” și „Christmas mood”. \nPrima parte a spectacolului este dedicată obiceiului străvechi al colindatului la români\, printr-o incursiune în universul colindelor tradiționale\, selectate din conceptul original „Madrigal: Crăciunul Florilor”. Culese de compozitori români\, lucrările interpretate de Corul Madrigal sunt acele colinde care ne aduc în suflete\, de veacuri\, emoția miracolului nașterii lui Iisus și spiritul luminos al Crăciunului.\nRepertoriul din partea a doua a evenimentului invită spectatorii la „Madrigal: Christmas mood”\, cu cele mai cunoscute colinde internaționale și lucrări de muzică sacră consacrate în repertoriul Corului Madrigal\, dar și cu surprinzătoare reinterpretări moderne\, cu accente de jazz și inspirație din muzica americană de sărbători. \nCa în fiecare an de Crăciun\, copii din corurile Cantus Mundi din regiune se vor alătura Corului Madrigal și vor colinda împreună cu spectatorii. \nDirijor ANNA UNGUREANU | Concept EMIL PANTELIMON
URL:https://craiovalive.ro/eveniment/madrigal-de-craciun-2-in-1-la-craiova/
LOCATION:Sala Polivalentă\, Bvd. Ilie Balaci\, nr.6\, Craiova\, Dolj\, România
CATEGORIES:Muzică
ATTACH;FMTTYPE=image/jpeg:https://craiovalive.ro/wp-content/uploads/2025/09/Concerte-Madrigal-Craiova-2025.jpg
GEO:44.3133053;23.7867478
X-APPLE-STRUCTURED-LOCATION;VALUE=URI;X-ADDRESS=Sala Polivalentă Bvd. Ilie Balaci nr.6 Craiova Dolj România;X-APPLE-RADIUS=500;X-TITLE=Bvd. Ilie Balaci\, nr.6:geo:23.7867478,44.3133053
END:VEVENT
BEGIN:VEVENT
DTSTART;TZID=Europe/Bucharest:20251221T230000
DTEND;TZID=Europe/Bucharest:20251222T050000
DTSTAMP:20260424T132336
CREATED:20251215T174428Z
LAST-MODIFIED:20251215T174428Z
UID:10012640-1766358000-1766379600@craiovalive.ro
SUMMARY:Weekend with Andrei YC
DESCRIPTION:Free entry
URL:https://craiovalive.ro/eveniment/weekend-with-andrei-yc/2025-12-21/
LOCATION:The 20s\, Str. Traian Demetrescu\, nr. 14\, Craiova\, Dolj\, 200395\, România
CATEGORIES:Muzică,Party
ATTACH;FMTTYPE=image/jpeg:https://craiovalive.ro/wp-content/uploads/2025/12/Weekend-with-Andrei-YC.jpg
GEO:44.3166319;23.8001481
X-APPLE-STRUCTURED-LOCATION;VALUE=URI;X-ADDRESS=The 20s Str. Traian Demetrescu nr. 14 Craiova Dolj 200395 România;X-APPLE-RADIUS=500;X-TITLE=Str. Traian Demetrescu\, nr. 14:geo:23.8001481,44.3166319
END:VEVENT
END:VCALENDAR