BEGIN:VCALENDAR
VERSION:2.0
PRODID:-//Craiova Live - ECPv6.15.18//NONSGML v1.0//EN
CALSCALE:GREGORIAN
METHOD:PUBLISH
X-WR-CALNAME:Craiova Live
X-ORIGINAL-URL:https://craiovalive.ro
X-WR-CALDESC:Evenimente pentru Craiova Live
REFRESH-INTERVAL;VALUE=DURATION:PT1H
X-Robots-Tag:noindex
X-PUBLISHED-TTL:PT1H
BEGIN:VTIMEZONE
TZID:Europe/Bucharest
BEGIN:DAYLIGHT
TZOFFSETFROM:+0200
TZOFFSETTO:+0300
TZNAME:EEST
DTSTART:20240331T010000
END:DAYLIGHT
BEGIN:STANDARD
TZOFFSETFROM:+0300
TZOFFSETTO:+0200
TZNAME:EET
DTSTART:20241027T010000
END:STANDARD
BEGIN:DAYLIGHT
TZOFFSETFROM:+0200
TZOFFSETTO:+0300
TZNAME:EEST
DTSTART:20250330T010000
END:DAYLIGHT
BEGIN:STANDARD
TZOFFSETFROM:+0300
TZOFFSETTO:+0200
TZNAME:EET
DTSTART:20251026T010000
END:STANDARD
BEGIN:DAYLIGHT
TZOFFSETFROM:+0200
TZOFFSETTO:+0300
TZNAME:EEST
DTSTART:20260329T010000
END:DAYLIGHT
BEGIN:STANDARD
TZOFFSETFROM:+0300
TZOFFSETTO:+0200
TZNAME:EET
DTSTART:20261025T010000
END:STANDARD
END:VTIMEZONE
BEGIN:VEVENT
DTSTART;TZID=Europe/Bucharest:20251210T180000
DTEND;TZID=Europe/Bucharest:20251210T190000
DTSTAMP:20260424T184439
CREATED:20251118T124737Z
LAST-MODIFIED:20251119T202000Z
UID:10012508-1765389600-1765393200@craiovalive.ro
SUMMARY:Concert cameral „Eleganță & Ritm” / Craiova Muzicală 2025
DESCRIPTION:MIERCURI\, 10 DECEMBRIE 2025\, ORA 18:00 – Muzeul de Artă\nConcert cameral\n„Eleganță & Ritm”\nȘTEFAN CAZACU (violoncel)\nIOAN-DRAGOȘ DIMITRIU (pian)\nÎn program:\nLudwig van Beethoven: Sonata op. 102\nAstor Piazzolla: Le Grand Tango\nGabriel Fauré: Elegie\nDavid Popper: Poloneză de concert\nGaspar Cassadó: Requiebros
URL:https://craiovalive.ro/eveniment/concert-cameral-eleganta-ritm-craiova-muzicala-2025/
LOCATION:Muzeul de Artă Craiova\, Calea Unirii\, nr. 15\, Craiova\, Dolj\, România
CATEGORIES:Muzică
ATTACH;FMTTYPE=image/jpeg:https://craiovalive.ro/wp-content/uploads/2025/11/Concert-cameral-„Eleganta-Ritm.jpg
ORGANIZER;CN="Filarmonica Oltenia Craiova":MAILTO:secretariat@filarmonica-oltenia.ro
GEO:44.3191666;23.7952566
X-APPLE-STRUCTURED-LOCATION;VALUE=URI;X-ADDRESS=Muzeul de Artă Craiova Calea Unirii nr. 15 Craiova Dolj România;X-APPLE-RADIUS=500;X-TITLE=Calea Unirii\, nr. 15:geo:23.7952566,44.3191666
END:VEVENT
BEGIN:VEVENT
DTSTART;TZID=Europe/Bucharest:20251210T190000
DTEND;TZID=Europe/Bucharest:20251210T203000
DTSTAMP:20260424T184439
CREATED:20251208T090620Z
LAST-MODIFIED:20251208T090620Z
UID:10012605-1765393200-1765398600@craiovalive.ro
SUMMARY:Colindăm încă din zori
DESCRIPTION:„Colindăm încă din zori“\, spectacol pe scena Teatrului Colibri Craiova \nTeatrul pentru Copii și Tineret Colibri – Secția Folclor „Maria Tănase“ aduce pe scenă frumusețea din cântecul sărbătorilor de iarnă și dăruiește publicului spectacolul „Colindăm încă din zori“\, miercuri\, 10 decembrie 2025\, ora 19:00. \nAlături de orchestră\, ne vor aminti atmosfera și tradițiile care însoțesc Crăciunul și Anul Nou soliștii: Mariana Ionescu Căpitănescu\, Constantin Enceanu\, Marius Măgureanu\, Lavinia Bîrsoghe\, Liliana Popa\, Aneta Şişu\, Manuela Motocu\, Liviu Dică\, Cristian Bănăţeanu\, Luiza Turcu\, Alex Golfin și tineri talentați care au trecut pragul atelierelor de folclor. \nSpectacolul va fi prezentat de interpreții de muzică populară: Luiza Turcu și Alex Golfin\, iar conducerea muzicală va fi asigurată de Ion – Cristian Munteanu. \nAccesul se va face exclusiv pe bază de invitație\, în limita locurilor disponibile.  \nInvitațiile se pot procura de la Agenţia Teatrului Colibri Craiova\, astfel: \nluni în intervalul orar 09:00 – 17:00  \njoi și vineri între 08:00 – 12:00 / 16:00 – 20:00  \nsâmbătă între 09:00 – 13:00 / 15:00 – 19:00  \nduminică între 10:00 – 13:00.  \n  \nMai multe informații se pot obține la tel.: 0251.412.473.
URL:https://craiovalive.ro/eveniment/colindam-inca-din-zori/
LOCATION:Teatrul pentru copii și tineret Colibri\, Calea București\, nr. 56\, Craiova\, Dolj\, România
CATEGORIES:Muzică
ATTACH;FMTTYPE=image/jpeg:https://craiovalive.ro/wp-content/uploads/2025/12/Colindam-inca-din-zori-.jpg
ORGANIZER;CN="Sec%C8%9Bia Folclor Maria T%C4%83nase Craiova":MAILTO:ansamblulmariatanase@yahoo.com
GEO:44.3151148;23.8215842
X-APPLE-STRUCTURED-LOCATION;VALUE=URI;X-ADDRESS=Teatrul pentru copii și tineret Colibri Calea București nr. 56 Craiova Dolj România;X-APPLE-RADIUS=500;X-TITLE=Calea București\, nr. 56:geo:23.8215842,44.3151148
END:VEVENT
BEGIN:VEVENT
DTSTART;TZID=Europe/Bucharest:20251211T170000
DTEND;TZID=Europe/Bucharest:20251211T183000
DTSTAMP:20260424T184439
CREATED:20250707T205452Z
LAST-MODIFIED:20251030T220249Z
UID:10012321-1765472400-1765477800@craiovalive.ro
SUMMARY:Regal Vienez – Concert Extraordinar de Crăciun Craiova 2025
DESCRIPTION:SPECTACOL EXTRAORDINAR DE CRĂCIUN – 200 DE ANI DE LA NAȘTEREA LUI JOHANN STRAUSS. \nINSTRUMENTIȘTI DIN DOUĂ ORCHESTRE CELEBRE DIN EUROPA \nORCHESTRA DI TEATRO D’OPERA ITALIANA\, una dintre cele mai celebre orchestre din Europa\, a fost aplaudată pe marile scene de operă și filarmonice din toată lumea. Este de ajuns să amintim câteva scene de tradiție: Brucknerhaus Linz (Filarmonica din Linz)\, Bregenz Festspielhaus (Filarmonica din Bregenz)\, Brunnenhof der Residenz München (Palatul Imperial din München)\, Palatul Hofburg din Viena\, Stadthalle Viena\, Meistersingershalle Nürnberg\, Kasemattenbuehne Graz\, etc. \nRecunoașterea orchestrei este dată și de colaborările cu mari nume ale liricii mondiale\, soliști și dirijori de la Arena din Verona\, Teatrul Scala din Milano\, Teatrul de Operă din Roma\, Opera de Stat din Viena\, etc. \nMembrilor Orchestrei di Teatro D’Opera Italiana li se alătură și artiști instrumentiști din ORCHESTRA OPEREI VOX\, cunoscută și apreciată la nivel național și internațional. Este un concept nou în România\, când artiști instrumentiști din două orchestre de prim rang din Europa își dau mâna pentru a oferi publicului seri memorabile și experiențe muzicale unice. \nDE LA JOHANN STRAUSS LA BOGDAN COSTACHE SAU DESPRE MODELUL VIENEZ AL DIRIJATULUI CU VIOARA ÎN MÂNĂ! \nConducerea muzicală a spectacolului va fi asigurată de tânărul dirijor și solist violinist BOGDAN COSTACHE și\, astfel\, soliștii și instrumentiștii invitați din Viena\, Italia\, Elveția\, Germania\, vor evolua sub bagheta unuia dintre cei mai talentați conducători de orchestră ai tinerei generații\, născut în România! Prezența lui BOGDAN COSTACHE în programul REGALULUI VIENEZ din acest an se datorează dumneavoastră\, publicului spectator care îl îndrăgiți deja atât de mult și v-ați arătat impresionați de prestația lui\, dorindu-vă să-l revedeți cât mai curând. Astfel\, spectacolul va fi unul interactiv\, dirijat „cu vioara în mână” după modelul lui JOHANN STRAUSS sau\, mai nou\, al lui ANDRE RIEU. \nȘi în acest an\, Bogdan vă va surprinde cu multe piese în prima audiție națională. Nelipsită va fi și muzica românească\, piese românești demult uitate\, dar și minunatele colinde românești. \nSPECTACOLUL VA FI DESĂVÂRȘIT DE CORUL ȘI BALETUL OPEREI VOX \nMembrilor orchestrei li se adaugă ANSAMBLUL DE BALET AL OPEREI VOX cu momentele mult așteptate de valsuri\, polci\, can-can\, într-o coregrafie efervescentă și antrenată semnată de Vlad Sebastian\, astfel încât veți fi poftiți la dans de însăși orchestrele noastre și balerinii noștri\, prin celebrul „Alles Walzer!” \nFrumoasele colinde și cântece de Crăciun vor străluci și prin vocile CORULUI OPEREI VOX. Și în acest an vă veți bucura și de colindele noastre tradiționale românești. \nTINERI ROMÂNI TALENTAȚI LA ÎNCEPUT DE DRUM! \nNe asumăm misiunea în fiecare an de a aduce în fața dumneavoastră și de a promova tineri muzicieni români deosebit de talentați\, la început de carieră\, dar care au câștigat deja premii la concursuri muzicale naționale și internaționale. Anul acesta va evolua alături de orchestra noastră foarte tânărul chitarist Gabriel Popescu\, alături de profesorul și îndrumătorul lui Mădălin Antonesei. \nBALUL VIENEZ ÎN ORAȘUL DUMNEAVOASTRĂ! \nAtmosfera și spiritul vienez vă vor cuceri încă de la intrarea în sala de spectacol și vă vor rămâne în suflet ca o amintire vie pentru Crăciunul și Anul Nou ce vor urma. Dacă nu puteți ajunge la concertele de Crăciun și Anul Nou de la Viena\, aducem noi spiritul vienez în orașul dumneavoastră prin cele mai frumoase capodopere muzicale vieneze ale dinastiei Strauss\, Franz Lehar\, Emmerich Kalman și multe\, multe alte surprize muzicale și coregrafice. \nSoliștii invitați din Austria\, Italia și Elveția vor fi prezentați în următoarele săptămâni\, așa încât surprizele să se țină lanț! \nÎn fiecare an vă surprindem cu un nou repertoriu\, noi invitați speciali și coregrafii spectaculoase\, astfel încât fiecare REGAL VIENEZ să rămână unul memorabil!
URL:https://craiovalive.ro/eveniment/regal-vienez-concert-extraordinar-de-craciun-craiova-2025/2025-12-11/1/
LOCATION:Teatrul Național Marin Sorescu Craiova\, Str. A. I. Cuza\, nr. 11\, Craiova\, Dolj\, 200585\, România
CATEGORIES:Muzică
ATTACH;FMTTYPE=image/png:https://craiovalive.ro/wp-content/uploads/2025/07/Regal-Vienez-–-Concert-Extraordinar-de-Craciun-Craiova-2025.png
GEO:44.318967618949;23.799117766692
X-APPLE-STRUCTURED-LOCATION;VALUE=URI;X-ADDRESS=Teatrul Național Marin Sorescu Craiova Str. A. I. Cuza nr. 11 Craiova Dolj 200585 România;X-APPLE-RADIUS=500;X-TITLE=Str. A. I. Cuza\, nr. 11:geo:23.799117766692,44.318967618949
END:VEVENT
BEGIN:VEVENT
DTSTART;TZID=Europe/Bucharest:20251211T180000
DTEND;TZID=Europe/Bucharest:20251211T190000
DTSTAMP:20260424T184439
CREATED:20251208T091032Z
LAST-MODIFIED:20251208T143817Z
UID:10012606-1765476000-1765479600@craiovalive.ro
SUMMARY:Blue Note Trio - De la Mozart la Gershwin
DESCRIPTION:JOI\, 11 DECEMBRIE 2025\, ORA 18:00 – Muzeul de Artă – Centrul „Constantin Brâncuși”Concert cameral„De la Mozart la Gershwin”BLUE NOTE TRIOBOGDAN UȚĂ\, LIVIU CHISĂR\, EUGEN DUMINICĂ (clarinete\, saxofoane)
URL:https://craiovalive.ro/eveniment/blue-note-trio-de-la-mozart-la-gershwin/
LOCATION:Centrul Constantin Brâncuși\, Calea Unirii\, nr. 15\, Craiova\, Dolj\, România
CATEGORIES:Muzică
ATTACH;FMTTYPE=image/png:https://craiovalive.ro/wp-content/uploads/2025/12/Blue-Note-Trio-De-la-Mozart-la-Gershwin.png
ORGANIZER;CN="Filarmonica Oltenia Craiova":MAILTO:secretariat@filarmonica-oltenia.ro
GEO:44.318902447163;23.795509159946
X-APPLE-STRUCTURED-LOCATION;VALUE=URI;X-ADDRESS=Centrul Constantin Brâncuși Calea Unirii nr. 15 Craiova Dolj România;X-APPLE-RADIUS=500;X-TITLE=Calea Unirii\, nr. 15:geo:23.795509159946,44.318902447163
END:VEVENT
BEGIN:VEVENT
DTSTART;TZID=Europe/Bucharest:20251211T200000
DTEND;TZID=Europe/Bucharest:20251211T213000
DTSTAMP:20260424T184439
CREATED:20250707T205452Z
LAST-MODIFIED:20251030T220249Z
UID:10007723-1765483200-1765488600@craiovalive.ro
SUMMARY:Regal Vienez – Concert Extraordinar de Crăciun Craiova 2025
DESCRIPTION:SPECTACOL EXTRAORDINAR DE CRĂCIUN – 200 DE ANI DE LA NAȘTEREA LUI JOHANN STRAUSS. \nINSTRUMENTIȘTI DIN DOUĂ ORCHESTRE CELEBRE DIN EUROPA \nORCHESTRA DI TEATRO D’OPERA ITALIANA\, una dintre cele mai celebre orchestre din Europa\, a fost aplaudată pe marile scene de operă și filarmonice din toată lumea. Este de ajuns să amintim câteva scene de tradiție: Brucknerhaus Linz (Filarmonica din Linz)\, Bregenz Festspielhaus (Filarmonica din Bregenz)\, Brunnenhof der Residenz München (Palatul Imperial din München)\, Palatul Hofburg din Viena\, Stadthalle Viena\, Meistersingershalle Nürnberg\, Kasemattenbuehne Graz\, etc. \nRecunoașterea orchestrei este dată și de colaborările cu mari nume ale liricii mondiale\, soliști și dirijori de la Arena din Verona\, Teatrul Scala din Milano\, Teatrul de Operă din Roma\, Opera de Stat din Viena\, etc. \nMembrilor Orchestrei di Teatro D’Opera Italiana li se alătură și artiști instrumentiști din ORCHESTRA OPEREI VOX\, cunoscută și apreciată la nivel național și internațional. Este un concept nou în România\, când artiști instrumentiști din două orchestre de prim rang din Europa își dau mâna pentru a oferi publicului seri memorabile și experiențe muzicale unice. \nDE LA JOHANN STRAUSS LA BOGDAN COSTACHE SAU DESPRE MODELUL VIENEZ AL DIRIJATULUI CU VIOARA ÎN MÂNĂ! \nConducerea muzicală a spectacolului va fi asigurată de tânărul dirijor și solist violinist BOGDAN COSTACHE și\, astfel\, soliștii și instrumentiștii invitați din Viena\, Italia\, Elveția\, Germania\, vor evolua sub bagheta unuia dintre cei mai talentați conducători de orchestră ai tinerei generații\, născut în România! Prezența lui BOGDAN COSTACHE în programul REGALULUI VIENEZ din acest an se datorează dumneavoastră\, publicului spectator care îl îndrăgiți deja atât de mult și v-ați arătat impresionați de prestația lui\, dorindu-vă să-l revedeți cât mai curând. Astfel\, spectacolul va fi unul interactiv\, dirijat „cu vioara în mână” după modelul lui JOHANN STRAUSS sau\, mai nou\, al lui ANDRE RIEU. \nȘi în acest an\, Bogdan vă va surprinde cu multe piese în prima audiție națională. Nelipsită va fi și muzica românească\, piese românești demult uitate\, dar și minunatele colinde românești. \nSPECTACOLUL VA FI DESĂVÂRȘIT DE CORUL ȘI BALETUL OPEREI VOX \nMembrilor orchestrei li se adaugă ANSAMBLUL DE BALET AL OPEREI VOX cu momentele mult așteptate de valsuri\, polci\, can-can\, într-o coregrafie efervescentă și antrenată semnată de Vlad Sebastian\, astfel încât veți fi poftiți la dans de însăși orchestrele noastre și balerinii noștri\, prin celebrul „Alles Walzer!” \nFrumoasele colinde și cântece de Crăciun vor străluci și prin vocile CORULUI OPEREI VOX. Și în acest an vă veți bucura și de colindele noastre tradiționale românești. \nTINERI ROMÂNI TALENTAȚI LA ÎNCEPUT DE DRUM! \nNe asumăm misiunea în fiecare an de a aduce în fața dumneavoastră și de a promova tineri muzicieni români deosebit de talentați\, la început de carieră\, dar care au câștigat deja premii la concursuri muzicale naționale și internaționale. Anul acesta va evolua alături de orchestra noastră foarte tânărul chitarist Gabriel Popescu\, alături de profesorul și îndrumătorul lui Mădălin Antonesei. \nBALUL VIENEZ ÎN ORAȘUL DUMNEAVOASTRĂ! \nAtmosfera și spiritul vienez vă vor cuceri încă de la intrarea în sala de spectacol și vă vor rămâne în suflet ca o amintire vie pentru Crăciunul și Anul Nou ce vor urma. Dacă nu puteți ajunge la concertele de Crăciun și Anul Nou de la Viena\, aducem noi spiritul vienez în orașul dumneavoastră prin cele mai frumoase capodopere muzicale vieneze ale dinastiei Strauss\, Franz Lehar\, Emmerich Kalman și multe\, multe alte surprize muzicale și coregrafice. \nSoliștii invitați din Austria\, Italia și Elveția vor fi prezentați în următoarele săptămâni\, așa încât surprizele să se țină lanț! \nÎn fiecare an vă surprindem cu un nou repertoriu\, noi invitați speciali și coregrafii spectaculoase\, astfel încât fiecare REGAL VIENEZ să rămână unul memorabil!
URL:https://craiovalive.ro/eveniment/regal-vienez-concert-extraordinar-de-craciun-craiova-2025/2025-12-11/2/
LOCATION:Teatrul Național Marin Sorescu Craiova\, Str. A. I. Cuza\, nr. 11\, Craiova\, Dolj\, 200585\, România
CATEGORIES:Muzică
ATTACH;FMTTYPE=image/png:https://craiovalive.ro/wp-content/uploads/2025/07/Regal-Vienez-–-Concert-Extraordinar-de-Craciun-Craiova-2025.png
GEO:44.318967618949;23.799117766692
X-APPLE-STRUCTURED-LOCATION;VALUE=URI;X-ADDRESS=Teatrul Național Marin Sorescu Craiova Str. A. I. Cuza nr. 11 Craiova Dolj 200585 România;X-APPLE-RADIUS=500;X-TITLE=Str. A. I. Cuza\, nr. 11:geo:23.799117766692,44.318967618949
END:VEVENT
BEGIN:VEVENT
DTSTART;TZID=Europe/Bucharest:20251212T180000
DTEND;TZID=Europe/Bucharest:20251212T190000
DTSTAMP:20260424T184439
CREATED:20251208T091249Z
LAST-MODIFIED:20251208T091249Z
UID:10012607-1765562400-1765566000@craiovalive.ro
SUMMARY:Concert de colinde - dirijor Pavel Șopov
DESCRIPTION:VINERI 12 DECEMBRIE 2025 – ORA 18:00/ Banca Națională a României – CraiovaCONCERT de COLINDECORALA ACADEMICĂ A FILARMONICII OLTENIADirijor: Pavel ȘOPOV\n Bilete\, la Filarmonică sau online. Prețuri: 40 lei | 15 lei (elevi\, studenți\, seniori) 0251 414 698 | Luni–Vineri\, 10:00–18:00\nConcertul nu este inclus în Abonamentul Melomanului.
URL:https://craiovalive.ro/eveniment/concert-de-colinde-dirijor-pavel-sopov/
LOCATION:Dolj
CATEGORIES:Muzică
ATTACH;FMTTYPE=image/jpeg:https://craiovalive.ro/wp-content/uploads/2025/12/Concert-de-colinde-dirijor-Pavel-Sopov.jpg
ORGANIZER;CN="Filarmonica Oltenia Craiova":MAILTO:secretariat@filarmonica-oltenia.ro
END:VEVENT
BEGIN:VEVENT
DTSTART;TZID=Europe/Bucharest:20251212T190000
DTEND;TZID=Europe/Bucharest:20251212T203000
DTSTAMP:20260424T184439
CREATED:20251208T092104Z
LAST-MODIFIED:20251208T092104Z
UID:10012608-1765566000-1765571400@craiovalive.ro
SUMMARY:Concert vocal simfonic De la romantic la contemporan\, dirijor Matei Pop / Craiova Muzicală 2025
DESCRIPTION:VINERI\, 12 DECEMBRIE 2025\, ORA 19:00/ CRAIOVA MUZICALĂ 52 De la ROMANTIC la CONTEMPORANORCHESTRA SIMFONICĂ A FILARMONICII “OLTENIA”– DIRIJOR: MATEI POP– SOLIST: MIHAI DIACONESCU (pian)Dirijor cor: Pavel ȘOPOVÎn program:– Ghenadie Ciobanu: Muntele (primă audiție)– Camille Saint-Saëns: Concertul nr. 2 în Sol minor pentru pian și orchestră\, op. 22– Robert Schumann: Simfonia nr. 4 în Re minor\, op. 120
URL:https://craiovalive.ro/eveniment/concert-vocal-simfonic-de-la-romantic-la-contemporan-dirijor-matei-pop-craiova-muzicala-2025/
LOCATION:Filarmonica Oltenia\, Calea Unirii\, nr. 16\, Craiova\, Dolj\, 200585\, România
CATEGORIES:Muzică
ATTACH;FMTTYPE=image/jpeg:https://craiovalive.ro/wp-content/uploads/2025/12/Concert-vocal-simfonic-De-la-romantic-la-contemporan-dirijor-Matei-Pop.jpg
ORGANIZER;CN="Filarmonica Oltenia Craiova":MAILTO:secretariat@filarmonica-oltenia.ro
GEO:44.3172308;23.7944364
X-APPLE-STRUCTURED-LOCATION;VALUE=URI;X-ADDRESS=Filarmonica Oltenia Calea Unirii nr. 16 Craiova Dolj 200585 România;X-APPLE-RADIUS=500;X-TITLE=Calea Unirii\, nr. 16:geo:23.7944364,44.3172308
END:VEVENT
BEGIN:VEVENT
DTSTART;TZID=Europe/Bucharest:20251212T193000
DTEND;TZID=Europe/Bucharest:20251212T210000
DTSTAMP:20260424T184439
CREATED:20241224T130931Z
LAST-MODIFIED:20250703T152307Z
UID:10003783-1765567800-1765573200@craiovalive.ro
SUMMARY:Direcția 5 - Seducție Live Tour 2025
DESCRIPTION:În 2025\, Direcția 5 pornește în turneul național “Seducție”.\n\n\nPregătiți-vă să ascultați cântece de pe albumele “La vulturul de  mare cu peștele în ghiare”\, “Pantofi de lac”\, “Seducție” \, „In Di Anka Live”. Garantat o să vă placă. Vom readuce în atenția voastră cântece din anii 1991-1994\, cele mai heavy + baladele noastre rock\, încă în sufletele voastre! ❤️ \nAccesul copiilor cu vârsta de până la 12 ani însoțiți de părinți este gratuit. \n“Orice muzică ați asculta\, a noastră este diferită!”
URL:https://craiovalive.ro/eveniment/directia-5-seductie-live-tour-2025/
LOCATION:Filarmonica Oltenia\, Calea Unirii\, nr. 16\, Craiova\, Dolj\, 200585\, România
CATEGORIES:Muzică
ATTACH;FMTTYPE=image/jpeg:https://craiovalive.ro/wp-content/uploads/2024/12/Directia-5-Seductie-Live-Tour-2025-la-Craiova.jpg
GEO:44.3172308;23.7944364
X-APPLE-STRUCTURED-LOCATION;VALUE=URI;X-ADDRESS=Filarmonica Oltenia Calea Unirii nr. 16 Craiova Dolj 200585 România;X-APPLE-RADIUS=500;X-TITLE=Calea Unirii\, nr. 16:geo:23.7944364,44.3172308
END:VEVENT
BEGIN:VEVENT
DTSTART;TZID=Europe/Bucharest:20251213T150000
DTEND;TZID=Europe/Bucharest:20251213T170000
DTSTAMP:20260424T184439
CREATED:20251212T145659Z
LAST-MODIFIED:20251212T145659Z
UID:10012636-1765638000-1765645200@craiovalive.ro
SUMMARY:„Alaiul Datinilor – Din bătrâni\, din oameni buni“
DESCRIPTION:Sâmbătă\, 13 decembrie 2025\, cu începere de la ora 15:00\, în sala de spectacole a Cercului Militar Craiova se va desfășura proiectul cultural „Alaiul Datinilor – Din bătrâni\, din oameni buni“. Organizat de Centrul Județean de Cultură și Artă Dolj – Secția pentru Conservarea și Promovarea Culturii Tradiționale și sub patronajul Consiliului Județean Dolj\, proiectul este menit să promoveze tradițiile și obiceiurile de iarnă\, ritualul colindatului\, colindul arhaic și cel religios dar și forme ale acestuia adaptate culturii contemporane și interpretării de către grupuri și ansambluri reprezentative ale Olteniei. \nGrupurile și ansamblurile folclorice prezente la „Alaiul Datinilor – Din bătrâni\, din oameni buni“ sunt din județul nostru dar și celelalte zone ale Olteniei cu o puternică reprezentare folclorică. Pe lângă colindele religioase și laice specifice perioadei premergătoare Crăciunului\, cele de ceată și variante ale cântecelor de stea\, obiceiuri și ritualuri specifice ca „Plugușorul“\, „Capra“\, „Steaua“\, „Datul la grindă“\, „Scormonitul în foc“\, toate vor fi regăsite în proiectul nostru. \nVă așteptăm cu drag să trăiți alături de noi tradiția colindatului autentic românesc!
URL:https://craiovalive.ro/eveniment/alaiul-datinilor-din-batrani-din-oameni-buni/
LOCATION:Cercul Militar Craiova\, Str. Marin Sorescu\, nr. 2\, Craiova\, Dolj\, 200642\, România
CATEGORIES:Muzică
ATTACH;FMTTYPE=image/jpeg:https://craiovalive.ro/wp-content/uploads/2025/12/Alaiul-Datinilor-–-Din-batrani-din-oameni-buni-2025.jpeg
ORGANIZER;CN="Centrul Jude%C8%9Bean de Cultur%C4%83 %C8%99i Art%C4%83 Dolj - Sec%C8%9Bia pentru Conservarea %C5%9Fi Promovarea Culturii Tradi%C8%9Bionale Dolj":MAILTO:ccpdolj@yahoo.com
GEO:44.308454;23.7956757
X-APPLE-STRUCTURED-LOCATION;VALUE=URI;X-ADDRESS=Cercul Militar Craiova Str. Marin Sorescu nr. 2 Craiova Dolj 200642 România;X-APPLE-RADIUS=500;X-TITLE=Str. Marin Sorescu\, nr. 2:geo:23.7956757,44.308454
END:VEVENT
BEGIN:VEVENT
DTSTART;TZID=Europe/Bucharest:20251213T190000
DTEND;TZID=Europe/Bucharest:20251213T210000
DTSTAMP:20260424T184439
CREATED:20241018T191051Z
LAST-MODIFIED:20251208T140001Z
UID:10001720-1765652400-1765659600@craiovalive.ro
SUMMARY:FUEGO - Iarna colindelor mele
DESCRIPTION:PAUL SURUGIU-FUEGO – ”IARNA COLINDELOR MELE ” – concert extraordinar de colinde și cântece de Crăciun \n13 Decembrie 2025 ora 19:00 \nFilarmonica Oltenia Craiova \nSe apropie sărbătorile și tradiția spune\, de 19 ani\, că artistul iubit\, Paul Surugiu Fuego\, pornește la drum în deja cunoscutul său turneu național de colinde. Deja anul acesta este mult mai complicat de organizat spectacole\, după măririle de taxe aferente organizărilor\, artistul vrea să ajungă la publicul său. Astfel\, el propune anul acesta un spectacol-sărbătoare\, o poveste prin care\, două ore\, uiți de toate și devii una cu muzica sărbătorii și cu celebrele sale piese\, atât de apreciate în ultimii 25 de ani. Fuego nu colindă tradițional\, el propune poezie\, imagini\, emoții\, dar și voie bună\, destindere\, relaxare. Va cânta parte din cele mai cunoscute melodii\, nu va lipsi nici ”Bradul” și nici glumele care vin la pachet cu starea sa de bine. \nPublicul se va emoționa la teme despre părinți\, despre reîntoarcerea acasă\, dar și la colinde tradiționale\, la sonorități aparte și orchestrații pe măsură. Spectacolul are în prim plan bucuria care ne cuprinde pe toti atunci când se aproprie Crăciunul\, fiind conștienți că ar fi o mare veselie în lume dacă ar fi Crăciun în fiecare zi! \nMelodii precum ”Vals de Crăciun”\, ”Colindă pentru părinți”\, ”Atâta-i colinda”\, ”La mulți ani\, e noaptea de Crăciun”\, ”E vremea colindelor” sau celebra ”Împodobește\, mamă\, bradul” vor răsuna pe scena\, într-un concert bazat pe interpretare\, pe suflet\, pe recitări și versuri înalte și o întreagă stare de bine. Nu ratați așadar\, evenimentul iernii\, alături de Paul Surugiu-Fuego și band-ul său! \n” Anul acesta propun stare de bine\, într-o iarnă aparte\, pentru care-mi doresc fără menajamente să aibă coloana sonoră a colindelor mele! Va fi un concert cu piese mai noi și mai vechi\, cu echipa mea\, cu emoție\, dar și cu mult râs\, cu seninătate și cu valori aparte\, despre care o să vă povestesc! Crăciunul nu este altceva decât bucuria de a fi împreună și eu vreau ca toată luna decembrie\, pe oriunde ajung\, să fim împreună și să înțelegem iar\, mai bine și mai profund\, esența acestei sărbători pe care o cânt de mai bine de 25 de ani! Vă aștept cu tot dragul la sala de spectacole\, cu sufletul meu de colindă!” (Paul Surugiu Fuego) 
URL:https://craiovalive.ro/eveniment/fuego-iarna-colindelor-mele/
LOCATION:Filarmonica Oltenia\, Calea Unirii\, nr. 16\, Craiova\, Dolj\, 200585\, România
CATEGORIES:Muzică
ATTACH;FMTTYPE=image/jpeg:https://craiovalive.ro/wp-content/uploads/2024/10/FUEGO-Iarna-colindelor-mele.jpeg
GEO:44.3172308;23.7944364
X-APPLE-STRUCTURED-LOCATION;VALUE=URI;X-ADDRESS=Filarmonica Oltenia Calea Unirii nr. 16 Craiova Dolj 200585 România;X-APPLE-RADIUS=500;X-TITLE=Calea Unirii\, nr. 16:geo:23.7944364,44.3172308
END:VEVENT
BEGIN:VEVENT
DTSTART;TZID=Europe/Bucharest:20251214T180000
DTEND;TZID=Europe/Bucharest:20251214T200000
DTSTAMP:20260424T184439
CREATED:20251208T134116Z
LAST-MODIFIED:20251208T134116Z
UID:10012622-1765735200-1765742400@craiovalive.ro
SUMMARY:Daruri din inimă
DESCRIPTION: DARURI DIN INIMĂ – Poveste în Ajun de Crăciun Generația Folk vă invită la concertul caritabil din acest an! Copiii și tinerii noștri talentați au început repetițiile de mult timp și abia așteaptă să urce pe scenă și să vă dăruiască cântecele lor.\n Pe 14 decembrie\, la Filarmonica Oltenia Craiova\, vă invităm să trăim împreună o seară de poveste\, plină de colinde\, emoție și bucurie\, într-un spectacol dedicat întregii familii.\n 14 decembrie 2025 |  Ora 18:00 Filarmonica Oltenia Craiova Detalii și invitații: 0722 161 706
URL:https://craiovalive.ro/eveniment/daruri-din-inima/
LOCATION:Filarmonica Oltenia\, Calea Unirii\, nr. 16\, Craiova\, Dolj\, 200585\, România
CATEGORIES:Muzică
ATTACH;FMTTYPE=image/jpeg:https://craiovalive.ro/wp-content/uploads/2025/12/Daruri-din-inima.jpg
GEO:44.3172308;23.7944364
X-APPLE-STRUCTURED-LOCATION;VALUE=URI;X-ADDRESS=Filarmonica Oltenia Calea Unirii nr. 16 Craiova Dolj 200585 România;X-APPLE-RADIUS=500;X-TITLE=Calea Unirii\, nr. 16:geo:23.7944364,44.3172308
END:VEVENT
END:VCALENDAR