BEGIN:VCALENDAR
VERSION:2.0
PRODID:-//Craiova Live - ECPv6.15.18//NONSGML v1.0//EN
CALSCALE:GREGORIAN
METHOD:PUBLISH
X-WR-CALNAME:Craiova Live
X-ORIGINAL-URL:https://craiovalive.ro
X-WR-CALDESC:Evenimente pentru Craiova Live
REFRESH-INTERVAL;VALUE=DURATION:PT1H
X-Robots-Tag:noindex
X-PUBLISHED-TTL:PT1H
BEGIN:VTIMEZONE
TZID:Europe/Bucharest
BEGIN:DAYLIGHT
TZOFFSETFROM:+0200
TZOFFSETTO:+0300
TZNAME:EEST
DTSTART:20240331T010000
END:DAYLIGHT
BEGIN:STANDARD
TZOFFSETFROM:+0300
TZOFFSETTO:+0200
TZNAME:EET
DTSTART:20241027T010000
END:STANDARD
BEGIN:DAYLIGHT
TZOFFSETFROM:+0200
TZOFFSETTO:+0300
TZNAME:EEST
DTSTART:20250330T010000
END:DAYLIGHT
BEGIN:STANDARD
TZOFFSETFROM:+0300
TZOFFSETTO:+0200
TZNAME:EET
DTSTART:20251026T010000
END:STANDARD
BEGIN:DAYLIGHT
TZOFFSETFROM:+0200
TZOFFSETTO:+0300
TZNAME:EEST
DTSTART:20260329T010000
END:DAYLIGHT
BEGIN:STANDARD
TZOFFSETFROM:+0300
TZOFFSETTO:+0200
TZNAME:EET
DTSTART:20261025T010000
END:STANDARD
END:VTIMEZONE
BEGIN:VEVENT
DTSTART;TZID=Europe/Bucharest:20251010T100000
DTEND;TZID=Europe/Bucharest:20251010T170000
DTSTAMP:20260424T183154
CREATED:20251007T203759Z
LAST-MODIFIED:20251009T112050Z
UID:10010287-1760090400-1760115600@craiovalive.ro
SUMMARY:Ziua Națională a Produselor Agroalimentare Românești 2025
DESCRIPTION:Ziua Națională a Produselor Agroalimentare Românești te așteaptă vineri\, 10 octombrie 2025\, de la ora 10.00\, în Piața Centrală din Craiova! \n\n\n Spectacol folcloric cu artiștii Teatrului pentru Copii și Tineret „Colibri” – Secția Folclor „Maria Tănase”: Constantin Enceanu\, Lavinia Bîrsoghe\, Cristian Bănățeanu\, Liliana Popa\, Manuela Motocu\, Marius Măgureanu\, Aneta Șișu și Liviu Dică.\n\n\n Găsești produse hand-made\, miere\, dulciuri tradiționale\, lavandă\, preparate din carne\, pâine în țest și multe alte bunătăți locale!\n\n\nHai să celebrăm tradițiile și gustul autentic românesc!
URL:https://craiovalive.ro/eveniment/ziua-nationala-a-produselor-agroalimentare-romanesti-2025/
LOCATION:Dolj
CATEGORIES:Gastronomie,Muzică,Târguri
ATTACH;FMTTYPE=image/jpeg:https://craiovalive.ro/wp-content/uploads/2025/10/Ziua-Nationala-a-Produselor-Agroalimentare-Romanesti.jpg
ORGANIZER;CN="Prim%C4%83ria Municipiului Craiova":MAILTO:imaginecv@primariacraiova.ro
END:VEVENT
BEGIN:VEVENT
DTSTART;TZID=Europe/Bucharest:20251010T190000
DTEND;TZID=Europe/Bucharest:20251010T203000
DTSTAMP:20260424T183154
CREATED:20251006T081154Z
LAST-MODIFIED:20251006T081154Z
UID:10010277-1760122800-1760128200@craiovalive.ro
SUMMARY:Concert simfonic Sense & Sensibility
DESCRIPTION:VINERI\, 10 OCTOMBRIE 2025\, ORA 19:00SENSE & SENSIBILITYSCHUMANN & BRAHMSConcert simfonicORCHESTRA SIMFONICĂ A FILARMONICII „OLTENIA”DIRIJOR: SVILEN SIMEONOV (BULGARIA)SOLIST: PER ENFLO (pian\, SUEDIA)În program:Robert Schumann: Concertul în La minor pentru pian și orchestră\, op. 54Johannes Brahms: Simfonia nr. 4 în Mi minor\, op. 98
URL:https://craiovalive.ro/eveniment/concert-simfonic-sense-sensibility/
LOCATION:Filarmonica Oltenia\, Calea Unirii\, nr. 16\, Craiova\, Dolj\, 200585\, România
CATEGORIES:Muzică
ATTACH;FMTTYPE=image/jpeg:https://craiovalive.ro/wp-content/uploads/2025/10/Concert-simfonic-Sense-Sensibility.jpg
ORGANIZER;CN="Filarmonica Oltenia Craiova":MAILTO:secretariat@filarmonica-oltenia.ro
GEO:44.3172308;23.7944364
X-APPLE-STRUCTURED-LOCATION;VALUE=URI;X-ADDRESS=Filarmonica Oltenia Calea Unirii nr. 16 Craiova Dolj 200585 România;X-APPLE-RADIUS=500;X-TITLE=Calea Unirii\, nr. 16:geo:23.7944364,44.3172308
END:VEVENT
BEGIN:VEVENT
DTSTART;TZID=Europe/Bucharest:20251010T193000
DTEND;TZID=Europe/Bucharest:20251010T213000
DTSTAMP:20260424T183154
CREATED:20250823T193236Z
LAST-MODIFIED:20250823T193236Z
UID:10007939-1760124600-1760131800@craiovalive.ro
SUMMARY:Omul cu Șobolani | FRAC’n’ROLL Craiova
DESCRIPTION:Toamna asta\, Omul cu Șobolani se îmbracă în frac!\nOCS se aruncă într-un turneu național cu totul altfel\, prin 6 orașe\, alături de gașca Fourtissimo Quartett – un cvartet de tineri nebuni frumoși de Conservator.\nNe-am gândit să ne jucăm puțin cu piesele noastre: două viori + două violoncele = Șobolani în haine de gală. Cele mai tari hituri OCS o să sune cu totul nou\, între riffuri rock și aranjamente clasice puse cu suflet.\nVa fi un mix nebun\, o combinație de energie șobolănească și eleganță clasică – ceva ce nici noi\, nici voi n-am mai trăit până acum!\nPROGRAM:• concert ora 20:30• acces de la 19:00\nBILETE:• Early-bird: 99 lei (primele 100 de bilete)• Presale: 129 lei (urmatoarele bilete\, pana pe 9 octombrie ora 23:59)• Acces general: 149 lei (din 10 octombrie ora 00:00)\nTurneul „FRAC’n’ROLL” va incepe in Craiova\, pe 10 octombrie\, va continua in Timisoara\, Iasi\, Cluj\, Brasov si se va incheia in Bucuresti in luna noiembrie.Da\, da\, da! Ia-ti bocancii\, pune-ti fracul si hai la concert!
URL:https://craiovalive.ro/eveniment/omul-cu-sobolani-fracnroll-craiova/
LOCATION:Casa de Cultură a Studenților Craiova\, Str. Eugeniu Carada\, nr. 10\, Craiova\, Dolj\, 200390\, România
CATEGORIES:Muzică
ATTACH;FMTTYPE=image/webp:https://craiovalive.ro/wp-content/uploads/2025/08/Omul-cu-Sobolani-FRACnROLL-Craiova.webp
GEO:44.3158109;23.8003284
X-APPLE-STRUCTURED-LOCATION;VALUE=URI;X-ADDRESS=Casa de Cultură a Studenților Craiova Str. Eugeniu Carada nr. 10 Craiova Dolj 200390 România;X-APPLE-RADIUS=500;X-TITLE=Str. Eugeniu Carada\, nr. 10:geo:23.8003284,44.3158109
END:VEVENT
BEGIN:VEVENT
DTSTART;TZID=Europe/Bucharest:20251012T200000
DTEND;TZID=Europe/Bucharest:20251012T230000
DTSTAMP:20260424T183154
CREATED:20250928T154331Z
LAST-MODIFIED:20250928T154331Z
UID:10010263-1760299200-1760310000@craiovalive.ro
SUMMARY:SPP Live @ Biergarten
DESCRIPTION:Pe 12 octombrie ne vedem la Biergarten Craiova pentru o ceremonie de descătușare bombastică în toamna SPP
URL:https://craiovalive.ro/eveniment/spp-live-biergarten-2/
LOCATION:Biergarten\, Str. Fraţii Buzeşti nr. 18\, Craiova\, Dolj\, 200381\, România
CATEGORIES:Muzică
ATTACH;FMTTYPE=image/jpeg:https://craiovalive.ro/wp-content/uploads/2025/09/SPP-Live-@-Biergarten-2025.jpg
GEO:44.314387198457;23.799027336713
X-APPLE-STRUCTURED-LOCATION;VALUE=URI;X-ADDRESS=Biergarten Str. Fraţii Buzeşti nr. 18 Craiova Dolj 200381 România;X-APPLE-RADIUS=500;X-TITLE=Str. Fraţii Buzeşti nr. 18:geo:23.799027336713,44.314387198457
END:VEVENT
END:VCALENDAR