BEGIN:VCALENDAR
VERSION:2.0
PRODID:-//Craiova Live - ECPv6.15.18//NONSGML v1.0//EN
CALSCALE:GREGORIAN
METHOD:PUBLISH
X-ORIGINAL-URL:https://craiovalive.ro
X-WR-CALDESC:Evenimente pentru Craiova Live
REFRESH-INTERVAL;VALUE=DURATION:PT1H
X-Robots-Tag:noindex
X-PUBLISHED-TTL:PT1H
BEGIN:VTIMEZONE
TZID:Europe/Bucharest
BEGIN:DAYLIGHT
TZOFFSETFROM:+0200
TZOFFSETTO:+0300
TZNAME:EEST
DTSTART:20240331T010000
END:DAYLIGHT
BEGIN:STANDARD
TZOFFSETFROM:+0300
TZOFFSETTO:+0200
TZNAME:EET
DTSTART:20241027T010000
END:STANDARD
BEGIN:DAYLIGHT
TZOFFSETFROM:+0200
TZOFFSETTO:+0300
TZNAME:EEST
DTSTART:20250330T010000
END:DAYLIGHT
BEGIN:STANDARD
TZOFFSETFROM:+0300
TZOFFSETTO:+0200
TZNAME:EET
DTSTART:20251026T010000
END:STANDARD
BEGIN:DAYLIGHT
TZOFFSETFROM:+0200
TZOFFSETTO:+0300
TZNAME:EEST
DTSTART:20260329T010000
END:DAYLIGHT
BEGIN:STANDARD
TZOFFSETFROM:+0300
TZOFFSETTO:+0200
TZNAME:EET
DTSTART:20261025T010000
END:STANDARD
END:VTIMEZONE
BEGIN:VEVENT
DTSTART;TZID=Europe/Bucharest:20250930T200000
DTEND;TZID=Europe/Bucharest:20250930T213000
DTSTAMP:20260424T145344
CREATED:20250815T195719Z
LAST-MODIFIED:20250815T195719Z
UID:10007925-1759262400-1759267800@craiovalive.ro
SUMMARY:Florin Ristei - Turneu Național
DESCRIPTION:Backstage – Florin Ristei \nUn turneu aniversar\, cu emoție și energie\, care marchează cei 25 de ani de la debutul în muzică al lui Florin Ristei\, odată cu hitul Dana. \n“Backstage” te invită într-o incursiune intimă prin culisele unei cariere spectaculoase – de la începuturi până la prezent – cu povești\, momente speciale și muzică live\, exact așa cum nu ai mai văzut-o niciodată.
URL:https://craiovalive.ro/eveniment/florin-ristei-turneu-national/
LOCATION:Filarmonica Oltenia\, Calea Unirii\, nr. 16\, Craiova\, Dolj\, 200585\, România
CATEGORIES:Muzică
ATTACH;FMTTYPE=image/png:https://craiovalive.ro/wp-content/uploads/2025/08/Florin-Ristei-Turneu-National-la-Craiova.png
GEO:44.3172308;23.7944364
X-APPLE-STRUCTURED-LOCATION;VALUE=URI;X-ADDRESS=Filarmonica Oltenia Calea Unirii nr. 16 Craiova Dolj 200585 România;X-APPLE-RADIUS=500;X-TITLE=Calea Unirii\, nr. 16:geo:23.7944364,44.3172308
END:VEVENT
BEGIN:VEVENT
DTSTART;TZID=Europe/Bucharest:20251001T190000
DTEND;TZID=Europe/Bucharest:20251001T210000
DTSTAMP:20260424T145344
CREATED:20250918T163006Z
LAST-MODIFIED:20250927T142031Z
UID:10010128-1759345200-1759352400@craiovalive.ro
SUMMARY:Recital de pian Mihai Diaconescu - Ziua Internațională a Muzicii
DESCRIPTION: Muzica prinde viață!\nMIERCURI\, 1 OCTOMBRIE 2025\, ORA 19:00La Muzeul de Artă\, sărbătorim ZIUA INTERNAȚIONALĂ A MUZICII cu un recital de pian susținut de MIHAI DIACONESCU.\nÎn program:• Franz Schubert – Impromptu nr. 1\, 2\, 3 și 4• Johannes Brahms – Rapsodia nr. 1 și nr. 2• Franz Liszt – Rapsodia ungară nr. 11 și nr. 12\n Recitalul este inclus în abonament. Bilete disponibile la Filarmonică (luni – vineri\, 10:00–14:00) sau online\, pe entertix.\nO seară de muzică de cameră care ne aduce mai aproape de emoția pură.
URL:https://craiovalive.ro/eveniment/recital-de-pian-mihai-diaconescu/
LOCATION:Filarmonica Oltenia\, Calea Unirii\, nr. 16\, Craiova\, Dolj\, 200585\, România
CATEGORIES:Muzică
ATTACH;FMTTYPE=image/jpeg:https://craiovalive.ro/wp-content/uploads/2025/09/Recital-de-Pian-Mihai-Diaconescu.jpg
ORGANIZER;CN="Filarmonica Oltenia Craiova":MAILTO:secretariat@filarmonica-oltenia.ro
GEO:44.3172308;23.7944364
X-APPLE-STRUCTURED-LOCATION;VALUE=URI;X-ADDRESS=Filarmonica Oltenia Calea Unirii nr. 16 Craiova Dolj 200585 România;X-APPLE-RADIUS=500;X-TITLE=Calea Unirii\, nr. 16:geo:23.7944364,44.3172308
END:VEVENT
BEGIN:VEVENT
DTSTART;TZID=Europe/Bucharest:20251003T190000
DTEND;TZID=Europe/Bucharest:20251003T203000
DTSTAMP:20260424T145344
CREATED:20250914T173100Z
LAST-MODIFIED:20250914T173100Z
UID:10009727-1759518000-1759523400@craiovalive.ro
SUMMARY:Cătălin Stepa și Aurelian Epuraș - Sinestezii IV
DESCRIPTION:Cătălin Stepa și Aurelian Epuraș (pian) prezintă proiectul muzical SINESTEZII IV la Ribs House (Strada Basarabia 21c\, Craiova 200212). \nSINESTEZII prezintă cântecele de referință ale lui Cătălin Stepa\, „Cum voi trăi” „Ce eram”\, „Poezie naivă”\, „Cerul rubin”\, „Am fost”\, „N-ai tu”\, „Gelozie” și multe altele care au apărut pe albumele „Ea vine joi” – 2018 și „Despre aripi și zbor” – 2025.\n\n\nMuzica lui Cătălin Stepa va fi interpretată într-o manieră nouă\, alături de Aurelian Epuraș la pian\, într-un concept plin de prospețime și profunzime. \nDupă succesul turneelor anterioare în această formulă\, „Sinestezii” revine în toamna anului 2025\, cu un miniturneu național în: Râmnicu Vâlcea\, Craiova\, Sibiu\, Zalău\, Cluj -Napoca\, București\, Constanța\, Arad\, Timișoara și Petroșani.
URL:https://craiovalive.ro/eveniment/catalin-stepa-si-aurelian-epuras-sinestezii-iv/
LOCATION:Dolj
CATEGORIES:Muzică
ATTACH;FMTTYPE=image/jpeg:https://craiovalive.ro/wp-content/uploads/2025/09/Catalin-Stepa-si-Aurelian-Epuras-Sinestezii-IV.jpg
END:VEVENT
BEGIN:VEVENT
DTSTART;TZID=Europe/Bucharest:20251003T190000
DTEND;TZID=Europe/Bucharest:20251003T210000
DTSTAMP:20260424T145344
CREATED:20250918T162833Z
LAST-MODIFIED:20250921T150401Z
UID:10010127-1759518000-1759525200@craiovalive.ro
SUMMARY:Carmina Burana / Deschiderea stagiunii Legacy Season 2025-2026 a Filarmonicii Oltenia Craiova
DESCRIPTION:Carmina Burana\n\nFilarmonica Oltenia Craiova – Legacy Season \nVINERI 03 OCT 2025 – 19:00 \n Sala Filarmonicii Oltenia \n\n\n\n\nFilarmonica „Oltenia” deschide noua stagiune – Legacy Season – cu una dintre cele mai impresionante capodopere ale repertoriului universal: Carmina Burana de Carl Orff. Sub bagheta dirijorului Adrian Morar\, Orchestra Simfonică și Corala Academică ale Filarmonicii „Oltenia”\, alături de soliștii invitați – Daria Guți (soprană)\, Andrea Mirchev (tenor\, Bulgaria) și Alexandru Constantin (bariton) – vor transforma seara de vineri într-o experiență sonoră grandioasă.\nLi se alătură corul de copii „Glasuri Cristaline” (dirijor Iulia Manda)\, aducând un plus de prospețime și emoție acestei lucrări copleșitoare. Dirijor cor: Manuela Enache-Pîrvu\n Bilete și abonamente: la Filarmonică (luni–vineri\, 10:00–14:00) sau online: entertix.ro\n\n\n\n\n\n\nORCHESTRA SIMFONICĂ A FILARMONICII OLTENIA\nCORALA ACADEMICĂ A FILARMONICII OLTENIA\n\n\n\nDirijor\n\nADRIAN MORAR\nMANUELA ENACHE-PÎRVU – Dirijor cor\n\n\n\nSolişti\n\nDARIA GUȚI – soprană\nANDREA MIRCHEV – tenor\, BULGARIA\nALEXANDRU CONSTANTIN – bariton\n\n\n\nProgram\n\nCarl Orff Cantata „Carmina Burana” pentru soliști\, cor și orchestră
URL:https://craiovalive.ro/eveniment/carmina-burana/
LOCATION:Filarmonica Oltenia\, Calea Unirii\, nr. 16\, Craiova\, Dolj\, 200585\, România
CATEGORIES:Muzică
ATTACH;FMTTYPE=image/jpeg:https://craiovalive.ro/wp-content/uploads/2025/09/Carmina-Burana-Deschiderea-stagiunii-Legacy-Season-2025-2026-a-Filarmonicii-Oltenia-Craiova.jpg
ORGANIZER;CN="Filarmonica Oltenia Craiova":MAILTO:secretariat@filarmonica-oltenia.ro
GEO:44.3172308;23.7944364
X-APPLE-STRUCTURED-LOCATION;VALUE=URI;X-ADDRESS=Filarmonica Oltenia Calea Unirii nr. 16 Craiova Dolj 200585 România;X-APPLE-RADIUS=500;X-TITLE=Calea Unirii\, nr. 16:geo:23.7944364,44.3172308
END:VEVENT
BEGIN:VEVENT
DTSTART;TZID=Europe/Bucharest:20251003T193000
DTEND;TZID=Europe/Bucharest:20251003T220000
DTSTAMP:20260424T145344
CREATED:20250324T114823Z
LAST-MODIFIED:20250730T152247Z
UID:10006002-1759519800-1759528800@craiovalive.ro
SUMMARY:Retro Mania Craiova 2025
DESCRIPTION:Retro Mania – Spectacolul Nostalgiei la Sala Polivalenta Craiova! \nPe 3 octombrie 2025\, Sala Polivalenta Craiova găzduiește un eveniment de neuitat: Retro Mania\, un spectacol dedicat muzicii legendare care a marcat generații! Vino să te bucuri de o seară magică\, alături de artiști de renume internațional: \n\n\n\n\nBoney M – vocea emblematică a unor hituri precum *Rivers of Babylon* și *Daddy Cool*.  Dr Alban – va aduce pe scenă energie pură cu piese care au făcut istorie\, precum *It’s My Life* și *Sing Hallelujah*.\nBad Boys Blue – pregătește-te să dansezi pe ritmurile care au cucerit lumea!  *You’re a Woman*\, *Pretty Youg Girl*\nAdmiral C4C – energia reggae care va ridica sala în picioare cu hiturile precum *Turn It Up\,*\, *Drop The Boom*\nABBA Tribute – celebrează magia unor clasice ca *Dancing Queen* și *Mamma Mia*\nMR PRESIDENT – cu totii am fredonat megahitul Coco Jambo\n\nPregătește-te pentru o explozie de nostalgie\, dans și bună dispoziție!\n\nLocație: Sala Polivalenta Craiova\nData: 3 Octombrie 2025\nOra: 19:30\n\nNu rata șansa de a retrăi cele mai frumoase momente muzicale din anii ’70\, ’80 și ’90\, într-o atmosferă vibrantă! – o seară pentru suflet și dans!
URL:https://craiovalive.ro/eveniment/retro-mania-craiova-2025/
LOCATION:Sala Polivalentă\, Bvd. Ilie Balaci\, nr.6\, Craiova\, Dolj\, România
CATEGORIES:Muzică,Party
ATTACH;FMTTYPE=image/png:https://craiovalive.ro/wp-content/uploads/2025/03/Retro-Mania-Craiova-2025-1.png
GEO:44.3133053;23.7867478
X-APPLE-STRUCTURED-LOCATION;VALUE=URI;X-ADDRESS=Sala Polivalentă Bvd. Ilie Balaci nr.6 Craiova Dolj România;X-APPLE-RADIUS=500;X-TITLE=Bvd. Ilie Balaci\, nr.6:geo:23.7867478,44.3133053
END:VEVENT
BEGIN:VEVENT
DTSTART;TZID=Europe/Bucharest:20251004T180000
DTEND;TZID=Europe/Bucharest:20251004T193000
DTSTAMP:20260424T145344
CREATED:20250928T153911Z
LAST-MODIFIED:20250929T072738Z
UID:10010262-1759600800-1759606200@craiovalive.ro
SUMMARY:Copacul Vieții
DESCRIPTION: COPACUL VIEȚII  Experiment imersiv de Muzică\, Tradiție și Meditație Sahaja Yoga O experiență unică pentru trup\, minte\, suflet și spirit! Te invităm să faci parte din această călătorie de transformare interioară\, alături de renumiții artiști ai muzicii clasice românești: Cleopatra David (soprană) și Cosmin Patrana (pian).Descoperă cum poți trezi lumina bucuriei din tine și cum să nu lași problemele vieții să te învingă! Biblioteca Judeteana Alexandru & Aristia Aman Craiova 04 Octombrie18:00 Experimentează Realizarea Sinelui Bucură-te de muzica clasicăIntrarea este liberă și deschisă tuturor celor care caută pacea interioară și echilibrul spiritual.Vino să simți vibrațiile!  \n\nCopacul Vieții – O seară imersivă a unității și armoniei\nBiblioteca Județeană Alexandru și Aristia Aman din Craiova găzduiește sâmbătă\, 4 octombrie 2025\, de la ora 18:00\, un eveniment multicultural\, multisenzorial și interactiv intitulat Copacul Vieții. Publicul este invitat să participe la un program ce va îmbina monumentalitatea muzicii clasice europene\, tradiția artelor vizuale locale și profunzimea Atmasakshatkar (Realizarea Sinelui) – un moment interactiv de inițiere în meditația Sahaja Yoga – oferind o experiență emblematică de explorare a spiritualității și a culturilor universale. \nInterpretează: \n\nCleopatra David – soprană\nCosmin Pătrana – pian (invitat)\n\nIntrarea este liberă. \nLocurile sunt limitate și se ocupă în ordinea sosirii. \nPentru detalii și acces: link \nÎntr-o perioadă în care avem nevoie mai mult ca oricând de speranță în forța binelui\, a integrității și a unității\, evenimentul devine un spațiu de întâlnire între culturi\, unde muzica\, și meditația sunt punți către armonie. Sahaja Yoga\, deși poartă un nume de origine sanscrită\, este o practică deschisă tuturor oamenilor\, fără bariere religioase sau sociale. Spiritualitatea și cultura merg mână în mână\, iar arta\, atunci când este inspirată de profunzimea ființei și înălțimile Spiritului\, devine un limbaj universal al comuniunii și bucuriei. Repertoriul serii va cuprinde lucrări ale marilor compozitori romantici Franz Schubert\, Gustav Mahler\, Antonín Dvořák\, dar și din creația românească\, oferind publicului o călătorie interculturală în care tradițiile Europei și Orientului se întâlnesc într-un dialog al frumuseții și spiritualității. La nivel simbolic\, Copacul Vieții devine axul central al serii: un copac al spiritualității\, unde toate tradițiile sunt ramuri ale aceleiași unități\, iar rădăcinile se hrănesc din aceeași sursă divină. Imaginea sa apare deopotrivă pe vasele de Horezu și în iconografia biblică\, iar în arta lui Brâncuși se transformă în Coloana Infinitului – o expresie a aspirației omului către cer\, către nemărginire și către comuniunea universală. \nBiografiile artiștilor \nCleopatra David \nCleopatra David este una dintre vocile lirice remarcabile ale generației sale\, născută într-o veche familie de intelectuali și artiști români din care face parte și compozitorul Boris Chelaru\, distinsă personalitate a Craiovei. Cariera sa s-a concentrat în ultimii ani pe consolidarea sectorului cultural independent din România\, cu accent pe producția de operă. A fost aplaudată pe numeroase scene din România\, Italia\, Finlanda\, Armenia\, Franța\, Marea Britanie și India și este invitată frecvent să susțină masterclassuri și workshopuri de tehnică vocală. În 2024 a desfășurat un amplu proiect de rezidență artistică la Cité Internationale des Arts din Paris\, în urma câștigării Bursei George Enescu\, oferită de Institutul Cultural Român. Printre colaborările sale se numără lucrul alături de dirijori precum Alexander Walker\, Aleksandr Dmitriev\, Ciprian Teodorașcu\, Gheorghe Iliuță și Jin Wang. Critica de specialitate a remarcat unicitatea și prospețimea timbrală a vocii sale. „De vocea Cleopatrei nu te poți sătura” – scria jurnalistul Călin Hera după spectacolul Bach\, colegul de birou. \n  \nCosmin Pătrana a urmat studiile universitare și de master în cadrul „Universității Naționale de Muzică București”  secția pian principal\, la clasa prof. univ. dr Dana Borșan. În anul 2014\, a beneficiat de o bursa Erasmus\, la Conservatorio Statale di Musica G. F. Ghedini\, iar în perioada 2014-2020 a fost acompaniator și solist în cadrul concertelor organizate de „Dengel Concerts”\, Germania. În prezent\, este profesor corepetitor la Colegiul „Dinu Lipatti”. \nContact \nTelefon: +40 731 845 794
URL:https://craiovalive.ro/eveniment/copacul-vietii/
LOCATION:Biblioteca Județeană Alexandru și Aristia Aman\, Str. M. Kogălniceanu\, nr. 9\, Craiova\, Dolj\, România
CATEGORIES:Manifestări religioase,Muzică
ATTACH;FMTTYPE=image/jpeg:https://craiovalive.ro/wp-content/uploads/2025/09/Coacul-Vietii-Craiova-2025-Muzica-Traditie-si-Meditatie-Sahaja-Yoga.jpg
GEO:44.3157663;23.796749
X-APPLE-STRUCTURED-LOCATION;VALUE=URI;X-ADDRESS=Biblioteca Județeană Alexandru și Aristia Aman Str. M. Kogălniceanu nr. 9 Craiova Dolj România;X-APPLE-RADIUS=500;X-TITLE=Str. M. Kogălniceanu\, nr. 9:geo:23.796749,44.3157663
END:VEVENT
END:VCALENDAR