BEGIN:VCALENDAR
VERSION:2.0
PRODID:-//Craiova Live - ECPv6.15.18//NONSGML v1.0//EN
CALSCALE:GREGORIAN
METHOD:PUBLISH
X-ORIGINAL-URL:https://craiovalive.ro
X-WR-CALDESC:Evenimente pentru Craiova Live
REFRESH-INTERVAL;VALUE=DURATION:PT1H
X-Robots-Tag:noindex
X-PUBLISHED-TTL:PT1H
BEGIN:VTIMEZONE
TZID:Europe/Bucharest
BEGIN:DAYLIGHT
TZOFFSETFROM:+0200
TZOFFSETTO:+0300
TZNAME:EEST
DTSTART:20240331T010000
END:DAYLIGHT
BEGIN:STANDARD
TZOFFSETFROM:+0300
TZOFFSETTO:+0200
TZNAME:EET
DTSTART:20241027T010000
END:STANDARD
BEGIN:DAYLIGHT
TZOFFSETFROM:+0200
TZOFFSETTO:+0300
TZNAME:EEST
DTSTART:20250330T010000
END:DAYLIGHT
BEGIN:STANDARD
TZOFFSETFROM:+0300
TZOFFSETTO:+0200
TZNAME:EET
DTSTART:20251026T010000
END:STANDARD
BEGIN:DAYLIGHT
TZOFFSETFROM:+0200
TZOFFSETTO:+0300
TZNAME:EEST
DTSTART:20260329T010000
END:DAYLIGHT
BEGIN:STANDARD
TZOFFSETFROM:+0300
TZOFFSETTO:+0200
TZNAME:EET
DTSTART:20261025T010000
END:STANDARD
END:VTIMEZONE
BEGIN:VEVENT
DTSTART;TZID=Europe/Bucharest:20250916T190000
DTEND;TZID=Europe/Bucharest:20250916T200000
DTSTAMP:20260424T181712
CREATED:20250909T190936Z
LAST-MODIFIED:20250909T190936Z
UID:10009705-1758049200-1758052800@craiovalive.ro
SUMMARY:Recital de pian Robert Bașcoveanu
DESCRIPTION:MARȚI\, 16 SEPTEMBRIE 2025\, ORA 19:00 – Muzeul de ArtăRecital de pianROBERT BAȘCOVEANUÎn program:Wolfgang Amadeus Mozart: Sonata nr. 12 în Fa major\, K. 332Frédéric Chopin: Studiul în Do major\, op. 10\, nr. 1Franz Liszt: Mephisto WaltzJohannes Brahms: Intermezzo nr. 2 în Si bemol minor\, op. 117Intermezzo nr. 2 în La major\, op. 118César Franck: Preludiu\, Coral și Fugă\, FWV 21Alexander Scriabin: Sonata-fantezie nr. 2 în Sol diez minor\, op. 19Serghei Rahmaninov: Studiile nr. 1\, 5 și 6\, op. 39
URL:https://craiovalive.ro/eveniment/recital-de-pian-robert-bascoveanu/
LOCATION:Muzeul de Artă Craiova\, Calea Unirii\, nr. 15\, Craiova\, Dolj\, România
CATEGORIES:Muzică
ATTACH;FMTTYPE=image/jpeg:https://craiovalive.ro/wp-content/uploads/2025/09/Recital-de-pian-Robert-Bascoveanu.jpg
ORGANIZER;CN="Filarmonica Oltenia Craiova":MAILTO:secretariat@filarmonica-oltenia.ro
GEO:44.3191666;23.7952566
X-APPLE-STRUCTURED-LOCATION;VALUE=URI;X-ADDRESS=Muzeul de Artă Craiova Calea Unirii nr. 15 Craiova Dolj România;X-APPLE-RADIUS=500;X-TITLE=Calea Unirii\, nr. 15:geo:23.7952566,44.3191666
END:VEVENT
BEGIN:VEVENT
DTSTART;TZID=Europe/Bucharest:20250917T190000
DTEND;TZID=Europe/Bucharest:20250917T203000
DTSTAMP:20260424T181712
CREATED:20250801T085024Z
LAST-MODIFIED:20250802T162124Z
UID:10007807-1758135600-1758141000@craiovalive.ro
SUMMARY:Festivalul Internațional George Enescu 2025 la Craiova: concert vocal-simfonic\, dirijor Andrei Stănculescu
DESCRIPTION: Festivalul Internațional George Enescu 2025 la Craiova\nCraiova devine din nou parte a celui mai important festival de muzică clasică din România și unul dintre cele mai prestigioase din lume: Festivalul Internațional George Enescu\, ediția a XXVII-a. Acest concert excepțional aduce în prim-plan artiști de renume\, parteneriate internaționale și un repertoriu care traversează epoci și stiluri. 17 septembrie 2025\, ora 19:00 Esplanada Muzeul de Artă / Centrul Brâncuși \, Craiova Bilet: 50 lei\n\nConcert Vocal-Simfonic \n\nORCHESTRA SIMFONICĂ A FILARMONICII OLTENIA\nCORALA ACADEMICĂ A FILARMONICII OLTENIA\nCORUL DE CAMERĂ PRELUDIU – VOICU ENĂCHESCU\nCORUL BRD\n\nDirijor: Andrei Stănculescu  \nSolisti: \nCristina Fieraru – soprană \nSorana Negrea – mezzosoprană \nAndrei Lazăr – tenor \nSebastian Balaj – bariton \nÎn program: \n– Henry Purcell – Fragmente din opera „King Arthur” \n– G. F. Händel – Zadok Preotul \n– G. F. Händel – Hallelujah (din oratoriul Messiah) \n– W. A. Mozart – Missa încoronării (Missa solemnis în Do major\, K. 317)
URL:https://craiovalive.ro/eveniment/festivalul-international-george-enescu-2025-la-craiova-concert-vocal-simfonic-dirijor-andrei-stanculescu/
LOCATION:Muzeul de Artă Craiova\, Calea Unirii\, nr. 15\, Craiova\, Dolj\, România
CATEGORIES:Muzică
ATTACH;FMTTYPE=image/jpeg:https://craiovalive.ro/wp-content/uploads/2025/08/Festivalul-International-George-Enescu-2025-la-Craiova.jpg
ORGANIZER;CN="Filarmonica Oltenia Craiova":MAILTO:secretariat@filarmonica-oltenia.ro
GEO:44.3191666;23.7952566
X-APPLE-STRUCTURED-LOCATION;VALUE=URI;X-ADDRESS=Muzeul de Artă Craiova Calea Unirii nr. 15 Craiova Dolj România;X-APPLE-RADIUS=500;X-TITLE=Calea Unirii\, nr. 15:geo:23.7952566,44.3191666
END:VEVENT
BEGIN:VEVENT
DTSTART;TZID=Europe/Bucharest:20250919T180000
DTEND;TZID=Europe/Bucharest:20250920T020000
DTSTAMP:20260424T181712
CREATED:20250914T173753Z
LAST-MODIFIED:20250919T071313Z
UID:10009728-1758304800-1758333600@craiovalive.ro
SUMMARY:METAL BUNKER XIII
DESCRIPTION:Metal Bunker nu este doar un festival\, ci și o mișcare pornită din inițiativa publică în cadrul comunităților metal și punk din Craiova\, cu scopul simplu de a conecta orașul la scenele de profil din țară și din lume. \nMetal Bunker\, building the local scene from the ground up.\nLineup: Bucovina\, Gothic\, RoadkillSoda & many more.
URL:https://craiovalive.ro/eveniment/metal-bunker-xiii/
LOCATION:Casa de Cultură a Studenților Craiova\, Str. Eugeniu Carada\, nr. 10\, Craiova\, Dolj\, 200390\, România
CATEGORIES:Muzică
ATTACH;FMTTYPE=image/jpeg:https://craiovalive.ro/wp-content/uploads/2025/09/METAL-BUNKER-XIII.jpg
GEO:44.3158109;23.8003284
X-APPLE-STRUCTURED-LOCATION;VALUE=URI;X-ADDRESS=Casa de Cultură a Studenților Craiova Str. Eugeniu Carada nr. 10 Craiova Dolj 200390 România;X-APPLE-RADIUS=500;X-TITLE=Str. Eugeniu Carada\, nr. 10:geo:23.8003284,44.3158109
END:VEVENT
BEGIN:VEVENT
DTSTART;TZID=Europe/Bucharest:20250920T213000
DTEND;TZID=Europe/Bucharest:20250920T233000
DTSTAMP:20260424T181712
CREATED:20250915T065335Z
LAST-MODIFIED:20250915T065827Z
UID:10009741-1758403800-1758411000@craiovalive.ro
SUMMARY:Totally Spice! / Live Set / Party
DESCRIPTION:20 septembrie\, 21.30 @𝗕𝗶𝗲𝗿𝗴𝗮𝗿𝘁𝗲𝗻 𝗖𝗿𝗮𝗶𝗼𝘃𝗮\n\n\n Format în 2023\, 𝗧𝗼𝘁𝗮𝗹𝗹𝘆 𝗦𝗽𝗶𝗰𝗲! este un duo feminin de DJ\, alcătuit din Lidia Ilici și Renate Dinu\, care se afirmă rapid pe scena de club românească.\n\n\n @totally5pic3 @lidiailici @_renaughty_\n\n\nGlisând între techno\, euro-trance\, pop gems\, broken beats\, UK garage\, imnuri rave\, hituri românești R’n’B uitate și un strop de reggaeton\, ele lucrează la construirea unei comunități axate pe prezențe feminine\, care\, printr-un entuziasm contagios\, inspiră toate bulele locale.\n\n\nPrezența lor în scena locală creează un mediu vibrant\, ce inspiră și stimulează\, depășind granițele genurilor muzicale și reconfigurând dinamicile de putere existente\, într-un context în care sistemele și rețelele culturale sunt încă predominant patriarhale.\n\n\nIntrare liberă\n\n\n Parteneri: @𝗕𝗶𝗲𝗿𝗴𝗮𝗿𝘁𝗲𝗻 𝗖𝗿𝗮𝗶𝗼𝘃𝗮\n\n\n\nFestivalul de Dans Contemporan CONNECT\, ediția a 4-a este un proiect organizat de Asociația Delazero\, co-finanțat de Administrația Fondului Cultural Național și nu reprezintă în mod necesar poziţia AFCN. AFCN nu este responsabilă de conținutul proiectului sau de modul în care rezultatele proiectului pot fi folosite. Acestea sunt în întregime responsabilitatea beneficiarului finanțării.
URL:https://craiovalive.ro/eveniment/totally-spice-live-set-party/
LOCATION:Biergarten\, Str. Fraţii Buzeşti nr. 18\, Craiova\, Dolj\, 200381\, România
CATEGORIES:Muzică,Party
ATTACH;FMTTYPE=image/jpeg:https://craiovalive.ro/wp-content/uploads/2025/09/Totally-Spice-Live-Set-Party.jpg
GEO:44.314387198457;23.799027336713
X-APPLE-STRUCTURED-LOCATION;VALUE=URI;X-ADDRESS=Biergarten Str. Fraţii Buzeşti nr. 18 Craiova Dolj 200381 România;X-APPLE-RADIUS=500;X-TITLE=Str. Fraţii Buzeşti nr. 18:geo:23.799027336713,44.314387198457
END:VEVENT
BEGIN:VEVENT
DTSTART;TZID=Europe/Bucharest:20250920T230000
DTEND;TZID=Europe/Bucharest:20250921T023000
DTSTAMP:20260424T181712
CREATED:20250914T175252Z
LAST-MODIFIED:20250914T175252Z
UID:10009734-1758409200-1758421800@craiovalive.ro
SUMMARY:DAGHI b2b NERV
DESCRIPTION:Free entryDAGHI b2b NERV
URL:https://craiovalive.ro/eveniment/daghi-b2b-nerv/
LOCATION:The 20s\, Str. Traian Demetrescu\, nr. 14\, Craiova\, Dolj\, 200395\, România
CATEGORIES:Muzică,Party
ATTACH;FMTTYPE=image/jpeg:https://craiovalive.ro/wp-content/uploads/2025/09/DAGHI-b2b-NERV.jpg
GEO:44.3166319;23.8001481
X-APPLE-STRUCTURED-LOCATION;VALUE=URI;X-ADDRESS=The 20s Str. Traian Demetrescu nr. 14 Craiova Dolj 200395 România;X-APPLE-RADIUS=500;X-TITLE=Str. Traian Demetrescu\, nr. 14:geo:23.8001481,44.3166319
END:VEVENT
BEGIN:VEVENT
DTSTART;TZID=Europe/Bucharest:20250921T120000
DTEND;TZID=Europe/Bucharest:20250921T230000
DTSTAMP:20260424T181712
CREATED:20250802T144237Z
LAST-MODIFIED:20250917T111710Z
UID:10010094-1758456000-1758495600@craiovalive.ro
SUMMARY:Gumball 3000 la Craiova
DESCRIPTION:Craiova devine\, pentru două zile\, gazda unuia dintre cele mai spectaculoase evenimente auto și culturale la nivel internațional – Gumball 3000. În perioada 21-22 septembrie 2025\, Piața Mihai Viteazul devine locul unde universul street food se întâlnește cu muzică live și adrenalina Gumball 3000.\n\nAstfel\, în paralel cu expoziția auto\, în Piața Mihai Viteazul va avea loc Food Truck Festival\, care va aduce la această ediție cele mai delicioase preparate stradale internaționale\, totul într-un vibe de festival. Participanții vor putea savura delicii culinare ce îmbină tradițiile locale cu influențe internaționale\, de la street food clasic\, la mâncăruri\, deserturi și băuturi speciale.\n\nDe asemenea\, tot în Piața Mihai Viteazul\, DJ set-urile lui SYLVIO\, ARASY\, CJ\, BEANY și Emil Safta vor crea duminică și luni o atmosferă vibrantă\, în timp ce vizitatorii și craiovenii se vor bucura de o experiență completă.\n\n Luni\, 22 septembrie 2025\, între orele 11:00 – 15:00\, vor fi expuse în Piața Mihai Viteazul și pe strada A.I. Cuza peste 100 de supermașini\, de la modele clasice restaurate și construcții personalizate\, până la hipermașini ultra-rare\, într-o expoziție cu acces gratuit pentru public.\nEvenimentul va fi marcat de prezența fondatorului Maximillion Cooper\, care va conduce un Brabus Rolls Royce Cullinan alături de soția sa\, artista EVE\, câștigătoare a unui premiu Grammy.\n\nPublicul din Craiova va avea ocazia să se întâlnească cu mari vedete din toată lumea\, precum:\n– Adekunle Gold\, superstar Afrobeats\n– Afrojack\, DJ olandez multipremiat\n– Patrice Evra\, fost internațional francez și legendă Manchester United\n– Membrii celebrei trupe The Sidemen – Vikkstar\, TBJZL\, Behzinga\n– WillNE\, Chip\, DJ Alan Walker\, în Brabus G800\n– Influencerii auto DDE (DailyDrivenExotics) și Pog\n– Michael Mizrachi\, campion World Series of Poker\n– Jimmy Graham\, star NFL și câștigător al premiului „Spirit of Gumball”.\n\n\n\nProgramul Gumball 3000 în Craiova:\n\n\nDuminică\, 21 septembrie\n Locația: Piața Mihai Viteazul\n•Ora 12:00 – 23:00 Food Truck Festival\, expoziție auto\, show-uri de entertainment\n•Ora 17:00 – 20:00 Emil Safta\n•Ora 20:00 – 23:00 SYLVIO B2B ARASY\n\n\nLuni\, 22 septembrie\n Locația principală: Piața Mihai Viteazul și A.I. Cuza\n•Ora 10:00 – 18:00 Food Truck Festival\n•Ora 11:00 – 16:00 Emil Safta B2B CJ B2B Beany\n\n\n•Ora 11:00 – 15:00\nExpoziția mașinilor din caravana Gumball 3000\nExpoziție auto & sesiuni foto cu publicul\nMeciuri demonstrative baschet 3×3\nMeet & Greet cu vedete\nConcert live și show-uri de entertainment
URL:https://craiovalive.ro/eveniment/gumball-3000-la-craiova/2025-09-21/
LOCATION:Piața Mihai Viteazul\, Craiova\, Dolj\, România
CATEGORIES:Gastronomie,Muzică,Sport
ATTACH;FMTTYPE=image/jpeg:https://craiovalive.ro/wp-content/uploads/2025/08/Gumball-3000-la-Craiova.jpg
GEO:44.31805;23.79493
END:VEVENT
BEGIN:VEVENT
DTSTART;TZID=Europe/Bucharest:20250921T203000
DTEND;TZID=Europe/Bucharest:20250921T214500
DTSTAMP:20260424T181712
CREATED:20250917T095028Z
LAST-MODIFIED:20250918T145000Z
UID:10009756-1758486600-1758491100@craiovalive.ro
SUMMARY:Green Violin Concert
DESCRIPTION: Concert de vioară în grădină Pe 21 septembrie\, începând cu ora 20:30\, te invităm la Silent Garden pentru o seară magică sub lumina a 150 de lumânări. Geo Fabian – Green Violin ArtistVioara verde și sunetul ei inconfundabil vor transforma grădina noastră într-un loc de poveste\, unde muzica se împletește cu natura și liniștea serii. Locație: Silent Garden\, Craiova Data: 21 septembrie Artist fee: 30 RON Ora: 20:30Hai să trăim împreună o experiență unică\, plină de emoție și armonie. 
URL:https://craiovalive.ro/eveniment/green-violin-concert/
LOCATION:Shhh! Silent Garden\, Str. Olteț\, nr. 1\, Craiova\, Dolj\, România
CATEGORIES:Muzică
ATTACH;FMTTYPE=image/jpeg:https://craiovalive.ro/wp-content/uploads/2025/09/Green-Violin-Concert-@-Silent-Garden-Craiova.jpeg
GEO:44.317802098137;23.797564215092
X-APPLE-STRUCTURED-LOCATION;VALUE=URI;X-ADDRESS=Shhh! Silent Garden Str. Olteț nr. 1 Craiova Dolj România;X-APPLE-RADIUS=500;X-TITLE=Str. Olteț\, nr. 1:geo:23.797564215092,44.317802098137
END:VEVENT
END:VCALENDAR