BEGIN:VCALENDAR
VERSION:2.0
PRODID:-//Craiova Live - ECPv6.15.18//NONSGML v1.0//EN
CALSCALE:GREGORIAN
METHOD:PUBLISH
X-WR-CALNAME:Craiova Live
X-ORIGINAL-URL:https://craiovalive.ro
X-WR-CALDESC:Evenimente pentru Craiova Live
REFRESH-INTERVAL;VALUE=DURATION:PT1H
X-Robots-Tag:noindex
X-PUBLISHED-TTL:PT1H
BEGIN:VTIMEZONE
TZID:Europe/Bucharest
BEGIN:DAYLIGHT
TZOFFSETFROM:+0200
TZOFFSETTO:+0300
TZNAME:EEST
DTSTART:20240331T010000
END:DAYLIGHT
BEGIN:STANDARD
TZOFFSETFROM:+0300
TZOFFSETTO:+0200
TZNAME:EET
DTSTART:20241027T010000
END:STANDARD
BEGIN:DAYLIGHT
TZOFFSETFROM:+0200
TZOFFSETTO:+0300
TZNAME:EEST
DTSTART:20250330T010000
END:DAYLIGHT
BEGIN:STANDARD
TZOFFSETFROM:+0300
TZOFFSETTO:+0200
TZNAME:EET
DTSTART:20251026T010000
END:STANDARD
BEGIN:DAYLIGHT
TZOFFSETFROM:+0200
TZOFFSETTO:+0300
TZNAME:EEST
DTSTART:20260329T010000
END:DAYLIGHT
BEGIN:STANDARD
TZOFFSETFROM:+0300
TZOFFSETTO:+0200
TZNAME:EET
DTSTART:20261025T010000
END:STANDARD
END:VTIMEZONE
BEGIN:VEVENT
DTSTART;TZID=Europe/Bucharest:20250904T190000
DTEND;TZID=Europe/Bucharest:20250904T220000
DTSTAMP:20260424T181552
CREATED:20250731T133044Z
LAST-MODIFIED:20250904T112237Z
UID:10007802-1757012400-1757023200@craiovalive.ro
SUMMARY:Craiova Jazz Festival 2025\, ediția a IX-a
DESCRIPTION:Craiova Jazz Festival 2025\, ediția a IX-a\, vine cu patru seri în care jazzul își schimbă mereu hainele: big band pe malul lacului (Parcul Romanescu)\, trupe de top din Europa\, groove\, soul și multă improvizație.\n\n\nNe întâlnim în Parc\, la Filarmonică și la Muzeu\, cu artiști care vin din Hamburg\, Paris\, Stockholm\, Barcelona sau București.\n\n\n De la pian minimalist la fusion funky\, festivalul e o combinație de eleganță și energie\, perfectă pentru începutul de toamnă.\n\n\n Biletele s-au pus deja în vânzare online: https://www.entertix.ro/g/607/filarmonica-oltenia.html\n\n\nEveniment organizat de Filarmonica Oltenia și Primăria Municipiului Craiova.\n\n\n\n  \n\n\n PROGRAM CRAIOVA JAZZ FESTIVAL 2025\nEdiția a IX-a | 4–7 septembrie | Craiova\n\n\n  \n\n\nJoi\, 4 septembrie\, ora 19:00 – Debarcader – Parcul Nicolae Romanescu\n CICO’S JAZZ ORCHESTRA feat. OLTENIA BIG BAND\nDirijor: HORIA DINU NICOLAESCU\nSoliști: TILMAN VELLGUTH & SOPHIA AXTMANN\nPreț bilet: 100 lei\n\n\n  \n\n\nVineri\, 5 septembrie\, ora 19:00 – Filarmonica Oltenia\n TINGVALL TRIO (Suedia / Cuba / Germania)\n STEPHANIE LOTTERMOSER & MARIUS PREDA\nA. G. WEINBERGER – Un Gringo pentru secolul XXI\nPreț bilet: 50 lei\n\n\n  \n\n\nSâmbătă\, 6 septembrie\, ora 19:00 – Filarmonica Oltenia\n ROUGE (Franța)\n MARCO MEZQUIDA TRIO (Spania)\nPreț bilet: 50 lei\n\n\n  \n\n\nDuminică\, 7 septembrie\, ora 19:00 – Muzeul de Artă – Intrarea liberă\n FEEDBACK TO JAZZ PROJECT feat. PAUL NEGOIȚĂ\n DUMAS COLLECTIVE\n SOUL TIES
URL:https://craiovalive.ro/eveniment/craiova-jazz-festival-2025-editia-a-ix-a/2025-09-04/
LOCATION:Locații multiple\, Craiova\, Dolj\, România
CATEGORIES:Muzică
ATTACH;FMTTYPE=image/jpeg:https://craiovalive.ro/wp-content/uploads/2025/07/Craiova-Jazz-Festival-2025-editia-a-IX-a.jpg
ORGANIZER;CN="Filarmonica Oltenia Craiova":MAILTO:secretariat@filarmonica-oltenia.ro
GEO:44.3301785;23.7948808
END:VEVENT
BEGIN:VEVENT
DTSTART;TZID=Europe/Bucharest:20250905T190000
DTEND;TZID=Europe/Bucharest:20250905T220000
DTSTAMP:20260424T181552
CREATED:20250731T133044Z
LAST-MODIFIED:20250904T112237Z
UID:10007803-1757098800-1757109600@craiovalive.ro
SUMMARY:Craiova Jazz Festival 2025\, ediția a IX-a
DESCRIPTION:Craiova Jazz Festival 2025\, ediția a IX-a\, vine cu patru seri în care jazzul își schimbă mereu hainele: big band pe malul lacului (Parcul Romanescu)\, trupe de top din Europa\, groove\, soul și multă improvizație.\n\n\nNe întâlnim în Parc\, la Filarmonică și la Muzeu\, cu artiști care vin din Hamburg\, Paris\, Stockholm\, Barcelona sau București.\n\n\n De la pian minimalist la fusion funky\, festivalul e o combinație de eleganță și energie\, perfectă pentru începutul de toamnă.\n\n\n Biletele s-au pus deja în vânzare online: https://www.entertix.ro/g/607/filarmonica-oltenia.html\n\n\nEveniment organizat de Filarmonica Oltenia și Primăria Municipiului Craiova.\n\n\n\n  \n\n\n PROGRAM CRAIOVA JAZZ FESTIVAL 2025\nEdiția a IX-a | 4–7 septembrie | Craiova\n\n\n  \n\n\nJoi\, 4 septembrie\, ora 19:00 – Debarcader – Parcul Nicolae Romanescu\n CICO’S JAZZ ORCHESTRA feat. OLTENIA BIG BAND\nDirijor: HORIA DINU NICOLAESCU\nSoliști: TILMAN VELLGUTH & SOPHIA AXTMANN\nPreț bilet: 100 lei\n\n\n  \n\n\nVineri\, 5 septembrie\, ora 19:00 – Filarmonica Oltenia\n TINGVALL TRIO (Suedia / Cuba / Germania)\n STEPHANIE LOTTERMOSER & MARIUS PREDA\nA. G. WEINBERGER – Un Gringo pentru secolul XXI\nPreț bilet: 50 lei\n\n\n  \n\n\nSâmbătă\, 6 septembrie\, ora 19:00 – Filarmonica Oltenia\n ROUGE (Franța)\n MARCO MEZQUIDA TRIO (Spania)\nPreț bilet: 50 lei\n\n\n  \n\n\nDuminică\, 7 septembrie\, ora 19:00 – Muzeul de Artă – Intrarea liberă\n FEEDBACK TO JAZZ PROJECT feat. PAUL NEGOIȚĂ\n DUMAS COLLECTIVE\n SOUL TIES
URL:https://craiovalive.ro/eveniment/craiova-jazz-festival-2025-editia-a-ix-a/2025-09-05/
LOCATION:Locații multiple\, Craiova\, Dolj\, România
CATEGORIES:Muzică
ATTACH;FMTTYPE=image/jpeg:https://craiovalive.ro/wp-content/uploads/2025/07/Craiova-Jazz-Festival-2025-editia-a-IX-a.jpg
ORGANIZER;CN="Filarmonica Oltenia Craiova":MAILTO:secretariat@filarmonica-oltenia.ro
GEO:44.3301785;23.7948808
END:VEVENT
BEGIN:VEVENT
DTSTART;TZID=Europe/Bucharest:20250906T180000
DTEND;TZID=Europe/Bucharest:20250906T190000
DTSTAMP:20260424T181552
CREATED:20250804T071756Z
LAST-MODIFIED:20250804T121513Z
UID:10007882-1757181600-1757185200@craiovalive.ro
SUMMARY:Candlelight: Coldplay vs. Imagine Dragons
DESCRIPTION:⭐ Concertele Candlelight aduc magia unei experiențe muzicale live\, multisenzoriale\, în locuri de-a dreptul impresionante\, așa cum nu s-a mai văzut înainte în Craiova. Ia acum biletele pentru a descoperi muzica de Coldplay vs. Imagine Dragons la Teatrul National Marin Sorescu\, sub lumina blândă a lumânărilor. \nInformații generale\n📍 Locație: Teatrul National Marin Sorescu\n⏳ Durată: 60 minute (Accesul este permis cu 45minute înainte de începerea programată\, iar participanților li se interzice intrarea ulterioară)\n👤 Limită de vârstă: 8 ani sau mai mult. Persoanele sub 16 ani trebuie să fie însoțite de un adult\n♿ Accesibilitate:\n🪑 Locurile sunt alocate pe baza ordinii de sosire în fiecare zonă \nProgram \n\nColdplay – Clocks\nColdplay – Something Just Like This\nImagine Dragons – Radioactive\nColdplay – Adventure of a Lifetime\nColdplay – Fix You\nImagine Dragons – Eyes Closed\nImagine Dragons – Nice to Meet You\nColdplay – The Scientist\nColdplay – feelslikeimfallinginlove\nImagine Dragons – Follow You\nImagine Dragons – Bad Liar\nColdplay – Viva la Vida\nImagine Dragons – Believer\nColdplay – Sky Full of Stars\n\nArtiști \n\n6 septembrie – Dimos Quartett
URL:https://craiovalive.ro/eveniment/candlelight-coldplay-vs-imagine-dragons/
LOCATION:Teatrul Național Craiova – Sala Amza Pellea\, Str. A. I. Cuza\, nr. 11\, Craiova\, Dolj\, 200585\, România
CATEGORIES:Muzică
ATTACH;FMTTYPE=image/webp:https://craiovalive.ro/wp-content/uploads/2025/08/Candlelight-Craiova-Coldplay-vs.-Imagine-Dragons.webp
GEO:44.3186661;23.8003743
X-APPLE-STRUCTURED-LOCATION;VALUE=URI;X-ADDRESS=Teatrul Național Craiova – Sala Amza Pellea Str. A. I. Cuza nr. 11 Craiova Dolj 200585 România;X-APPLE-RADIUS=500;X-TITLE=Str. A. I. Cuza\, nr. 11:geo:23.8003743,44.3186661
END:VEVENT
BEGIN:VEVENT
DTSTART;TZID=Europe/Bucharest:20250906T190000
DTEND;TZID=Europe/Bucharest:20250906T220000
DTSTAMP:20260424T181552
CREATED:20250731T133044Z
LAST-MODIFIED:20250904T112237Z
UID:10007804-1757185200-1757196000@craiovalive.ro
SUMMARY:Craiova Jazz Festival 2025\, ediția a IX-a
DESCRIPTION:Craiova Jazz Festival 2025\, ediția a IX-a\, vine cu patru seri în care jazzul își schimbă mereu hainele: big band pe malul lacului (Parcul Romanescu)\, trupe de top din Europa\, groove\, soul și multă improvizație.\n\n\nNe întâlnim în Parc\, la Filarmonică și la Muzeu\, cu artiști care vin din Hamburg\, Paris\, Stockholm\, Barcelona sau București.\n\n\n De la pian minimalist la fusion funky\, festivalul e o combinație de eleganță și energie\, perfectă pentru începutul de toamnă.\n\n\n Biletele s-au pus deja în vânzare online: https://www.entertix.ro/g/607/filarmonica-oltenia.html\n\n\nEveniment organizat de Filarmonica Oltenia și Primăria Municipiului Craiova.\n\n\n\n  \n\n\n PROGRAM CRAIOVA JAZZ FESTIVAL 2025\nEdiția a IX-a | 4–7 septembrie | Craiova\n\n\n  \n\n\nJoi\, 4 septembrie\, ora 19:00 – Debarcader – Parcul Nicolae Romanescu\n CICO’S JAZZ ORCHESTRA feat. OLTENIA BIG BAND\nDirijor: HORIA DINU NICOLAESCU\nSoliști: TILMAN VELLGUTH & SOPHIA AXTMANN\nPreț bilet: 100 lei\n\n\n  \n\n\nVineri\, 5 septembrie\, ora 19:00 – Filarmonica Oltenia\n TINGVALL TRIO (Suedia / Cuba / Germania)\n STEPHANIE LOTTERMOSER & MARIUS PREDA\nA. G. WEINBERGER – Un Gringo pentru secolul XXI\nPreț bilet: 50 lei\n\n\n  \n\n\nSâmbătă\, 6 septembrie\, ora 19:00 – Filarmonica Oltenia\n ROUGE (Franța)\n MARCO MEZQUIDA TRIO (Spania)\nPreț bilet: 50 lei\n\n\n  \n\n\nDuminică\, 7 septembrie\, ora 19:00 – Muzeul de Artă – Intrarea liberă\n FEEDBACK TO JAZZ PROJECT feat. PAUL NEGOIȚĂ\n DUMAS COLLECTIVE\n SOUL TIES
URL:https://craiovalive.ro/eveniment/craiova-jazz-festival-2025-editia-a-ix-a/2025-09-06/
LOCATION:Locații multiple\, Craiova\, Dolj\, România
CATEGORIES:Muzică
ATTACH;FMTTYPE=image/jpeg:https://craiovalive.ro/wp-content/uploads/2025/07/Craiova-Jazz-Festival-2025-editia-a-IX-a.jpg
ORGANIZER;CN="Filarmonica Oltenia Craiova":MAILTO:secretariat@filarmonica-oltenia.ro
GEO:44.3301785;23.7948808
END:VEVENT
BEGIN:VEVENT
DTSTART;TZID=Europe/Bucharest:20250906T200000
DTEND;TZID=Europe/Bucharest:20250906T210000
DTSTAMP:20260424T181552
CREATED:20250804T071510Z
LAST-MODIFIED:20250804T121519Z
UID:10007881-1757188800-1757192400@craiovalive.ro
SUMMARY:Candlelight: Omagiu pentru Queen
DESCRIPTION:⭐ Concertele Candlelight aduc magia unei experiențe muzicale live\, multisenzoriale\, în locuri de-a dreptul impresionante\, așa cum nu s-a mai văzut înainte în Craiova. Ia acum biletele pentru a descoperi muzica de Omagiu pentru Queen la Marin Sorescu National Theater\, sub lumina blândă a lumânărilor. \nInformații generale\n📍 Locație: Teatrul National Marin Sorescu\n⏳ Durată: 60 minute (Accesul este permis cu 45minute înainte de începerea programată\, iar participanților li se interzice intrarea ulterioară)\n👤 Limită de vârstă: 8 ani sau mai mult. Persoanele sub 16 ani trebuie să fie însoțite de un adult\n♿ Accesibilitate:\n🪑 Locurile sunt alocate pe baza ordinii de sosire în fiecare zonă \nProgram \n\nI Want to Break Free\nWe Will Rock You\nSomebody to Love\nRadio Ga Ga\nDon’t Stop Me Now\nKiller Queen\nCrazy Little Thing Called Love\nWho Wants to Live Forever\nBohemian Rhapsody\nLove of My Life\nWe Are the Champions\nAnother One Bites the Dust\n\nArtiști \n\n6 septembrie – Dimos Quartett
URL:https://craiovalive.ro/eveniment/candlelight-omagiu-pentru-queen/
LOCATION:Teatrul Național Craiova – Sala Amza Pellea\, Str. A. I. Cuza\, nr. 11\, Craiova\, Dolj\, 200585\, România
CATEGORIES:Muzică
ATTACH;FMTTYPE=image/webp:https://craiovalive.ro/wp-content/uploads/2025/08/Candlelight-Craiova-Omagiu-pentru-Queen.webp
GEO:44.3186661;23.8003743
X-APPLE-STRUCTURED-LOCATION;VALUE=URI;X-ADDRESS=Teatrul Național Craiova – Sala Amza Pellea Str. A. I. Cuza nr. 11 Craiova Dolj 200585 România;X-APPLE-RADIUS=500;X-TITLE=Str. A. I. Cuza\, nr. 11:geo:23.8003743,44.3186661
END:VEVENT
BEGIN:VEVENT
DTSTART;TZID=Europe/Bucharest:20250907T190000
DTEND;TZID=Europe/Bucharest:20250907T220000
DTSTAMP:20260424T181552
CREATED:20250731T133044Z
LAST-MODIFIED:20250904T112237Z
UID:10007805-1757271600-1757282400@craiovalive.ro
SUMMARY:Craiova Jazz Festival 2025\, ediția a IX-a
DESCRIPTION:Craiova Jazz Festival 2025\, ediția a IX-a\, vine cu patru seri în care jazzul își schimbă mereu hainele: big band pe malul lacului (Parcul Romanescu)\, trupe de top din Europa\, groove\, soul și multă improvizație.\n\n\nNe întâlnim în Parc\, la Filarmonică și la Muzeu\, cu artiști care vin din Hamburg\, Paris\, Stockholm\, Barcelona sau București.\n\n\n De la pian minimalist la fusion funky\, festivalul e o combinație de eleganță și energie\, perfectă pentru începutul de toamnă.\n\n\n Biletele s-au pus deja în vânzare online: https://www.entertix.ro/g/607/filarmonica-oltenia.html\n\n\nEveniment organizat de Filarmonica Oltenia și Primăria Municipiului Craiova.\n\n\n\n  \n\n\n PROGRAM CRAIOVA JAZZ FESTIVAL 2025\nEdiția a IX-a | 4–7 septembrie | Craiova\n\n\n  \n\n\nJoi\, 4 septembrie\, ora 19:00 – Debarcader – Parcul Nicolae Romanescu\n CICO’S JAZZ ORCHESTRA feat. OLTENIA BIG BAND\nDirijor: HORIA DINU NICOLAESCU\nSoliști: TILMAN VELLGUTH & SOPHIA AXTMANN\nPreț bilet: 100 lei\n\n\n  \n\n\nVineri\, 5 septembrie\, ora 19:00 – Filarmonica Oltenia\n TINGVALL TRIO (Suedia / Cuba / Germania)\n STEPHANIE LOTTERMOSER & MARIUS PREDA\nA. G. WEINBERGER – Un Gringo pentru secolul XXI\nPreț bilet: 50 lei\n\n\n  \n\n\nSâmbătă\, 6 septembrie\, ora 19:00 – Filarmonica Oltenia\n ROUGE (Franța)\n MARCO MEZQUIDA TRIO (Spania)\nPreț bilet: 50 lei\n\n\n  \n\n\nDuminică\, 7 septembrie\, ora 19:00 – Muzeul de Artă – Intrarea liberă\n FEEDBACK TO JAZZ PROJECT feat. PAUL NEGOIȚĂ\n DUMAS COLLECTIVE\n SOUL TIES
URL:https://craiovalive.ro/eveniment/craiova-jazz-festival-2025-editia-a-ix-a/2025-09-07/
LOCATION:Locații multiple\, Craiova\, Dolj\, România
CATEGORIES:Muzică
ATTACH;FMTTYPE=image/jpeg:https://craiovalive.ro/wp-content/uploads/2025/07/Craiova-Jazz-Festival-2025-editia-a-IX-a.jpg
ORGANIZER;CN="Filarmonica Oltenia Craiova":MAILTO:secretariat@filarmonica-oltenia.ro
GEO:44.3301785;23.7948808
END:VEVENT
END:VCALENDAR