BEGIN:VCALENDAR
VERSION:2.0
PRODID:-//Craiova Live - ECPv6.15.18//NONSGML v1.0//EN
CALSCALE:GREGORIAN
METHOD:PUBLISH
X-ORIGINAL-URL:https://craiovalive.ro
X-WR-CALDESC:Evenimente pentru Craiova Live
REFRESH-INTERVAL;VALUE=DURATION:PT1H
X-Robots-Tag:noindex
X-PUBLISHED-TTL:PT1H
BEGIN:VTIMEZONE
TZID:Europe/Bucharest
BEGIN:DAYLIGHT
TZOFFSETFROM:+0200
TZOFFSETTO:+0300
TZNAME:EEST
DTSTART:20240331T010000
END:DAYLIGHT
BEGIN:STANDARD
TZOFFSETFROM:+0300
TZOFFSETTO:+0200
TZNAME:EET
DTSTART:20241027T010000
END:STANDARD
BEGIN:DAYLIGHT
TZOFFSETFROM:+0200
TZOFFSETTO:+0300
TZNAME:EEST
DTSTART:20250330T010000
END:DAYLIGHT
BEGIN:STANDARD
TZOFFSETFROM:+0300
TZOFFSETTO:+0200
TZNAME:EET
DTSTART:20251026T010000
END:STANDARD
BEGIN:DAYLIGHT
TZOFFSETFROM:+0200
TZOFFSETTO:+0300
TZNAME:EEST
DTSTART:20260329T010000
END:DAYLIGHT
BEGIN:STANDARD
TZOFFSETFROM:+0300
TZOFFSETTO:+0200
TZNAME:EET
DTSTART:20261025T010000
END:STANDARD
END:VTIMEZONE
BEGIN:VEVENT
DTSTART;TZID=Europe/Bucharest:20250620T190000
DTEND;TZID=Europe/Bucharest:20250620T203000
DTSTAMP:20260425T010417
CREATED:20250524T111857Z
LAST-MODIFIED:20250610T082319Z
UID:10006622-1750446000-1750451400@craiovalive.ro
SUMMARY:Filarmonica Show Off - închiderea stagiunii Roots Season - dirijor David Schlager
DESCRIPTION:Roots Season: DIRIJOR: DAVID SCHLAGER\nVINERI 20 IUN 2025 – 19:00\nÎnchiderea stagiunii ROOTS SEASON\nDirijor: DAVID SCHLAGER – AUSTRIA \nFinalul oficial al Stagiunii Rădăcini va avea loc pe 20 iunie cu FILARMONICA SHOW OFF\, într-o seară grandioasă ce reunește Orchestra Simfonică și Corala Academică ale Filarmonicii „Oltenia”.\nDirijorul David SCHLAGER (Austria) semnează un program eclectic – de la Bizet\, Vivaldi și Piazzolla\, până la Milhaud și Borodin – cu nu mai puțin de șase soliști invitați.\nEste un eveniment amplu\, care celebrează nu doar închiderea stagiunii\, ci și efervescența artistică a întregului an.
URL:https://craiovalive.ro/eveniment/roots-season-dirijor-david-schlager-2/
LOCATION:Filarmonica Oltenia\, Calea Unirii\, nr. 16\, Craiova\, Dolj\, 200585\, România
CATEGORIES:Muzică
ATTACH;FMTTYPE=image/jpeg:https://craiovalive.ro/wp-content/uploads/2025/05/Filarmonica-Show-Off-inchiderea-stagiunii-Roots-Season-dirijor-David-Schlager.jpg
ORGANIZER;CN="Filarmonica Oltenia Craiova":MAILTO:secretariat@filarmonica-oltenia.ro
GEO:44.3172308;23.7944364
X-APPLE-STRUCTURED-LOCATION;VALUE=URI;X-ADDRESS=Filarmonica Oltenia Calea Unirii nr. 16 Craiova Dolj 200585 România;X-APPLE-RADIUS=500;X-TITLE=Calea Unirii\, nr. 16:geo:23.7944364,44.3172308
END:VEVENT
BEGIN:VEVENT
DTSTART;TZID=Europe/Bucharest:20250622T113000
DTEND;TZID=Europe/Bucharest:20250622T130000
DTSTAMP:20260425T010417
CREATED:20250622T083208Z
LAST-MODIFIED:20250622T083208Z
UID:10007491-1750591800-1750597200@craiovalive.ro
SUMMARY:SoNoRo Interferențe Craiova 2025
DESCRIPTION:Muzica ne aduce împreună la SoNoRo Interferențe! \n\n\nÎntre 15 și 22 iunie\, bursierii SoNoRo Interferențe se pregătesc intens în cadrul unor workshop-uri pentru două concerte\, sub îndrumarea maeștrilor internaționali – Denis Goldfeld (violinist)\, Christoph Wyneken (violinist și dirijor\, profesor la Academia de Muzică din Freiburg)\, Nora Romanoff-Schwarzberg (violistă și profesoară de violă la Academia Regală de Muzică din Marea Britanie)\, Tim Park (violoncelist) și Mara Dobrescu (pianistă).\n\n\n 21 iunie\, ora 18:00 – Portul Cultural Cetate\n 22 iunie\, ora 11:30 – Filarmonica de Stat „Oltenia” Craiova\n\n\n Aflat la ediția a XIX-a\, SoNoRo Interferențe oferă tinerilor muzicieni oportunitatea de a studia lucrări semnate de compozitorii Robert Schumann\, Wolfgang Amadeus Mozart\, Dmitri Șostakovici și Ludwig van Beethoven.\n\n\nIntrarea la concerte este liberă.\n\n\nAlpha Bank România susține SoNoRo Interferențe – un proiect care îmbină excelența artistică cu accesul la cultură și educație.
URL:https://craiovalive.ro/eveniment/sonoro-interferente-craiova-2025/
LOCATION:Filarmonica Oltenia\, Calea Unirii\, nr. 16\, Craiova\, Dolj\, 200585\, România
CATEGORIES:Muzică
ATTACH;FMTTYPE=image/jpeg:https://craiovalive.ro/wp-content/uploads/2025/06/SoNoRo-Interferente-Craiova-2025.jpg
GEO:44.3172308;23.7944364
X-APPLE-STRUCTURED-LOCATION;VALUE=URI;X-ADDRESS=Filarmonica Oltenia Calea Unirii nr. 16 Craiova Dolj 200585 România;X-APPLE-RADIUS=500;X-TITLE=Calea Unirii\, nr. 16:geo:23.7944364,44.3172308
END:VEVENT
END:VCALENDAR