BEGIN:VCALENDAR
VERSION:2.0
PRODID:-//Craiova Live - ECPv6.15.18//NONSGML v1.0//EN
CALSCALE:GREGORIAN
METHOD:PUBLISH
X-WR-CALNAME:Craiova Live
X-ORIGINAL-URL:https://craiovalive.ro
X-WR-CALDESC:Evenimente pentru Craiova Live
REFRESH-INTERVAL;VALUE=DURATION:PT1H
X-Robots-Tag:noindex
X-PUBLISHED-TTL:PT1H
BEGIN:VTIMEZONE
TZID:Europe/Bucharest
BEGIN:DAYLIGHT
TZOFFSETFROM:+0200
TZOFFSETTO:+0300
TZNAME:EEST
DTSTART:20240331T010000
END:DAYLIGHT
BEGIN:STANDARD
TZOFFSETFROM:+0300
TZOFFSETTO:+0200
TZNAME:EET
DTSTART:20241027T010000
END:STANDARD
BEGIN:DAYLIGHT
TZOFFSETFROM:+0200
TZOFFSETTO:+0300
TZNAME:EEST
DTSTART:20250330T010000
END:DAYLIGHT
BEGIN:STANDARD
TZOFFSETFROM:+0300
TZOFFSETTO:+0200
TZNAME:EET
DTSTART:20251026T010000
END:STANDARD
BEGIN:DAYLIGHT
TZOFFSETFROM:+0200
TZOFFSETTO:+0300
TZNAME:EEST
DTSTART:20260329T010000
END:DAYLIGHT
BEGIN:STANDARD
TZOFFSETFROM:+0300
TZOFFSETTO:+0200
TZNAME:EET
DTSTART:20261025T010000
END:STANDARD
END:VTIMEZONE
BEGIN:VEVENT
DTSTART;TZID=Europe/Bucharest:20250609T203000
DTEND;TZID=Europe/Bucharest:20250609T223000
DTSTAMP:20260425T005958
CREATED:20250225T190048Z
LAST-MODIFIED:20250225T190048Z
UID:10005534-1749501000-1749508200@craiovalive.ro
SUMMARY:Ana Coman - Lansare vinyl „Nouă pretexte să nu mă uiți”
DESCRIPTION:Ana Coman • Lansare vinyl „Nouă pretexte să nu mă uiți”Luni\, 9 iunie\, ora 20:30 (open doors 19:00)Locație: Biergarten\, Craiova• • • • • • • • • •Ana Coman a adunat nouă dintre piesele voastre de suflet de pe cele trei albume lansate până acum\, piese pe care ați plâns\, ați râs și le-ați simțit cu toată ființa\, și le-a pus pe un…. VINYL.\nLadies and gents\, PRIMUL VINYL Ana Coman este aici.Vinyl-ul va ajunge pe 9 iunie în Biergarten Craiova\, în cel mai frumos concert de lansare al unui material nou Ana Coman.\nPrimele 50 de viniluri la PRESALE sunt disponibile de cumpărat pe shop.bandbook.ro! Restul le veți găsi la preț întreg după epuizarea PRESALE-ului.• • • • • • • • • •Deși cântă de mică\, de abia prin 2018 Ana Coman și-a dat seama că muzica este mult mai mult decât un hobby. A început în variantă acustică\, voce și chitară\, la Radio Guerrilla\, în cadrul rubricii “Ana are cântec”. Ulterior\, Ana început să-și lanseze propriile piese și a avut parte de o ascensiune rapidă\, participând la mari festivaluri din țară. În 2020\, ea și-a lansat primul album\, „9 missed calls”.\nNumele vinyl-ului “Nouă pretexte să nu mă uiți” adună în el bucăți din fiecare album\, iar vinyl-ul în sine va avea 9 dintre cele mai ascultate și fredonate piese de voi în concerte:\nSIDE ASuvenirCum eștiApel în așteptare feat. Om la lunăPână mâine\nSIDE BStângaciContratimpUltimul refren feat. Florin GalanNu ți-am spus tot feat. Jean GavrilRun• • • • • • • • • •Biletele sunt disponibile prin Iabilet.ro\nEarly bird: 60 leiPresale: 65 leiAcces general: 70 leiElevi/studenți: 50 lei• • • • • • • • • •Un eveniment marca BandBook
URL:https://craiovalive.ro/eveniment/ana-coman-lansare-vinyl-noua-pretexte-sa-nu-ma-uiti/
LOCATION:Dolj
CATEGORIES:Muzică
ATTACH;FMTTYPE=image/jpeg:https://craiovalive.ro/wp-content/uploads/2025/02/Ana-Coman-Lansare-vinyl-„Noua-pretexte-sa-nu-ma-uiti.jpg
END:VEVENT
BEGIN:VEVENT
DTSTART;TZID=Europe/Bucharest:20250610T190000
DTEND;TZID=Europe/Bucharest:20250610T210000
DTSTAMP:20260425T005958
CREATED:20250509T131847Z
LAST-MODIFIED:20250509T131847Z
UID:10006520-1749582000-1749589200@craiovalive.ro
SUMMARY:Vibrations Classical 2025 | Craiova
DESCRIPTION: VIBRATIONS CLASSICAL 2025 | Craiova\nCraiova vibrează din nou. Vibrations Classical ajunge în Oltenia\, acolo unde muzica are rădăcini adânci și emoție autentică.\nPe 10 iunie\, te invităm la un concert special în inima Craiovei – la Filarmonica Oltenia\, alături de muzicieni care trăiesc fiecare notă.\nVibrations Classical aduce pe scenă muzica clasică așa cum ar trebui să fie: vie\, actuală\, directă.\n Filarmonica Oltenia\, Craiova 10 Iunie 2025 19:00 Biletele vor fi disponibile în curând.\nProgramul serii:Partea I: lucrări solo\, alese spontan de cei trei muzicieni.Partea II: Serghei Rahmaninov – Trio élégiaque nr. 1 în sol minor Felix Mendelssohn Bartholdy – Trio nr. 1 în re minor\, op. 49\nDurata aproximativă: 75 min\, fără pauză.\nVino să descoperi un concert care nu se ascultă. Se simte.\nTurneu susținut de Ferma Steluța și HB Wine.
URL:https://craiovalive.ro/eveniment/vibrations-classical-2025-craiova/
LOCATION:Filarmonica Oltenia\, Calea Unirii\, nr. 16\, Craiova\, Dolj\, 200585\, România
CATEGORIES:Muzică
ATTACH;FMTTYPE=image/jpeg:https://craiovalive.ro/wp-content/uploads/2025/05/Vibrations-Classical-2025-Craiova.jpg
GEO:44.3172308;23.7944364
X-APPLE-STRUCTURED-LOCATION;VALUE=URI;X-ADDRESS=Filarmonica Oltenia Calea Unirii nr. 16 Craiova Dolj 200585 România;X-APPLE-RADIUS=500;X-TITLE=Calea Unirii\, nr. 16:geo:23.7944364,44.3172308
END:VEVENT
BEGIN:VEVENT
DTSTART;TZID=Europe/Bucharest:20250612T190000
DTEND;TZID=Europe/Bucharest:20250612T203000
DTSTAMP:20260425T005958
CREATED:20250524T111417Z
LAST-MODIFIED:20250524T111449Z
UID:10006620-1749754800-1749760200@craiovalive.ro
SUMMARY:Turneul Internațional Stradivarius - Rapsodiile - Alexandru Tomescu & Dragoș Ilie
DESCRIPTION:Turneul Internațional Stradivarius – RAPSODIILE\nJOI 12 IUN 2025 – 19:00 Sala Filarmonicii Oltenia\nSolişti\nALEXANDRU TOMESCU – vioara Stradivarius „Elder-Voicu”\nDRAGOȘ ILIE – chitară\nProgram\nGeorge Enescu Rapsodia română nr. 1 în La major\, op. 11\nGeorge Enescu Rapsodia nr. 1 în Re major\nGeorge Gershwin Rhapsody in Blue \n 
URL:https://craiovalive.ro/eveniment/turneul-international-stradivarius-rapsodiile-alexandru-tomescu-dragos-ilie/
LOCATION:Filarmonica Oltenia\, Calea Unirii\, nr. 16\, Craiova\, Dolj\, 200585\, România
CATEGORIES:Muzică
ATTACH;FMTTYPE=image/jpeg:https://craiovalive.ro/wp-content/uploads/2025/05/Turneul-International-Stradivarius-Rapsodiile-Alexandru-Tomescu-Dragos-Ilie.jpg
ORGANIZER;CN="Filarmonica Oltenia Craiova":MAILTO:secretariat@filarmonica-oltenia.ro
GEO:44.3172308;23.7944364
X-APPLE-STRUCTURED-LOCATION;VALUE=URI;X-ADDRESS=Filarmonica Oltenia Calea Unirii nr. 16 Craiova Dolj 200585 România;X-APPLE-RADIUS=500;X-TITLE=Calea Unirii\, nr. 16:geo:23.7944364,44.3172308
END:VEVENT
BEGIN:VEVENT
DTSTART;TZID=Europe/Bucharest:20250612T200000
DTEND;TZID=Europe/Bucharest:20250612T210000
DTSTAMP:20260425T005958
CREATED:20250529T200231Z
LAST-MODIFIED:20250529T200325Z
UID:10006896-1749758400-1749762000@craiovalive.ro
SUMMARY:Concert imersiv Soul Quartet la MINA Pop-Up Craiova
DESCRIPTION:Concert imersiv Soul Quartet la MINA Pop-Up Craiova\n Joi\, 12 iunie |  Ora 20:00\n\n\n Bilet: 100 lei\n\n\nTANGO: around the world este un concert live susținut de cvartetul Soul Quartet\, însoțit de proiecții vizuale care te poartă prin patru colțuri spectaculoase ale lumii: Paris\, Mexic\, Deșert și Tokyo.\n\n\n Vei asculta piese celebre precum:\nLibertango\, La Cumparsita\, Por una cabeza\, Habanera\, Jalousie\, Blue Tango – într-o interpretare rafinată\, cu sunet acustic pur.\n\n\n Locație: MINA Pop-Up – bvd. Ilie Balaci\, nr. 6 (langa Sala Polivalenta)\n\n\n Biletele sunt disponibile acum pe popup.minamuseum.com\n\n\nUn eveniment cu muzică live și proiecții 360°\, în stilul inconfundabil MINA.
URL:https://craiovalive.ro/eveniment/concert-imersiv-soul-quartet-la-mina-pop-up-craiova/
LOCATION:MINA Pop-Up Craiova\, Bulevard Ilie Balaci nr. 6 (lângă Sala Polivalentă)\, Craiova\, Dolj\, 200920\, România
CATEGORIES:Muzică
ATTACH;FMTTYPE=image/jpeg:https://craiovalive.ro/wp-content/uploads/2025/05/Concert-imersiv-Soul-Quartet-la-MINA-Pop-Up-Craiova.jpg
GEO:44.313128875204;23.787296767497
X-APPLE-STRUCTURED-LOCATION;VALUE=URI;X-ADDRESS=MINA Pop-Up Craiova Bulevard Ilie Balaci nr. 6 (lângă Sala Polivalentă) Craiova Dolj 200920 România;X-APPLE-RADIUS=500;X-TITLE=Bulevard Ilie Balaci nr. 6 (lângă Sala Polivalentă):geo:23.787296767497,44.313128875204
END:VEVENT
BEGIN:VEVENT
DTSTART;TZID=Europe/Bucharest:20250613T200000
DTEND;TZID=Europe/Bucharest:20250613T213000
DTSTAMP:20260425T005958
CREATED:20250602T191829Z
LAST-MODIFIED:20250602T191829Z
UID:10006983-1749844800-1749850200@craiovalive.ro
SUMMARY:Concert simfonic Iberia
DESCRIPTION:VINERI\, 13 IUNIE 2025\, ORA 20:00 – Muzeul de Artă\, Esplanada Centrului Cultural BrâncușiConcert IBERIAORCHESTRA SIMFONICĂ A FILARMONICII „OLTENIA”-DIRIJOR: RADU ZAHARIA– SOLISTĂ: MAYUMI KANAGAWA (vioară\, JAPONIA)\,  câștigătoarea Concursului Internațional GEORGE ENESCU 2024———În program:– Gerónimo Giménez: La Boda de Luis Alonso– Maurice Ravel: Rapsodia „Tzigane” pentru vioară și orchestră– Isaac Albéniz/Enrique Fernández Arbós: Suita simfonică „Iberia”——— Rezervați locurile online sau la agenția Filarmonicii.\nBilete: 50 lei | 15 lei (elevi\, studenți\, seniori) Info bilete: 0251 414 698 | Luni-vineri\, 10:00-18:00 Concertul este inclus în Abonamentul Melomanului.
URL:https://craiovalive.ro/eveniment/concert-simfonic-iberia/
LOCATION:Muzeul de Artă Craiova\, Calea Unirii\, nr. 15\, Craiova\, Dolj\, România
CATEGORIES:Muzică
ATTACH;FMTTYPE=image/jpeg:https://craiovalive.ro/wp-content/uploads/2025/06/Concert-simfonic-Iberia.jpg
ORGANIZER;CN="Filarmonica Oltenia Craiova":MAILTO:secretariat@filarmonica-oltenia.ro
GEO:44.3191666;23.7952566
X-APPLE-STRUCTURED-LOCATION;VALUE=URI;X-ADDRESS=Muzeul de Artă Craiova Calea Unirii nr. 15 Craiova Dolj România;X-APPLE-RADIUS=500;X-TITLE=Calea Unirii\, nr. 15:geo:23.7952566,44.3191666
END:VEVENT
BEGIN:VEVENT
DTSTART;TZID=Europe/Bucharest:20250613T230000
DTEND;TZID=Europe/Bucharest:20250614T030000
DTSTAMP:20260425T005958
CREATED:20250611T181624Z
LAST-MODIFIED:20250611T181624Z
UID:10007330-1749855600-1749870000@craiovalive.ro
SUMMARY:Dane / Shaggy @The20s
DESCRIPTION:Move. Vibe. Never hide.13.07\, 23:00Location: The 20’s\, CraiovaFree Entry
URL:https://craiovalive.ro/eveniment/dane-shaggy-the20s/
LOCATION:The 20s\, Str. Traian Demetrescu\, nr. 14\, Craiova\, Dolj\, 200395\, România
CATEGORIES:Muzică,Party
ATTACH;FMTTYPE=image/jpeg:https://craiovalive.ro/wp-content/uploads/2025/06/Dane-Shaggy-@The20s.jpg
GEO:44.3166319;23.8001481
X-APPLE-STRUCTURED-LOCATION;VALUE=URI;X-ADDRESS=The 20s Str. Traian Demetrescu nr. 14 Craiova Dolj 200395 România;X-APPLE-RADIUS=500;X-TITLE=Str. Traian Demetrescu\, nr. 14:geo:23.8001481,44.3166319
END:VEVENT
END:VCALENDAR