BEGIN:VCALENDAR
VERSION:2.0
PRODID:-//Craiova Live - ECPv6.15.18//NONSGML v1.0//EN
CALSCALE:GREGORIAN
METHOD:PUBLISH
X-ORIGINAL-URL:https://craiovalive.ro
X-WR-CALDESC:Evenimente pentru Craiova Live
REFRESH-INTERVAL;VALUE=DURATION:PT1H
X-Robots-Tag:noindex
X-PUBLISHED-TTL:PT1H
BEGIN:VTIMEZONE
TZID:Europe/Bucharest
BEGIN:DAYLIGHT
TZOFFSETFROM:+0200
TZOFFSETTO:+0300
TZNAME:EEST
DTSTART:20240331T010000
END:DAYLIGHT
BEGIN:STANDARD
TZOFFSETFROM:+0300
TZOFFSETTO:+0200
TZNAME:EET
DTSTART:20241027T010000
END:STANDARD
BEGIN:DAYLIGHT
TZOFFSETFROM:+0200
TZOFFSETTO:+0300
TZNAME:EEST
DTSTART:20250330T010000
END:DAYLIGHT
BEGIN:STANDARD
TZOFFSETFROM:+0300
TZOFFSETTO:+0200
TZNAME:EET
DTSTART:20251026T010000
END:STANDARD
BEGIN:DAYLIGHT
TZOFFSETFROM:+0200
TZOFFSETTO:+0300
TZNAME:EEST
DTSTART:20260329T010000
END:DAYLIGHT
BEGIN:STANDARD
TZOFFSETFROM:+0300
TZOFFSETTO:+0200
TZNAME:EET
DTSTART:20261025T010000
END:STANDARD
END:VTIMEZONE
BEGIN:VEVENT
DTSTART;TZID=Europe/Bucharest:20250515T190000
DTEND;TZID=Europe/Bucharest:20250515T233000
DTSTAMP:20260425T051740
CREATED:20250331T163538Z
LAST-MODIFIED:20250331T163538Z
UID:10006040-1747335600-1747351800@craiovalive.ro
SUMMARY:om la lună - Solaar | Lansare album
DESCRIPTION:om la lună lansează Solaar\, noul album\, pe 15 și 16 mai\, la Casa de Cultură a Studenților\, în Craiova.\nVă invităm în noua noastră călătorie. Vă propunem două concerte\, diferite între ele\, dar cu multă emoție și energie\, așa cum v-am obișnuit. Pe 9 și 10 mai lansăm oficial Solaar\, noul nostru album\, la Craiova\, la Casa de Cultură a Studenților. Al cincilea album om la lună\, în cei șase ani de când existăm. Nu e rău deloc\, așa-i? \nL-am scris la mare\, l-am crescut mare și acum e timpul să vi-l arătăm. Și ca să vi-l putem cânta pe tot\, l-am împărțit în două. Ca să nu lipsească din nicio seară cântecele pe care le iubiți deja\, asta pe lângă cele pe care le veți descoperi acum.Pentru noi albumul ăsta este tare iubit. Pentru că l-am crescut ca pe niciun altul\, l-am lăsat să ne ducă unde a vrut el\, ne-am dat voie să experimentăm lucruri noi și am ieșit și mai mult din zona noastră de confort. Iar ce am descoperit odată cu el ne-a făcut foarte fericiți. Suntem tare mândri de ce a ieșit\, iar live vă promitem o experiență de neuitat. Vom avea invitați speciali în fiecare seară\, iar setlist-urile diferite vă vor plimba prin cei șase ani de om la lună. Călătoria noastră nouă începe.Hai cu noi spre soare!\nSolaar. Spre soare\, cu mirare.________________________ 15 & 16 mai 2025 Prețul unui bilet este 90 lei (presale)\, 110 lei – în ziua evenimentului Prețul unui abonament pentru cele doua zile (15 & 16 mai) este 150 lei (presale)\, 200 lei – în prima zi (15 mai).________________________“Am pornit pe drumul spre lumină\, privind soarele drept în față. Am prins curajul de a merge spre soare\, știind că avem mereu întunericul în spate sau în părți. Am construit aripi de zbor\, le-am lipit cum am putut mai bine\, am zburat și am căzut\, am zburat iar.\nAm căutat lumina în minte\, în inimă și în alegeri. Și am ales lumina\, întunericului. E o bătălie pentru soare\, până la urmă\, pentru noi cei la lună. Am ales să credem că se poate\, că ne este dat și că o să reușim\, în cele din urmă\, să ne trăim visul. Cu curajul și cu mirarea și cu bucuria unui copil. Și cu nesăbuința lui\, chiar. Cu gura căscată de uimirea frumuseții lumii și a călătoriei noastre.\nA fost un gând venit din senin\, pe care\, odată încolțit\, l-am luat cu noi și l-am crescut mare. Și am zburat cu el. Și chiar dacă o să ni se topească aripile și o să cădem de sus cândva\, zborul acesta va fi meritat tot.” Doru Pușcașu\, om la lună\nSolaar. Un album luminos\, cu soare mirare. Noul album om la lună. Din 26 martie.
URL:https://craiovalive.ro/eveniment/om-la-luna-solaar-lansare-album/2025-05-15/
LOCATION:Casa de Cultură a Studenților Craiova\, Str. Eugeniu Carada\, nr. 10\, Craiova\, Dolj\, 200390\, România
CATEGORIES:Muzică
ATTACH;FMTTYPE=image/jpeg:https://craiovalive.ro/wp-content/uploads/2025/03/om-la-luna-Solaar-Lansare-album.jpg
GEO:44.3158109;23.8003284
X-APPLE-STRUCTURED-LOCATION;VALUE=URI;X-ADDRESS=Casa de Cultură a Studenților Craiova Str. Eugeniu Carada nr. 10 Craiova Dolj 200390 România;X-APPLE-RADIUS=500;X-TITLE=Str. Eugeniu Carada\, nr. 10:geo:23.8003284,44.3158109
END:VEVENT
BEGIN:VEVENT
DTSTART;TZID=Europe/Bucharest:20250516T190000
DTEND;TZID=Europe/Bucharest:20250516T203000
DTSTAMP:20260425T051740
CREATED:20250406T211812Z
LAST-MODIFIED:20250428T174319Z
UID:10006122-1747422000-1747427400@craiovalive.ro
SUMMARY:Roots Season: DIRIJOR: ALEXANDRU ILIE
DESCRIPTION:Roots Season: DIRIJOR: ALEXANDRU ILIE\nVINERI 16 MAI 2025 – 19:00 Sala Filarmonicii Oltenia \nORCHESTRA SIMFONICă A FILARMONICII OLTENIA \nDirijor\nALEXANDRU ILIE \nSolişti\nIRINA RĂDULESCU – marimbă \nProgram\nMihaela Vosganian Marimbasissima pentru marimbă și orchestră de soliști (primă audiție absolută)\nFelix Mendelssohn-Bartholdy Simfonia nr. 4 în La major\, op. 90\, „Italiana”
URL:https://craiovalive.ro/eveniment/roots-season-dirijor-alexandru-ilie/
LOCATION:Filarmonica Oltenia\, Calea Unirii\, nr. 16\, Craiova\, Dolj\, 200585\, România
CATEGORIES:Muzică
ATTACH;FMTTYPE=image/jpeg:https://craiovalive.ro/wp-content/uploads/2025/04/Roost-Season-2025-dirijor-Alexandru-Ilie.jpg
ORGANIZER;CN="Filarmonica Oltenia Craiova":MAILTO:secretariat@filarmonica-oltenia.ro
GEO:44.3172308;23.7944364
X-APPLE-STRUCTURED-LOCATION;VALUE=URI;X-ADDRESS=Filarmonica Oltenia Calea Unirii nr. 16 Craiova Dolj 200585 România;X-APPLE-RADIUS=500;X-TITLE=Calea Unirii\, nr. 16:geo:23.7944364,44.3172308
END:VEVENT
BEGIN:VEVENT
DTSTART;TZID=Europe/Bucharest:20250516T190000
DTEND;TZID=Europe/Bucharest:20250516T233000
DTSTAMP:20260425T051740
CREATED:20250331T163538Z
LAST-MODIFIED:20250331T163538Z
UID:10006041-1747422000-1747438200@craiovalive.ro
SUMMARY:om la lună - Solaar | Lansare album
DESCRIPTION:om la lună lansează Solaar\, noul album\, pe 15 și 16 mai\, la Casa de Cultură a Studenților\, în Craiova.\nVă invităm în noua noastră călătorie. Vă propunem două concerte\, diferite între ele\, dar cu multă emoție și energie\, așa cum v-am obișnuit. Pe 9 și 10 mai lansăm oficial Solaar\, noul nostru album\, la Craiova\, la Casa de Cultură a Studenților. Al cincilea album om la lună\, în cei șase ani de când existăm. Nu e rău deloc\, așa-i? \nL-am scris la mare\, l-am crescut mare și acum e timpul să vi-l arătăm. Și ca să vi-l putem cânta pe tot\, l-am împărțit în două. Ca să nu lipsească din nicio seară cântecele pe care le iubiți deja\, asta pe lângă cele pe care le veți descoperi acum.Pentru noi albumul ăsta este tare iubit. Pentru că l-am crescut ca pe niciun altul\, l-am lăsat să ne ducă unde a vrut el\, ne-am dat voie să experimentăm lucruri noi și am ieșit și mai mult din zona noastră de confort. Iar ce am descoperit odată cu el ne-a făcut foarte fericiți. Suntem tare mândri de ce a ieșit\, iar live vă promitem o experiență de neuitat. Vom avea invitați speciali în fiecare seară\, iar setlist-urile diferite vă vor plimba prin cei șase ani de om la lună. Călătoria noastră nouă începe.Hai cu noi spre soare!\nSolaar. Spre soare\, cu mirare.________________________ 15 & 16 mai 2025 Prețul unui bilet este 90 lei (presale)\, 110 lei – în ziua evenimentului Prețul unui abonament pentru cele doua zile (15 & 16 mai) este 150 lei (presale)\, 200 lei – în prima zi (15 mai).________________________“Am pornit pe drumul spre lumină\, privind soarele drept în față. Am prins curajul de a merge spre soare\, știind că avem mereu întunericul în spate sau în părți. Am construit aripi de zbor\, le-am lipit cum am putut mai bine\, am zburat și am căzut\, am zburat iar.\nAm căutat lumina în minte\, în inimă și în alegeri. Și am ales lumina\, întunericului. E o bătălie pentru soare\, până la urmă\, pentru noi cei la lună. Am ales să credem că se poate\, că ne este dat și că o să reușim\, în cele din urmă\, să ne trăim visul. Cu curajul și cu mirarea și cu bucuria unui copil. Și cu nesăbuința lui\, chiar. Cu gura căscată de uimirea frumuseții lumii și a călătoriei noastre.\nA fost un gând venit din senin\, pe care\, odată încolțit\, l-am luat cu noi și l-am crescut mare. Și am zburat cu el. Și chiar dacă o să ni se topească aripile și o să cădem de sus cândva\, zborul acesta va fi meritat tot.” Doru Pușcașu\, om la lună\nSolaar. Un album luminos\, cu soare mirare. Noul album om la lună. Din 26 martie.
URL:https://craiovalive.ro/eveniment/om-la-luna-solaar-lansare-album/2025-05-16/
LOCATION:Casa de Cultură a Studenților Craiova\, Str. Eugeniu Carada\, nr. 10\, Craiova\, Dolj\, 200390\, România
CATEGORIES:Muzică
ATTACH;FMTTYPE=image/jpeg:https://craiovalive.ro/wp-content/uploads/2025/03/om-la-luna-Solaar-Lansare-album.jpg
GEO:44.3158109;23.8003284
X-APPLE-STRUCTURED-LOCATION;VALUE=URI;X-ADDRESS=Casa de Cultură a Studenților Craiova Str. Eugeniu Carada nr. 10 Craiova Dolj 200390 România;X-APPLE-RADIUS=500;X-TITLE=Str. Eugeniu Carada\, nr. 10:geo:23.8003284,44.3158109
END:VEVENT
BEGIN:VEVENT
DTSTART;TZID=Europe/Bucharest:20250517T190000
DTEND;TZID=Europe/Bucharest:20250517T230000
DTSTAMP:20260425T051740
CREATED:20250511T200740Z
LAST-MODIFIED:20250511T200740Z
UID:10006522-1747508400-1747522800@craiovalive.ro
SUMMARY:Music in the Garden w. YOOZ & SPD
DESCRIPTION:Biergarten Craiova\, Str. Fraţii Buzeşti nr. 18\, 200381 Craiova\nMai schimbăm un pic atmosfera\, cu Speedy și Yooz. Dacă ne lasă vecini\, poate ne mai lungim
URL:https://craiovalive.ro/eveniment/music-in-the-garden-w-yooz-spd/
LOCATION:Dolj
CATEGORIES:Muzică
ATTACH;FMTTYPE=image/jpeg:https://craiovalive.ro/wp-content/uploads/2025/05/Music-in-the-Garden-w.-YOOZ-SPD.jpg
END:VEVENT
END:VCALENDAR