BEGIN:VCALENDAR
VERSION:2.0
PRODID:-//Craiova Live - ECPv6.15.18//NONSGML v1.0//EN
CALSCALE:GREGORIAN
METHOD:PUBLISH
X-ORIGINAL-URL:https://craiovalive.ro
X-WR-CALDESC:Evenimente pentru Craiova Live
REFRESH-INTERVAL;VALUE=DURATION:PT1H
X-Robots-Tag:noindex
X-PUBLISHED-TTL:PT1H
BEGIN:VTIMEZONE
TZID:Europe/Bucharest
BEGIN:DAYLIGHT
TZOFFSETFROM:+0200
TZOFFSETTO:+0300
TZNAME:EEST
DTSTART:20240331T010000
END:DAYLIGHT
BEGIN:STANDARD
TZOFFSETFROM:+0300
TZOFFSETTO:+0200
TZNAME:EET
DTSTART:20241027T010000
END:STANDARD
BEGIN:DAYLIGHT
TZOFFSETFROM:+0200
TZOFFSETTO:+0300
TZNAME:EEST
DTSTART:20250330T010000
END:DAYLIGHT
BEGIN:STANDARD
TZOFFSETFROM:+0300
TZOFFSETTO:+0200
TZNAME:EET
DTSTART:20251026T010000
END:STANDARD
BEGIN:DAYLIGHT
TZOFFSETFROM:+0200
TZOFFSETTO:+0300
TZNAME:EEST
DTSTART:20260329T010000
END:DAYLIGHT
BEGIN:STANDARD
TZOFFSETFROM:+0300
TZOFFSETTO:+0200
TZNAME:EET
DTSTART:20261025T010000
END:STANDARD
END:VTIMEZONE
BEGIN:VEVENT
DTSTART;TZID=Europe/Bucharest:20250428T190000
DTEND;TZID=Europe/Bucharest:20250428T210000
DTSTAMP:20260425T063108
CREATED:20240227T140315Z
LAST-MODIFIED:20250114T001600Z
UID:10003440-1745866800-1745874000@craiovalive.ro
SUMMARY:Concert Bogdan Mihai Simion Cobzarul & Lăutarii de Mătase
DESCRIPTION:Bogdan Mihai Simion Cobzarul & Lautarii de Matase 2\nTeatrul National „Marin Sorescu” – Craiova\n\n28 Aprilie 2025 ora 19:00\n\nTurneu Național Bogdan Mihai Simion & Lăutarii de Mătase  \nTurneul se bucura de o muzicalitate noua !!! Lăutarul-culegător de muzici de tradiție si unul dintre ultimii cântăreți la cobză din România\, Simion Bogdan-Mihai\, alături de taraful său\, Lăutarii de Mătase\, pornesc într-un nou turneu\, aducand in trupa si un trompetist renumit! \nNăscut în 1990 la Râmnicu-Vâlcea\, Bogdan a început să studieze cobza la doar 15 ani\, dedicându-și viața culegerii și interpretării muzicii lăutărești autentice. Începând cu anul 2006\, a călătorit prin România\, descoperind cântece uitate și învățând de la ultimii cobzari ai tradiției. \nDe-a lungul timpului\, a colaborat cu artiști de renume precum Mihai Mărgineanu\, Taraf de Haidouks\, Les Elephants Bizarres\, Chimie\, Samurai și mulți alții. A realizat coloana sonoră pentru documentarele de succes „Flavours of Romania” și „Wild Carpathia”\, regizate de jurnalistul britanic Charlie Ottley. \nAlbumele sale – „Valahia în Demol” (2021) și „Drum pavat cu bolovani” (2023)\, ambele produse de Adrian Despot – au înregistrat recorduri de vânzări și l-au consacrat ca unul dintre cei mai importanți artiști contemporani de muzică tradițională. \nMuzica sa îmbină trei mari influențe: muzică țărănească românească\, muzică lăutărească urbană și pop music românesc clasic (valsuri\, tangouri și cântece de cabaret din prima jumătate a secolului XX). \nFormația Lăutarii de Mătase îi aduce alături pe: \n· Nelu Răducanu (țambal) \n· Mandi Pană (vioară) \n· Cornel Neacșu (acordeon) \n· Robert Adam-Szoltan (contrabas) \n· Cristi Adam (violă-braci) \n· Mihai Dănăoiu (pianină) \n· Alin Levadaru (trompetă) – bine ai venit în noua formulă!
URL:https://craiovalive.ro/eveniment/concert-bogdan-mihai-simion-lautarii-de-matase/
LOCATION:Teatrul Național Craiova – Sala Amza Pellea\, Str. A. I. Cuza\, nr. 11\, Craiova\, Dolj\, 200585\, România
CATEGORIES:Muzică
ATTACH;FMTTYPE=image/jpeg:https://craiovalive.ro/wp-content/uploads/2024/02/Bogdan-Mihai-Simion-si-Lautarii-de-Matase-Craiova-2.jpg
GEO:44.3186661;23.8003743
X-APPLE-STRUCTURED-LOCATION;VALUE=URI;X-ADDRESS=Teatrul Național Craiova – Sala Amza Pellea Str. A. I. Cuza nr. 11 Craiova Dolj 200585 România;X-APPLE-RADIUS=500;X-TITLE=Str. A. I. Cuza\, nr. 11:geo:23.8003743,44.3186661
END:VEVENT
BEGIN:VEVENT
DTSTART;TZID=Europe/Bucharest:20250428T204500
DTEND;TZID=Europe/Bucharest:20250428T213000
DTSTAMP:20260425T063108
CREATED:20250409T123555Z
LAST-MODIFIED:20250428T192929Z
UID:10006208-1745873100-1745875800@craiovalive.ro
SUMMARY:Bal Venețian pe Lac
DESCRIPTION: Magia Operei la Târgul de Paște Craiova 2025 \nOpera Română Craiova îi invită pe vizitatorii Târgului de Paște\, organizat de Primăria Municipiului Craiova\, să se bucure de evenimente speciale\, menite să aducă farmecul muzicii mai aproape de oameni\, în cadrul festiv al târgului. Astfel\, spectacolul de inaugurare\, care va avea loc vineri\, 11 aprilie\, include momentul artistic „Bal venețian pe lac”\, care aduce împreună rafinamentul Orchestrei de cameră\, cu Meda Stanciu – solist vioară\, și eleganța Baletului Operei Române Craiova. Publicul este invitat\, în jurul orei 20.00\, să savureze un moment unic\, inspirat de atmosfera carnavalului venețian\, în decorul fermecător format din pontonul și insula de pe lacul din Parcul Nicolae Romanescu. \nPrin aceste evenimente\, Opera Română Craiova se alătură inițiativelor culturale dedicate sărbătorilor pascale\, contribuind la conturarea unei atmosfere festive prin muzică\, dans și poveste. Târgul de Paşte\, organizat de Primăria Municipiului Craiova\, se desfășoară în perioada 11 aprilie – 1 mai 2025\, tema acestei ediții fiind Carnavalul Primăverii.
URL:https://craiovalive.ro/eveniment/bal-venetian-pe-lac/2025-04-28/
LOCATION:Parcul Nicolae Romanescu\, Craiova\, Dolj\, România
CATEGORIES:Muzică
ATTACH;FMTTYPE=image/jpeg:https://craiovalive.ro/wp-content/uploads/2025/04/Bal-venetian-pe-lac.jpg
ORGANIZER;CN="Opera Rom%C3%A2n%C4%83 Craiova":MAILTO:rezervari@operacraiova.ro
GEO:44.301907335609;23.799200026224
END:VEVENT
BEGIN:VEVENT
DTSTART;TZID=Europe/Bucharest:20250429T204500
DTEND;TZID=Europe/Bucharest:20250429T213000
DTSTAMP:20260425T063108
CREATED:20250409T123555Z
LAST-MODIFIED:20250428T192929Z
UID:10006209-1745959500-1745962200@craiovalive.ro
SUMMARY:Bal Venețian pe Lac
DESCRIPTION: Magia Operei la Târgul de Paște Craiova 2025 \nOpera Română Craiova îi invită pe vizitatorii Târgului de Paște\, organizat de Primăria Municipiului Craiova\, să se bucure de evenimente speciale\, menite să aducă farmecul muzicii mai aproape de oameni\, în cadrul festiv al târgului. Astfel\, spectacolul de inaugurare\, care va avea loc vineri\, 11 aprilie\, include momentul artistic „Bal venețian pe lac”\, care aduce împreună rafinamentul Orchestrei de cameră\, cu Meda Stanciu – solist vioară\, și eleganța Baletului Operei Române Craiova. Publicul este invitat\, în jurul orei 20.00\, să savureze un moment unic\, inspirat de atmosfera carnavalului venețian\, în decorul fermecător format din pontonul și insula de pe lacul din Parcul Nicolae Romanescu. \nPrin aceste evenimente\, Opera Română Craiova se alătură inițiativelor culturale dedicate sărbătorilor pascale\, contribuind la conturarea unei atmosfere festive prin muzică\, dans și poveste. Târgul de Paşte\, organizat de Primăria Municipiului Craiova\, se desfășoară în perioada 11 aprilie – 1 mai 2025\, tema acestei ediții fiind Carnavalul Primăverii.
URL:https://craiovalive.ro/eveniment/bal-venetian-pe-lac/2025-04-29/
LOCATION:Parcul Nicolae Romanescu\, Craiova\, Dolj\, România
CATEGORIES:Muzică
ATTACH;FMTTYPE=image/jpeg:https://craiovalive.ro/wp-content/uploads/2025/04/Bal-venetian-pe-lac.jpg
ORGANIZER;CN="Opera Rom%C3%A2n%C4%83 Craiova":MAILTO:rezervari@operacraiova.ro
GEO:44.301907335609;23.799200026224
END:VEVENT
BEGIN:VEVENT
DTSTART;TZID=Europe/Bucharest:20250430T190000
DTEND;TZID=Europe/Bucharest:20250430T203000
DTSTAMP:20260425T063108
CREATED:20250428T174105Z
LAST-MODIFIED:20250428T174105Z
UID:10006175-1746039600-1746045000@craiovalive.ro
SUMMARY:Caravan of Songs
DESCRIPTION:Caravan of Songs\n\nMIERCURI 30 APR 2025 – 19:00 \n Parcul Nicolae Romanescu \n\n\n\n\n\n\n\n\nCORALA ACADEMICĂ A FILARMONICII OLTENIA\n\n\n\nDirijor\n\nBOGDAN RADU BOTEZATU\n\n\n\nSolişti\n\nDIANA-ELENA MARIȘ – soprană\nJUSTINIAN IONUT MICU – tenor\n\n\n\nProgram\n\nGeorge and Ira Gershwin They can’t take that away from me ((aranj. Mark Hayes))\nBert Kaempfert\, Milt Gabler Love ((aranj. Kirby Shaw))\nAntoni Carlos Jobim One note samba ((aranj. Roger Emerson) )\nJohn Lennon\, Paul McCartney Got to Get You into My Life ((aranj. Kirby Shaw) )\nRichard Rodgers My favorite things ((aranj. Roger Emerson) )\nIrving Berlin Blue Skies ((aranj. Roger Emerson))\nDuke Ellington\, Irvin Mills\, Juan Tizol Caravan ((aranj. Paris Rutherford) )\nJerome Kern All the Things You Are ((aranj. Mark Hayes) )\nAndrew van Slee Peroxide Swing ((aranj. Steve Zegree\, Sarah Zegree) )\nRoss Parker\, Hughie Charles We’ll meet again ((aranj. Roger Emerson) )
URL:https://craiovalive.ro/eveniment/caravan-of-songs/
LOCATION:Parcul Nicolae Romanescu\, Craiova\, Dolj\, România
CATEGORIES:Muzică
ATTACH;FMTTYPE=image/jpeg:https://craiovalive.ro/wp-content/uploads/2025/04/Caravan-of-Songs.jpg
ORGANIZER;CN="Filarmonica Oltenia Craiova":MAILTO:secretariat@filarmonica-oltenia.ro
GEO:44.301907335609;23.799200026224
END:VEVENT
BEGIN:VEVENT
DTSTART;TZID=Europe/Bucharest:20250430T190000
DTEND;TZID=Europe/Bucharest:20250430T203000
DTSTAMP:20260425T063108
CREATED:20250429T081314Z
LAST-MODIFIED:20250429T081314Z
UID:10006269-1746039600-1746045000@craiovalive.ro
SUMMARY:Ian Crist - jazz sinthesizer
DESCRIPTION:CONCERT PENTRU JAZZ DAY 30 APRILIE 2025
URL:https://craiovalive.ro/eveniment/ian-crist-jazz-sinthesizer/
LOCATION:Filarmonica Oltenia\, Calea Unirii\, nr. 16\, Craiova\, Dolj\, 200585\, România
CATEGORIES:Muzică
ATTACH;FMTTYPE=image/jpeg:https://craiovalive.ro/wp-content/uploads/2025/04/Ian-Crist-jazz-sinthesizer.jpg
GEO:44.3172308;23.7944364
X-APPLE-STRUCTURED-LOCATION;VALUE=URI;X-ADDRESS=Filarmonica Oltenia Calea Unirii nr. 16 Craiova Dolj 200585 România;X-APPLE-RADIUS=500;X-TITLE=Calea Unirii\, nr. 16:geo:23.7944364,44.3172308
END:VEVENT
BEGIN:VEVENT
DTSTART;TZID=Europe/Bucharest:20250430T204500
DTEND;TZID=Europe/Bucharest:20250430T213000
DTSTAMP:20260425T063108
CREATED:20250409T123555Z
LAST-MODIFIED:20250428T192929Z
UID:10006210-1746045900-1746048600@craiovalive.ro
SUMMARY:Bal Venețian pe Lac
DESCRIPTION: Magia Operei la Târgul de Paște Craiova 2025 \nOpera Română Craiova îi invită pe vizitatorii Târgului de Paște\, organizat de Primăria Municipiului Craiova\, să se bucure de evenimente speciale\, menite să aducă farmecul muzicii mai aproape de oameni\, în cadrul festiv al târgului. Astfel\, spectacolul de inaugurare\, care va avea loc vineri\, 11 aprilie\, include momentul artistic „Bal venețian pe lac”\, care aduce împreună rafinamentul Orchestrei de cameră\, cu Meda Stanciu – solist vioară\, și eleganța Baletului Operei Române Craiova. Publicul este invitat\, în jurul orei 20.00\, să savureze un moment unic\, inspirat de atmosfera carnavalului venețian\, în decorul fermecător format din pontonul și insula de pe lacul din Parcul Nicolae Romanescu. \nPrin aceste evenimente\, Opera Română Craiova se alătură inițiativelor culturale dedicate sărbătorilor pascale\, contribuind la conturarea unei atmosfere festive prin muzică\, dans și poveste. Târgul de Paşte\, organizat de Primăria Municipiului Craiova\, se desfășoară în perioada 11 aprilie – 1 mai 2025\, tema acestei ediții fiind Carnavalul Primăverii.
URL:https://craiovalive.ro/eveniment/bal-venetian-pe-lac/2025-04-30/
LOCATION:Parcul Nicolae Romanescu\, Craiova\, Dolj\, România
CATEGORIES:Muzică
ATTACH;FMTTYPE=image/jpeg:https://craiovalive.ro/wp-content/uploads/2025/04/Bal-venetian-pe-lac.jpg
ORGANIZER;CN="Opera Rom%C3%A2n%C4%83 Craiova":MAILTO:rezervari@operacraiova.ro
GEO:44.301907335609;23.799200026224
END:VEVENT
BEGIN:VEVENT
DTSTART;TZID=Europe/Bucharest:20250501T204500
DTEND;TZID=Europe/Bucharest:20250501T213000
DTSTAMP:20260425T063108
CREATED:20250409T123555Z
LAST-MODIFIED:20250428T192929Z
UID:10006211-1746132300-1746135000@craiovalive.ro
SUMMARY:Bal Venețian pe Lac
DESCRIPTION: Magia Operei la Târgul de Paște Craiova 2025 \nOpera Română Craiova îi invită pe vizitatorii Târgului de Paște\, organizat de Primăria Municipiului Craiova\, să se bucure de evenimente speciale\, menite să aducă farmecul muzicii mai aproape de oameni\, în cadrul festiv al târgului. Astfel\, spectacolul de inaugurare\, care va avea loc vineri\, 11 aprilie\, include momentul artistic „Bal venețian pe lac”\, care aduce împreună rafinamentul Orchestrei de cameră\, cu Meda Stanciu – solist vioară\, și eleganța Baletului Operei Române Craiova. Publicul este invitat\, în jurul orei 20.00\, să savureze un moment unic\, inspirat de atmosfera carnavalului venețian\, în decorul fermecător format din pontonul și insula de pe lacul din Parcul Nicolae Romanescu. \nPrin aceste evenimente\, Opera Română Craiova se alătură inițiativelor culturale dedicate sărbătorilor pascale\, contribuind la conturarea unei atmosfere festive prin muzică\, dans și poveste. Târgul de Paşte\, organizat de Primăria Municipiului Craiova\, se desfășoară în perioada 11 aprilie – 1 mai 2025\, tema acestei ediții fiind Carnavalul Primăverii.
URL:https://craiovalive.ro/eveniment/bal-venetian-pe-lac/2025-05-01/
LOCATION:Parcul Nicolae Romanescu\, Craiova\, Dolj\, România
CATEGORIES:Muzică
ATTACH;FMTTYPE=image/jpeg:https://craiovalive.ro/wp-content/uploads/2025/04/Bal-venetian-pe-lac.jpg
ORGANIZER;CN="Opera Rom%C3%A2n%C4%83 Craiova":MAILTO:rezervari@operacraiova.ro
GEO:44.301907335609;23.799200026224
END:VEVENT
BEGIN:VEVENT
DTSTART;TZID=Europe/Bucharest:20250502T190000
DTEND;TZID=Europe/Bucharest:20250502T203000
DTSTAMP:20260425T063108
CREATED:20250406T211157Z
LAST-MODIFIED:20250429T081841Z
UID:10006120-1746212400-1746217800@craiovalive.ro
SUMMARY:Roots Season - DIRIJOR: DAVID SCHLAGER - Tablouri dintr-o expoziție
DESCRIPTION:Roots Season: DIRIJOR: DAVID SCHLAGER\nVINERI 02 MAI 2025 – 19:00 Sala Filarmonicii Oltenia \nORCHESTRA SIMFONICă A FILARMONICII OLTENIA \nDirijor\nDAVID SCHLAGER – AUSTRIA \nSolişti\nȘTEFAN PRETULEAC – pian \nProgram\nFrédéric Chopin Concertul nr. 1 în Mi minor pentru pian și orchestră\, op. 11\nModest Musorgski / Maurice Ravel Tablouri dintr-o expoziție
URL:https://craiovalive.ro/eveniment/roots-season-dirijor-david-schlager/
LOCATION:Filarmonica Oltenia\, Calea Unirii\, nr. 16\, Craiova\, Dolj\, 200585\, România
CATEGORIES:Muzică
ATTACH;FMTTYPE=image/jpeg:https://craiovalive.ro/wp-content/uploads/2025/04/Roots-Season-DIRIJOR-DaVID-SCHLAGER.jpg
ORGANIZER;CN="Filarmonica Oltenia Craiova":MAILTO:secretariat@filarmonica-oltenia.ro
GEO:44.3172308;23.7944364
X-APPLE-STRUCTURED-LOCATION;VALUE=URI;X-ADDRESS=Filarmonica Oltenia Calea Unirii nr. 16 Craiova Dolj 200585 România;X-APPLE-RADIUS=500;X-TITLE=Calea Unirii\, nr. 16:geo:23.7944364,44.3172308
END:VEVENT
END:VCALENDAR