BEGIN:VCALENDAR
VERSION:2.0
PRODID:-//Craiova Live - ECPv6.15.18//NONSGML v1.0//EN
CALSCALE:GREGORIAN
METHOD:PUBLISH
X-ORIGINAL-URL:https://craiovalive.ro
X-WR-CALDESC:Evenimente pentru Craiova Live
REFRESH-INTERVAL;VALUE=DURATION:PT1H
X-Robots-Tag:noindex
X-PUBLISHED-TTL:PT1H
BEGIN:VTIMEZONE
TZID:Europe/Bucharest
BEGIN:DAYLIGHT
TZOFFSETFROM:+0200
TZOFFSETTO:+0300
TZNAME:EEST
DTSTART:20240331T010000
END:DAYLIGHT
BEGIN:STANDARD
TZOFFSETFROM:+0300
TZOFFSETTO:+0200
TZNAME:EET
DTSTART:20241027T010000
END:STANDARD
BEGIN:DAYLIGHT
TZOFFSETFROM:+0200
TZOFFSETTO:+0300
TZNAME:EEST
DTSTART:20250330T010000
END:DAYLIGHT
BEGIN:STANDARD
TZOFFSETFROM:+0300
TZOFFSETTO:+0200
TZNAME:EET
DTSTART:20251026T010000
END:STANDARD
BEGIN:DAYLIGHT
TZOFFSETFROM:+0200
TZOFFSETTO:+0300
TZNAME:EEST
DTSTART:20260329T010000
END:DAYLIGHT
BEGIN:STANDARD
TZOFFSETFROM:+0300
TZOFFSETTO:+0200
TZNAME:EET
DTSTART:20261025T010000
END:STANDARD
END:VTIMEZONE
BEGIN:VEVENT
DTSTART;TZID=Europe/Bucharest:20250802T230000
DTEND;TZID=Europe/Bucharest:20250803T050000
DTSTAMP:20260424T184319
CREATED:20250716T202719Z
LAST-MODIFIED:20250731T134217Z
UID:10007733-1754175600-1754197200@craiovalive.ro
SUMMARY:Concert The Urs @ Crush Summer
DESCRIPTION:The Urs – Crush Summer\nsâmbătă\, 2 august 2025\, 23:00 – duminică\, 3 august 2025\, 05:00 \n0732 223 689 RSVP 0766 705 254\n​​​​​​​70 lei bilet la intrare pentru fete si baieti
URL:https://craiovalive.ro/eveniment/concert-the-urs-crush-summer/
LOCATION:Dolj
CATEGORIES:Muzică,Party
ATTACH;FMTTYPE=image/jpeg:https://craiovalive.ro/wp-content/uploads/2025/07/Concert-The-Urs-@-Crush-Summer-1.jpg
END:VEVENT
BEGIN:VEVENT
DTSTART;TZID=Europe/Bucharest:20250806T210000
DTEND;TZID=Europe/Bucharest:20250806T223000
DTSTAMP:20260424T184319
CREATED:20250805T105627Z
LAST-MODIFIED:20250805T105627Z
UID:10007885-1754514000-1754519400@craiovalive.ro
SUMMARY:Impro Jazz Session cu Coti Alexandru X Tobitză
DESCRIPTION: Impro Jazz Session cu Coti Alexandru X Tobitză Vino să simți vibe-ul verii în cel mai cool colț de jazz din oraș – Silent Garden!Un concert live în care muzica prinde viață pe moment\, fără reguli\, doar emoție pură.\n 6 August Ora 21:00 @shhh.silentgarden_project 30 RON Artist FeeNu rata magia jazz-ului în aer liber!\nRezervări Wp la 0771200878 și pe @shhh.silentgarden_project
URL:https://craiovalive.ro/eveniment/impro-jazz-session-cu-coti-alexandru-x-tobitza/
LOCATION:Dolj
CATEGORIES:Muzică
ATTACH;FMTTYPE=image/jpeg:https://craiovalive.ro/wp-content/uploads/2025/08/Impro-Jazz-Session-cu-Coti-Alexandru-X-Tobitza.jpg
END:VEVENT
BEGIN:VEVENT
DTSTART;TZID=Europe/Bucharest:20250823T193000
DTEND;TZID=Europe/Bucharest:20250823T220000
DTSTAMP:20260424T184319
CREATED:20250805T110239Z
LAST-MODIFIED:20250805T110308Z
UID:10007887-1755977400-1755986400@craiovalive.ro
SUMMARY:Concert VAMA @ SPOT Festival
DESCRIPTION:🎶 Concert VAMA la Promenada Craiova! \n📅 23 august | 🕗 20:30 | 📍 Parcarea Reserved \nVara asta se cântă cu voce tare și inimă deschisă\, alături de VAMA\, într-un concert live plin de emoție și energie\, în cadrul SPOT Festival! 💛🌙 Adu-ți gașca\, familia și persoanele dragi și vino la o seară epică\, în aer liber! \n🎧 Începem încălzirea de la ora 19:30 cu mixuri fresh de la DJ Gius\, iar de la 20:30 scena aparține trupei VAMA. \n\n🎟️ Cum intri la concert?\nSimplu și gratuit\, cu aplicația SPOT! Brățările de acces sunt disponibile începând cu 12 august: \n\n📲 Descarcă aplicația SPOT din App Store sau Google Play\, dacă nu o ai deja.\n🏬 Selectează Promenada Craiova ca mall favorit.\n🎁 Intră în secțiunea „Cheltuie puncte & Alege recompense”.\n🎫 Selectează brățara de acces la concert (costă 0 puncte).\n✅ Apasă „Cumpără acum” pentru a o rezerva.\n🏁 Vino în mall\, la Info Point\, apasă „Revendică acum” în aplicație și scanează codul QR pentru a primi brățara.\n\n\n📍 Accesul în zona de concert se face începând cu ora 19:00.\n🎉 Pregătește-te să ne distrăm cel puțin la fel de tare ca anul trecut – cu muzică live si vibe de festival într-o super seară de vară! Ne vedem la SPOT Festival\, unde vara se simte din plin. 🔥✨
URL:https://craiovalive.ro/eveniment/concert-vama-spot-festival/
LOCATION:Promenada Mall\, Calea Severinului 61\, Craiova\, Dolj\, România
CATEGORIES:Muzică
ATTACH;FMTTYPE=image/jpeg:https://craiovalive.ro/wp-content/uploads/2025/08/Concert-VAMA-@-SPOT-Festival.jpg
GEO:44.3487242;23.7559265
X-APPLE-STRUCTURED-LOCATION;VALUE=URI;X-ADDRESS=Promenada Mall Calea Severinului 61 Craiova Dolj România;X-APPLE-RADIUS=500;X-TITLE=Calea Severinului 61:geo:23.7559265,44.3487242
END:VEVENT
BEGIN:VEVENT
DTSTART;TZID=Europe/Bucharest:20250824T200000
DTEND;TZID=Europe/Bucharest:20250824T220000
DTSTAMP:20260424T184319
CREATED:20250813T195127Z
LAST-MODIFIED:20250813T195127Z
UID:10007922-1756065600-1756072800@craiovalive.ro
SUMMARY:Dodo - Concert pentru Luna @Biergarten
DESCRIPTION:Trenul pleacă încet de la Si. Uşor în acut.Ajunge după un timp în Re\, unde se împământează în grave și rămâne întârziat în Fa#\, printre nişte halouri de gheață.The Journey of B minor to the Moon.
URL:https://craiovalive.ro/eveniment/dodo-concert-pentru-luna-biergarten/
LOCATION:Dolj
CATEGORIES:Muzică
ATTACH;FMTTYPE=image/jpeg:https://craiovalive.ro/wp-content/uploads/2025/08/Dodo-Concert-pentru-Luna-@Biergarten.jpg
END:VEVENT
BEGIN:VEVENT
DTSTART;TZID=Europe/Bucharest:20250827T203000
DTEND;TZID=Europe/Bucharest:20250827T220000
DTSTAMP:20260424T184319
CREATED:20250819T154110Z
LAST-MODIFIED:20250819T154110Z
UID:10007937-1756326600-1756332000@craiovalive.ro
SUMMARY:Concert No Antidote (acoustic) @Silent Garden
DESCRIPTION:Miercuri\, pe 27 august\, continuăm serile de concerte la Silent Garden (Craiova\, Centru Vechi\, Str. Olteț\, nr. 1). De data aceasta venim în formulă completă și vă pregătim un acustic memorabil\, cu multe hituri cunoscute interpretate în stilul nostru propriu.Ora: 20:30REZERVĂRI: 0771 200 878Intrare: 35 lei
URL:https://craiovalive.ro/eveniment/concert-no-antidote-acoustic-silent-garden/
LOCATION:Shhh! Silent Garden\, Str. Olteț\, nr. 1\, Craiova\, Dolj\, România
CATEGORIES:Muzică
ATTACH;FMTTYPE=image/jpeg:https://craiovalive.ro/wp-content/uploads/2025/08/Concert-No-Antidote-acoustic-@Silent-Garden.jpg
GEO:44.317802098137;23.797564215092
X-APPLE-STRUCTURED-LOCATION;VALUE=URI;X-ADDRESS=Shhh! Silent Garden Str. Olteț nr. 1 Craiova Dolj România;X-APPLE-RADIUS=500;X-TITLE=Str. Olteț\, nr. 1:geo:23.797564215092,44.317802098137
END:VEVENT
END:VCALENDAR