BEGIN:VCALENDAR
VERSION:2.0
PRODID:-//Craiova Live - ECPv6.15.18//NONSGML v1.0//EN
CALSCALE:GREGORIAN
METHOD:PUBLISH
X-ORIGINAL-URL:https://craiovalive.ro
X-WR-CALDESC:Evenimente pentru Craiova Live
REFRESH-INTERVAL;VALUE=DURATION:PT1H
X-Robots-Tag:noindex
X-PUBLISHED-TTL:PT1H
BEGIN:VTIMEZONE
TZID:Europe/Bucharest
BEGIN:DAYLIGHT
TZOFFSETFROM:+0200
TZOFFSETTO:+0300
TZNAME:EEST
DTSTART:20240331T010000
END:DAYLIGHT
BEGIN:STANDARD
TZOFFSETFROM:+0300
TZOFFSETTO:+0200
TZNAME:EET
DTSTART:20241027T010000
END:STANDARD
BEGIN:DAYLIGHT
TZOFFSETFROM:+0200
TZOFFSETTO:+0300
TZNAME:EEST
DTSTART:20250330T010000
END:DAYLIGHT
BEGIN:STANDARD
TZOFFSETFROM:+0300
TZOFFSETTO:+0200
TZNAME:EET
DTSTART:20251026T010000
END:STANDARD
BEGIN:DAYLIGHT
TZOFFSETFROM:+0200
TZOFFSETTO:+0300
TZNAME:EEST
DTSTART:20260329T010000
END:DAYLIGHT
BEGIN:STANDARD
TZOFFSETFROM:+0300
TZOFFSETTO:+0200
TZNAME:EET
DTSTART:20261025T010000
END:STANDARD
END:VTIMEZONE
BEGIN:VEVENT
DTSTART;TZID=Europe/Bucharest:20251107T090000
DTEND;TZID=Europe/Bucharest:20251109T120000
DTSTAMP:20260424T190145
CREATED:20250914T172637Z
LAST-MODIFIED:20250914T172637Z
UID:10009726-1762506000-1762689600@craiovalive.ro
SUMMARY:MEDCARE 360
DESCRIPTION:MEDCARE 360 își propune să reunească profesioniștii din domeniul sănătății – asistenți medicali\, tehnicieni\, medici primari / specialiști / rezidenți și studenți – pentru a explora noi direcții și a dezvolta colaborări interdisciplinare în practica medicală.\nConferința va cuprinde sesiuni științifice\, workshop-uri și discuții interactive ce vor pune accentul pe inovație\, excelență profesională și dezvoltarea unor soluții eficiente în practica de zi cu zi.
URL:https://craiovalive.ro/eveniment/medcare-360/
LOCATION:Dolj
CATEGORIES:Medicină
ATTACH;FMTTYPE=image/jpeg:https://craiovalive.ro/wp-content/uploads/2025/09/MEDCARE-360.jpg
END:VEVENT
END:VCALENDAR