BEGIN:VCALENDAR
VERSION:2.0
PRODID:-//Craiova Live - ECPv6.15.18//NONSGML v1.0//EN
CALSCALE:GREGORIAN
METHOD:PUBLISH
X-WR-CALNAME:Craiova Live
X-ORIGINAL-URL:https://craiovalive.ro
X-WR-CALDESC:Evenimente pentru Craiova Live
REFRESH-INTERVAL;VALUE=DURATION:PT1H
X-Robots-Tag:noindex
X-PUBLISHED-TTL:PT1H
BEGIN:VTIMEZONE
TZID:Europe/Bucharest
BEGIN:DAYLIGHT
TZOFFSETFROM:+0200
TZOFFSETTO:+0300
TZNAME:EEST
DTSTART:20240331T010000
END:DAYLIGHT
BEGIN:STANDARD
TZOFFSETFROM:+0300
TZOFFSETTO:+0200
TZNAME:EET
DTSTART:20241027T010000
END:STANDARD
BEGIN:DAYLIGHT
TZOFFSETFROM:+0200
TZOFFSETTO:+0300
TZNAME:EEST
DTSTART:20250330T010000
END:DAYLIGHT
BEGIN:STANDARD
TZOFFSETFROM:+0300
TZOFFSETTO:+0200
TZNAME:EET
DTSTART:20251026T010000
END:STANDARD
BEGIN:DAYLIGHT
TZOFFSETFROM:+0200
TZOFFSETTO:+0300
TZNAME:EEST
DTSTART:20260329T010000
END:DAYLIGHT
BEGIN:STANDARD
TZOFFSETFROM:+0300
TZOFFSETTO:+0200
TZNAME:EET
DTSTART:20261025T010000
END:STANDARD
END:VTIMEZONE
BEGIN:VEVENT
DTSTART;TZID=Europe/Bucharest:20250522T170000
DTEND;TZID=Europe/Bucharest:20250522T190000
DTSTAMP:20260425T062905
CREATED:20250519T090723Z
LAST-MODIFIED:20250519T090723Z
UID:10006579-1747933200-1747940400@craiovalive.ro
SUMMARY:Conferința Societății Române de Fiziologie „O viziune Fizio-Logică asupra vieții / A Physio-Logical Vision of Life”\, ediția XXXV
DESCRIPTION:În inima Olteniei\, tărâm al spiritului neîmblânzit\, unde tradiția se împletește cu inovația\, avem deosebita bucurie de a vă invita la cea de-a XXXV-a Conferință a Societății Române de Fiziologie „O viziune Fizio-Logică asupra vieții / A Physio-Logical Vision of Life”\, organizată la Craiova\, între 22-24 mai 2025.Așa cum romanii și vechii Bani ai Craiovei au lăsat o moștenire durabilă în istoria acestor locuri\, la fel și fiziologia își menține rolul fundamental în medicina modernă. Într-o lume aflată într-o continuă transformare\, unde tehnologia redefinește granițele cunoașterii\, fiziologia rămâne pilonul care leagă conceptele fundamentale de inovația practică.Vă invităm să fiți oaspeții noștri pentru ca împreună să:– explorăm frontierele științei – de la mecanisme celulare la aplicații clinice revoluționare.– construim conexiuni – colaborarea între cercetători\, medici și profesori este esențială pentru progres.– împărtășim idei și inspirație – pentru că fiziologia nu este doar despre studiu\, ci și despre viziune\, curiozitate și inovație.Craiova\, oraș cu o energie aparte (așa cum o să descoperim împreună)\, vă așteaptă să vă lăsați inspirați de spiritul oltenesc neînfricat și de pasiunea pentru cunoaștere. Aici s-au conturat destine și s-au născut idei care au schimbat lumea – iar acum este momentul să scriem împreună un nou capitol în fiziologie dar și în viața noastră!Vă așteptăm cu drag la un eveniment care îmbină știința\, pasiunea și tradiția!https://www.srf2025.ro/
URL:https://craiovalive.ro/eveniment/conferinta-societatii-romane-de-fiziologie-o-viziune-fizio-logica-asupra-vietii-a-physio-logical-vision-of-life-editia-xxxv/2025-05-22/
LOCATION:Dolj
CATEGORIES:Conferință,Medicină
ATTACH;FMTTYPE=image/jpeg:https://craiovalive.ro/wp-content/uploads/2025/05/Conferinta-Societatii-Romane-de-Fiziologie-„O-viziune-Fizio-Logica-asupra-vietii-A-Physio-Logical-Vision-of-Life-editia-XXXV.jpg
END:VEVENT
BEGIN:VEVENT
DTSTART;TZID=Europe/Bucharest:20250523T090000
DTEND;TZID=Europe/Bucharest:20250523T170000
DTSTAMP:20260425T062905
CREATED:20250519T090723Z
LAST-MODIFIED:20250519T090723Z
UID:10006580-1747990800-1748019600@craiovalive.ro
SUMMARY:Conferința Societății Române de Fiziologie „O viziune Fizio-Logică asupra vieții / A Physio-Logical Vision of Life”\, ediția XXXV
DESCRIPTION:În inima Olteniei\, tărâm al spiritului neîmblânzit\, unde tradiția se împletește cu inovația\, avem deosebita bucurie de a vă invita la cea de-a XXXV-a Conferință a Societății Române de Fiziologie „O viziune Fizio-Logică asupra vieții / A Physio-Logical Vision of Life”\, organizată la Craiova\, între 22-24 mai 2025.Așa cum romanii și vechii Bani ai Craiovei au lăsat o moștenire durabilă în istoria acestor locuri\, la fel și fiziologia își menține rolul fundamental în medicina modernă. Într-o lume aflată într-o continuă transformare\, unde tehnologia redefinește granițele cunoașterii\, fiziologia rămâne pilonul care leagă conceptele fundamentale de inovația practică.Vă invităm să fiți oaspeții noștri pentru ca împreună să:– explorăm frontierele științei – de la mecanisme celulare la aplicații clinice revoluționare.– construim conexiuni – colaborarea între cercetători\, medici și profesori este esențială pentru progres.– împărtășim idei și inspirație – pentru că fiziologia nu este doar despre studiu\, ci și despre viziune\, curiozitate și inovație.Craiova\, oraș cu o energie aparte (așa cum o să descoperim împreună)\, vă așteaptă să vă lăsați inspirați de spiritul oltenesc neînfricat și de pasiunea pentru cunoaștere. Aici s-au conturat destine și s-au născut idei care au schimbat lumea – iar acum este momentul să scriem împreună un nou capitol în fiziologie dar și în viața noastră!Vă așteptăm cu drag la un eveniment care îmbină știința\, pasiunea și tradiția!https://www.srf2025.ro/
URL:https://craiovalive.ro/eveniment/conferinta-societatii-romane-de-fiziologie-o-viziune-fizio-logica-asupra-vietii-a-physio-logical-vision-of-life-editia-xxxv/2025-05-23/
LOCATION:Dolj
CATEGORIES:Conferință,Medicină
ATTACH;FMTTYPE=image/jpeg:https://craiovalive.ro/wp-content/uploads/2025/05/Conferinta-Societatii-Romane-de-Fiziologie-„O-viziune-Fizio-Logica-asupra-vietii-A-Physio-Logical-Vision-of-Life-editia-XXXV.jpg
END:VEVENT
BEGIN:VEVENT
DTSTART;TZID=Europe/Bucharest:20250524T090000
DTEND;TZID=Europe/Bucharest:20250524T170000
DTSTAMP:20260425T062906
CREATED:20250519T090723Z
LAST-MODIFIED:20250519T090723Z
UID:10006581-1748077200-1748106000@craiovalive.ro
SUMMARY:Conferința Societății Române de Fiziologie „O viziune Fizio-Logică asupra vieții / A Physio-Logical Vision of Life”\, ediția XXXV
DESCRIPTION:În inima Olteniei\, tărâm al spiritului neîmblânzit\, unde tradiția se împletește cu inovația\, avem deosebita bucurie de a vă invita la cea de-a XXXV-a Conferință a Societății Române de Fiziologie „O viziune Fizio-Logică asupra vieții / A Physio-Logical Vision of Life”\, organizată la Craiova\, între 22-24 mai 2025.Așa cum romanii și vechii Bani ai Craiovei au lăsat o moștenire durabilă în istoria acestor locuri\, la fel și fiziologia își menține rolul fundamental în medicina modernă. Într-o lume aflată într-o continuă transformare\, unde tehnologia redefinește granițele cunoașterii\, fiziologia rămâne pilonul care leagă conceptele fundamentale de inovația practică.Vă invităm să fiți oaspeții noștri pentru ca împreună să:– explorăm frontierele științei – de la mecanisme celulare la aplicații clinice revoluționare.– construim conexiuni – colaborarea între cercetători\, medici și profesori este esențială pentru progres.– împărtășim idei și inspirație – pentru că fiziologia nu este doar despre studiu\, ci și despre viziune\, curiozitate și inovație.Craiova\, oraș cu o energie aparte (așa cum o să descoperim împreună)\, vă așteaptă să vă lăsați inspirați de spiritul oltenesc neînfricat și de pasiunea pentru cunoaștere. Aici s-au conturat destine și s-au născut idei care au schimbat lumea – iar acum este momentul să scriem împreună un nou capitol în fiziologie dar și în viața noastră!Vă așteptăm cu drag la un eveniment care îmbină știința\, pasiunea și tradiția!https://www.srf2025.ro/
URL:https://craiovalive.ro/eveniment/conferinta-societatii-romane-de-fiziologie-o-viziune-fizio-logica-asupra-vietii-a-physio-logical-vision-of-life-editia-xxxv/2025-05-24/
LOCATION:Dolj
CATEGORIES:Conferință,Medicină
ATTACH;FMTTYPE=image/jpeg:https://craiovalive.ro/wp-content/uploads/2025/05/Conferinta-Societatii-Romane-de-Fiziologie-„O-viziune-Fizio-Logica-asupra-vietii-A-Physio-Logical-Vision-of-Life-editia-XXXV.jpg
END:VEVENT
END:VCALENDAR