BEGIN:VCALENDAR
VERSION:2.0
PRODID:-//Craiova Live - ECPv6.15.18//NONSGML v1.0//EN
CALSCALE:GREGORIAN
METHOD:PUBLISH
X-WR-CALNAME:Craiova Live
X-ORIGINAL-URL:https://craiovalive.ro
X-WR-CALDESC:Evenimente pentru Craiova Live
REFRESH-INTERVAL;VALUE=DURATION:PT1H
X-Robots-Tag:noindex
X-PUBLISHED-TTL:PT1H
BEGIN:VTIMEZONE
TZID:Europe/Bucharest
BEGIN:DAYLIGHT
TZOFFSETFROM:+0200
TZOFFSETTO:+0300
TZNAME:EEST
DTSTART:20240331T010000
END:DAYLIGHT
BEGIN:STANDARD
TZOFFSETFROM:+0300
TZOFFSETTO:+0200
TZNAME:EET
DTSTART:20241027T010000
END:STANDARD
BEGIN:DAYLIGHT
TZOFFSETFROM:+0200
TZOFFSETTO:+0300
TZNAME:EEST
DTSTART:20250330T010000
END:DAYLIGHT
BEGIN:STANDARD
TZOFFSETFROM:+0300
TZOFFSETTO:+0200
TZNAME:EET
DTSTART:20251026T010000
END:STANDARD
BEGIN:DAYLIGHT
TZOFFSETFROM:+0200
TZOFFSETTO:+0300
TZNAME:EEST
DTSTART:20260329T010000
END:DAYLIGHT
BEGIN:STANDARD
TZOFFSETFROM:+0300
TZOFFSETTO:+0200
TZNAME:EET
DTSTART:20261025T010000
END:STANDARD
BEGIN:DAYLIGHT
TZOFFSETFROM:+0200
TZOFFSETTO:+0300
TZNAME:EEST
DTSTART:20270328T010000
END:DAYLIGHT
BEGIN:STANDARD
TZOFFSETFROM:+0300
TZOFFSETTO:+0200
TZNAME:EET
DTSTART:20271031T010000
END:STANDARD
END:VTIMEZONE
BEGIN:VEVENT
DTSTART;TZID=Europe/Bucharest:20260314T090000
DTEND;TZID=Europe/Bucharest:20260315T170000
DTSTAMP:20260424T031859
CREATED:20260312T124145Z
LAST-MODIFIED:20260312T124145Z
UID:10014172-1773478800-1773594000@craiovalive.ro
SUMMARY:Caravana Sănătății Orale
DESCRIPTION:Caravana Sănătății Orale\n14-15 martie – Craiova\, Piața Mihai Viteazul \n\n Cu ocazia Zilei Mondiale a Sănătății Orale\, celebrată în fiecare an în data de 20 Martie\, Haleon România\, lider global în sănătatea consumatorului\, și Salvați Copiii România lansează o inițiativă națională menită să susțină sănătatea orală a copiilor din comunități vulnerabile\, prin acces la produse esențiale și educație pentru prevenție\n În cadrul campaniei „Rutina ta zilnică de îngrijire orală”\, mii de copii din întreaga țară vor primi produse de bază pentru igiena orală\, precum pastă și periuțe de dinți\, alături de sesiuni educaționale despre importanța periajului zilnic și a prevenției.\n Haleon derulează Caravana Sănătății Orale\, un program dedicat publicului larg\, care are loc în mai multe orașe din țară\, în luna martie și începutul lunii aprilie. Inițiativa oferă evaluări gratuite pentru sensibilitatea dentară și sănătatea gingiilor\, evidențiind importanța alegerii produselor potrivite nevoilor individuale.\nRutina ta zilnică de îngrijire orală începe cu o vizită la Caravana Sănătății Orale. Toată luna martie\, Haleon (Parodontax & Sensodyne) și Salvați Copiii România străbat România în lung și-n lat să aducă prevenția mai aproape de tine\, printr-o caravană națională dedicată educației și evaluării sănătății orale. \nÎn cadrul Caravanei\, poți beneficia de: \n\ncontroale și testări gratuite\, oferite de medici stomatologi\ntestarea gratuită a plăcii bacteriene\nevaluarea sensibilității dentare\nrecomandări personalizate din partea medicilor stomatologi privind o rutină de îngrijire orală sănătoasă și adaptată nevoilor individuale\npremii și surprize\, pentru a încuraja adoptarea obiceiurilor zilnice corecte\n\nCaravana Sănătății Orale transformă prevenția într-o experiență accesibilă\, practică și relevantă\, ajutând oamenii să înțeleagă că o rutină zilnică de îngrijire orală sănătoasă începe cu informația corectă și recomandarea unui specialist.
URL:https://craiovalive.ro/eveniment/caravana-sanatatii-orale/
LOCATION:Piața Mihai Viteazul\, Craiova\, Dolj\, România
CATEGORIES:Medicină
ATTACH;FMTTYPE=image/jpeg:https://craiovalive.ro/wp-content/uploads/2026/03/Caravana-Sanatatii-Orale-Craiova-2026.jpg
GEO:44.31805;23.79493
END:VEVENT
BEGIN:VEVENT
DTSTART;TZID=Europe/Bucharest:20251107T090000
DTEND;TZID=Europe/Bucharest:20251109T120000
DTSTAMP:20260424T031900
CREATED:20250914T172637Z
LAST-MODIFIED:20250914T172637Z
UID:10009726-1762506000-1762689600@craiovalive.ro
SUMMARY:MEDCARE 360
DESCRIPTION:MEDCARE 360 își propune să reunească profesioniștii din domeniul sănătății – asistenți medicali\, tehnicieni\, medici primari / specialiști / rezidenți și studenți – pentru a explora noi direcții și a dezvolta colaborări interdisciplinare în practica medicală.\nConferința va cuprinde sesiuni științifice\, workshop-uri și discuții interactive ce vor pune accentul pe inovație\, excelență profesională și dezvoltarea unor soluții eficiente în practica de zi cu zi.
URL:https://craiovalive.ro/eveniment/medcare-360/
LOCATION:Dolj
CATEGORIES:Medicină
ATTACH;FMTTYPE=image/jpeg:https://craiovalive.ro/wp-content/uploads/2025/09/MEDCARE-360.jpg
END:VEVENT
BEGIN:VEVENT
DTSTART;TZID=Europe/Bucharest:20251013T180000
DTEND;TZID=Europe/Bucharest:20251013T193000
DTSTAMP:20260424T031900
CREATED:20251007T204845Z
LAST-MODIFIED:20251007T204845Z
UID:10010290-1760378400-1760383800@craiovalive.ro
SUMMARY:Sănătatea - noua monedă a antreprenorilor
DESCRIPTION: Club Afaceri Craiova organizează pe 13 octombrie 2025\, de la ora 18:00\, la Ramada Plaza Craiova\, un eveniment dedicat conexiunii dintre mediul de business și sănătate.\n Împreună cu Dr. Ciprian Nicolae – medic și antreprenor în domeniul sănătății\, vom discuta despre cât de mult contează sănătatea pentru performanța antreprenorilor\, care sunt riscurile la care ne expunem atunci când o neglijăm și ce soluții avem la îndemână pentru a construi un stil de viață echilibrat.\n Acces în sală:• Gratuit pentru membrii Club Afaceri Craiova• Pentru non-membri: 40 lei / persoană\, plata cash la eveniment\n Înscrieri: https://forms.gle/riZhSEhgS8dt3uea7\nVă așteptăm cu drag să descoperim împreună de ce sănătatea este cea mai valoroasă resursă a antreprenorilor!
URL:https://craiovalive.ro/eveniment/sanatatea-noua-moneda-a-antreprenorilor/
LOCATION:Ramada Plaza Craiova\, Calea Bucuresti\, nr 1\, Craiova\, Dolj\, România
CATEGORIES:Conferință,Medicină
ATTACH;FMTTYPE=image/jpeg:https://craiovalive.ro/wp-content/uploads/2025/10/Sanatatea-noua-moneda-a-antreprenorilor.jpg
GEO:44.3214396;23.7964694
X-APPLE-STRUCTURED-LOCATION;VALUE=URI;X-ADDRESS=Ramada Plaza Craiova Calea Bucuresti nr 1 Craiova Dolj România;X-APPLE-RADIUS=500;X-TITLE=Calea Bucuresti\, nr 1:geo:23.7964694,44.3214396
END:VEVENT
BEGIN:VEVENT
DTSTART;TZID=Europe/Bucharest:20250920T110000
DTEND;TZID=Europe/Bucharest:20250920T210000
DTSTAMP:20260424T031900
CREATED:20250914T172207Z
LAST-MODIFIED:20250914T172207Z
UID:10009725-1758366000-1758402000@craiovalive.ro
SUMMARY:Maratonul Resuscitării - Ediția I
DESCRIPTION:Învață să acorzi primul ajutor în caz de stop cardiorespirator!Maratonul Resuscitării – Ediția I – CraiovaPromenada Craiova \nCe este Maratonul Resuscitării?Maratonul Resuscitării este o inițiativă lansată la nivelul SMURD Cluj și extinsă național de Fundația pentru SMURD prin care ne dorim educarea populației cu privire la importanța vitală a acordării primului ajutor în caz de stop cardiorespirator.\nDe ce este vital să participi?4 din 5 stopuri cardiorespiratorii se întâmplă acasă.Dacă până la sosirea echipajelor de urgență victima nu beneficiază de manevre de resuscitare din partea celor din jur\, șansele ca aceasta să supraviețuiască scad cu 10% în fiecare minut care trece.\nAvând în vedere datele menționate mai sus\, este de la sine înțeles că dacă ne confruntăm vreodată cu o situație în care suntem martor al unei persoane care a suferit un stop cardiorespirator\, șansele de supraviețuire ale victimei depind în cea mai mare măsură de reacția noastră.\nRecunoașterea rapidă a stopului cardiorespirator\, apelarea serviciilor de urgență prin numărul unic  și aplicarea manevrelor de resuscitare până la preluarea victimei de către echipajele medicale de urgență sunt vitale pentru supraviețuire și recuperare cu un deficit neurologic cât mai redus.\nCum se desfășoară Maratonul Resuscitării?În cadrul evenimentului\, împreună cu peste 50 de medici\, paramedici\, asistenți\, studenți la medicină și voluntari SMURD\, veți exersa pe manechine\, în cadrul stațiilor practice\, cum recunoașteți și cum trebuie să acționați în cazul unui stop cardiorespirator.\nMaratonul va cuprinde peste 15 stații practice cu câte 2 instructori fiecare\, ce vor oferi instruiri succesive a câte 30 de minute. Acestea se vor relua pe toată durata evenimentului pentru fiecare nou grup de participanți.\nParticiparea este gratuită\, înscrierea în prealabil nefiind necesară\, evenimentul desfășurându-se în Promenada Craiova în intervalul orar 11.00 – 21.00.
URL:https://craiovalive.ro/eveniment/maratonul-resuscitarii-editia-i/
LOCATION:Promenada Mall\, Calea Severinului 61\, Craiova\, Dolj\, România
CATEGORIES:Medicină
ATTACH;FMTTYPE=image/jpeg:https://craiovalive.ro/wp-content/uploads/2025/09/Maratonul-Resuscitarii-Editia-I.jpg
GEO:44.3487242;23.7559265
X-APPLE-STRUCTURED-LOCATION;VALUE=URI;X-ADDRESS=Promenada Mall Calea Severinului 61 Craiova Dolj România;X-APPLE-RADIUS=500;X-TITLE=Calea Severinului 61:geo:23.7559265,44.3487242
END:VEVENT
BEGIN:VEVENT
DTSTART;TZID=Europe/Bucharest:20250524T090000
DTEND;TZID=Europe/Bucharest:20250524T170000
DTSTAMP:20260424T031900
CREATED:20250519T090723Z
LAST-MODIFIED:20250519T090723Z
UID:10006581-1748077200-1748106000@craiovalive.ro
SUMMARY:Conferința Societății Române de Fiziologie „O viziune Fizio-Logică asupra vieții / A Physio-Logical Vision of Life”\, ediția XXXV
DESCRIPTION:În inima Olteniei\, tărâm al spiritului neîmblânzit\, unde tradiția se împletește cu inovația\, avem deosebita bucurie de a vă invita la cea de-a XXXV-a Conferință a Societății Române de Fiziologie „O viziune Fizio-Logică asupra vieții / A Physio-Logical Vision of Life”\, organizată la Craiova\, între 22-24 mai 2025.Așa cum romanii și vechii Bani ai Craiovei au lăsat o moștenire durabilă în istoria acestor locuri\, la fel și fiziologia își menține rolul fundamental în medicina modernă. Într-o lume aflată într-o continuă transformare\, unde tehnologia redefinește granițele cunoașterii\, fiziologia rămâne pilonul care leagă conceptele fundamentale de inovația practică.Vă invităm să fiți oaspeții noștri pentru ca împreună să:– explorăm frontierele științei – de la mecanisme celulare la aplicații clinice revoluționare.– construim conexiuni – colaborarea între cercetători\, medici și profesori este esențială pentru progres.– împărtășim idei și inspirație – pentru că fiziologia nu este doar despre studiu\, ci și despre viziune\, curiozitate și inovație.Craiova\, oraș cu o energie aparte (așa cum o să descoperim împreună)\, vă așteaptă să vă lăsați inspirați de spiritul oltenesc neînfricat și de pasiunea pentru cunoaștere. Aici s-au conturat destine și s-au născut idei care au schimbat lumea – iar acum este momentul să scriem împreună un nou capitol în fiziologie dar și în viața noastră!Vă așteptăm cu drag la un eveniment care îmbină știința\, pasiunea și tradiția!https://www.srf2025.ro/
URL:https://craiovalive.ro/eveniment/conferinta-societatii-romane-de-fiziologie-o-viziune-fizio-logica-asupra-vietii-a-physio-logical-vision-of-life-editia-xxxv/2025-05-24/
LOCATION:Dolj
CATEGORIES:Conferință,Medicină
ATTACH;FMTTYPE=image/jpeg:https://craiovalive.ro/wp-content/uploads/2025/05/Conferinta-Societatii-Romane-de-Fiziologie-„O-viziune-Fizio-Logica-asupra-vietii-A-Physio-Logical-Vision-of-Life-editia-XXXV.jpg
END:VEVENT
END:VCALENDAR