BEGIN:VCALENDAR
VERSION:2.0
PRODID:-//Craiova Live - ECPv6.15.18//NONSGML v1.0//EN
CALSCALE:GREGORIAN
METHOD:PUBLISH
X-ORIGINAL-URL:https://craiovalive.ro
X-WR-CALDESC:Evenimente pentru Craiova Live
REFRESH-INTERVAL;VALUE=DURATION:PT1H
X-Robots-Tag:noindex
X-PUBLISHED-TTL:PT1H
BEGIN:VTIMEZONE
TZID:Europe/Bucharest
BEGIN:DAYLIGHT
TZOFFSETFROM:+0200
TZOFFSETTO:+0300
TZNAME:EEST
DTSTART:20240331T010000
END:DAYLIGHT
BEGIN:STANDARD
TZOFFSETFROM:+0300
TZOFFSETTO:+0200
TZNAME:EET
DTSTART:20241027T010000
END:STANDARD
BEGIN:DAYLIGHT
TZOFFSETFROM:+0200
TZOFFSETTO:+0300
TZNAME:EEST
DTSTART:20250330T010000
END:DAYLIGHT
BEGIN:STANDARD
TZOFFSETFROM:+0300
TZOFFSETTO:+0200
TZNAME:EET
DTSTART:20251026T010000
END:STANDARD
BEGIN:DAYLIGHT
TZOFFSETFROM:+0200
TZOFFSETTO:+0300
TZNAME:EEST
DTSTART:20260329T010000
END:DAYLIGHT
BEGIN:STANDARD
TZOFFSETFROM:+0300
TZOFFSETTO:+0200
TZNAME:EET
DTSTART:20261025T010000
END:STANDARD
END:VTIMEZONE
BEGIN:VEVENT
DTSTART;TZID=Europe/Bucharest:20251018T180000
DTEND;TZID=Europe/Bucharest:20251018T193000
DTSTAMP:20260424T191511
CREATED:20250921T194331Z
LAST-MODIFIED:20250921T194331Z
UID:10010247-1760810400-1760815800@craiovalive.ro
SUMMARY:Misterele Magiei
DESCRIPTION:Misterele Magiei  \nCasa Studentilor Craiova   \n18 Octombrie 2025 ora 18:00 \n“Misterele Magiei” – este unul dintre cele mai apreciate spectacole de magie pentru toată familia din România. Spectacolul susținut de Magicianul Christianis vă introduce într-o lume fantastică care surprinde prin apariții și dispariții misterioase\, iluzii comice și multiplicări\, o feerie magică ce încânta prin eleganță și rafinament\,un spectacol incendiar ce include evadări\, levitatii\, apariții de porumbei și papagali Ara. Intră intr-o lume plină de farmec și mister alături de magicianul Christianis\, descoperă tainele magiei intr-un show unde imposibilul devine posibil\, un spectacol interactiv pentru toate vârstele.
URL:https://craiovalive.ro/eveniment/misterele-magiei/
LOCATION:Casa de Cultură a Studenților Craiova\, Str. Eugeniu Carada\, nr. 10\, Craiova\, Dolj\, 200390\, România
CATEGORIES:Magie
ATTACH;FMTTYPE=image/jpeg:https://craiovalive.ro/wp-content/uploads/2025/09/Misterele-Magiei-Craiova.jpeg
GEO:44.3158109;23.8003284
X-APPLE-STRUCTURED-LOCATION;VALUE=URI;X-ADDRESS=Casa de Cultură a Studenților Craiova Str. Eugeniu Carada nr. 10 Craiova Dolj 200390 România;X-APPLE-RADIUS=500;X-TITLE=Str. Eugeniu Carada\, nr. 10:geo:23.8003284,44.3158109
END:VEVENT
END:VCALENDAR