BEGIN:VCALENDAR
VERSION:2.0
PRODID:-//Craiova Live - ECPv6.15.18//NONSGML v1.0//EN
CALSCALE:GREGORIAN
METHOD:PUBLISH
X-ORIGINAL-URL:https://craiovalive.ro
X-WR-CALDESC:Evenimente pentru Craiova Live
REFRESH-INTERVAL;VALUE=DURATION:PT1H
X-Robots-Tag:noindex
X-PUBLISHED-TTL:PT1H
BEGIN:VTIMEZONE
TZID:Europe/Bucharest
BEGIN:DAYLIGHT
TZOFFSETFROM:+0200
TZOFFSETTO:+0300
TZNAME:EEST
DTSTART:20240331T010000
END:DAYLIGHT
BEGIN:STANDARD
TZOFFSETFROM:+0300
TZOFFSETTO:+0200
TZNAME:EET
DTSTART:20241027T010000
END:STANDARD
BEGIN:DAYLIGHT
TZOFFSETFROM:+0200
TZOFFSETTO:+0300
TZNAME:EEST
DTSTART:20250330T010000
END:DAYLIGHT
BEGIN:STANDARD
TZOFFSETFROM:+0300
TZOFFSETTO:+0200
TZNAME:EET
DTSTART:20251026T010000
END:STANDARD
BEGIN:DAYLIGHT
TZOFFSETFROM:+0200
TZOFFSETTO:+0300
TZNAME:EEST
DTSTART:20260329T010000
END:DAYLIGHT
BEGIN:STANDARD
TZOFFSETFROM:+0300
TZOFFSETTO:+0200
TZNAME:EET
DTSTART:20261025T010000
END:STANDARD
END:VTIMEZONE
BEGIN:VEVENT
DTSTART;TZID=Europe/Bucharest:20250530T180000
DTEND;TZID=Europe/Bucharest:20250530T193000
DTSTAMP:20260425T012622
CREATED:20250525T230911Z
LAST-MODIFIED:20250525T230911Z
UID:10006624-1748628000-1748633400@craiovalive.ro
SUMMARY:Magic Revolution Show - Arta magică a circului - Craiova
DESCRIPTION:✨🎪🤹🎭💥 CRAIOVA 💥🎭🤹🎪✨\n📆 VINERI 30 mai ora 18:00 Cercul Militar\n🎭 #MagicRevolutionShow creator de spectacole cu tematică ajunge din nou în orașul tău cu un spectacol SENZAȚIONAL\, după 3 generații de artiști și turnee prin țară și străinătate punem în scenă 🎪 \,\, ARTA MAGICĂ A CIRCULUI ” 🎪 cu un program unic prezentat pe marile scene din VIENA 🏛️\nMagie\, Iluzionism\, Efectele speciale\, Iluzii de scenă\, Jonglerie Modernă\, Quick Change Magic\, Apariții & Dispariții (iepuri-porumbei) Evadări din sacul magic\, Levitație spectaculoasă si multe alte surprize.\nUn spectacol interactiv\, educativ\, distractiv pentru întreaga familie!!!\n🎩 ATELIER DE MAGIE 🎩\nVino să înveți si puțină magie si poți achiziționa aparate magice și trucuri haioase pentru acasă sa îți distrezi prietenii si colegii.\nSau poți câștiga un truc MAGIC GRATUIT in cadrul concursului prezentat în spectacol 🎁 PLUS UN IEPURAȘ ADEVĂRAT 🐰\nPOȚI PLECA ACASĂ CU IEPURELE MAGICIANULUI 🎩\nRezervări online exclusiv pe platforma BLT.ro ( în primele rânduri) rezervă rând\, loc si număr si le ai asigurate. Orașele se regăsesc în link👇\nhttps://www.blt.ro/magic-revolution-show-events.html\n🎫Biletele cu reducere se pot achiziționa doar fizic de la sala de evenimente în limita locurilor disponibile înainte cu 1 oră de începerea spectacolului. (Cu posibilitatea de a se susține al doilea spectacol)\nRezervări: 0740645354\n🎭 ” Magia este o artă și arta o facem noi ” 🎭
URL:https://craiovalive.ro/eveniment/magic-revolution-show-arta-magica-a-circului-craiova/
LOCATION:Cercul Militar Craiova\, Str. Marin Sorescu\, nr. 2\, Craiova\, Dolj\, 200642\, România
CATEGORIES:Magie
ATTACH;FMTTYPE=image/jpeg:https://craiovalive.ro/wp-content/uploads/2025/05/Magic-Revolution-Show-Arta-magica-a-circului-Craiova.jpg
GEO:44.308454;23.7956757
X-APPLE-STRUCTURED-LOCATION;VALUE=URI;X-ADDRESS=Cercul Militar Craiova Str. Marin Sorescu nr. 2 Craiova Dolj 200642 România;X-APPLE-RADIUS=500;X-TITLE=Str. Marin Sorescu\, nr. 2:geo:23.7956757,44.308454
END:VEVENT
END:VCALENDAR