BEGIN:VCALENDAR
VERSION:2.0
PRODID:-//Craiova Live - ECPv6.15.18//NONSGML v1.0//EN
CALSCALE:GREGORIAN
METHOD:PUBLISH
X-WR-CALNAME:Craiova Live
X-ORIGINAL-URL:https://craiovalive.ro
X-WR-CALDESC:Evenimente pentru Craiova Live
REFRESH-INTERVAL;VALUE=DURATION:PT1H
X-Robots-Tag:noindex
X-PUBLISHED-TTL:PT1H
BEGIN:VTIMEZONE
TZID:Europe/Bucharest
BEGIN:DAYLIGHT
TZOFFSETFROM:+0200
TZOFFSETTO:+0300
TZNAME:EEST
DTSTART:20240331T010000
END:DAYLIGHT
BEGIN:STANDARD
TZOFFSETFROM:+0300
TZOFFSETTO:+0200
TZNAME:EET
DTSTART:20241027T010000
END:STANDARD
BEGIN:DAYLIGHT
TZOFFSETFROM:+0200
TZOFFSETTO:+0300
TZNAME:EEST
DTSTART:20250330T010000
END:DAYLIGHT
BEGIN:STANDARD
TZOFFSETFROM:+0300
TZOFFSETTO:+0200
TZNAME:EET
DTSTART:20251026T010000
END:STANDARD
BEGIN:DAYLIGHT
TZOFFSETFROM:+0200
TZOFFSETTO:+0300
TZNAME:EEST
DTSTART:20260329T010000
END:DAYLIGHT
BEGIN:STANDARD
TZOFFSETFROM:+0300
TZOFFSETTO:+0200
TZNAME:EET
DTSTART:20261025T010000
END:STANDARD
END:VTIMEZONE
BEGIN:VEVENT
DTSTART;TZID=Europe/Bucharest:20250518T110000
DTEND;TZID=Europe/Bucharest:20250518T130000
DTSTAMP:20260425T040311
CREATED:20250506T143208Z
LAST-MODIFIED:20250506T143208Z
UID:10006452-1747566000-1747573200@craiovalive.ro
SUMMARY:MagicShow cu Magicianul Mario Popescu
DESCRIPTION:MARIO POPESCU aduce magia la Craiova! Spectacol interactiv pentru copii\, pe 18 mai 2025.\nCraiova\, 18 mai 2025 – Copiii și părinții sunt invitați să trăiască o experiență magică de neuitat alături de celebrul magician MARIO POPESCU\, într-un spectacol interactiv și modern! Evenimentul va avea loc pe 18 mai 2025\, de la ora 11:00\, la Casa Armatei din Craiova și promite să transforme realitatea într-o lume plină de uimire și surprize. \nMARIO POPESCU\, unul dintre cei mai apreciați magicieni ai momentului\, va captiva publicul cu trucuri spectaculoase\, iluzionism de ultimă generație și momente interactive care vor implica direct copiii în magia spectacolului. Cei mici vor avea ocazia să devină asistenți de magician\, să descopere misterele trucurilor fascinante și să se bucure de un show unic\, plin de energie și entuziasm. \nAcest spectacol combină magia tradițională cu tehnologia modernă\, oferind o experiență vizuală impresionantă și o atmosferă de poveste. Râsetele\, mirarea și emoția vor fi ingredientele principale ale acestui show dedicat întregii familii! \nNu ratați această ocazie de a intra într-o lume unde imposibilul devine posibil! \nInfo:\nAccesul la eveniment se va face începând cu ora 10:30. Spectacolul va începe la ora 11:00. \nVă rugăm să vă prezentați cu cel puțin 15 minute înainte de începerea spectacolului. \n▶ Data: 18 mai 2025\n▶ Ora: 11:00\n▶ Locație: Casa Armatei\, Craiova
URL:https://craiovalive.ro/eveniment/magicshow-cu-magicianul-mario-popescu/
LOCATION:Cercul Militar Craiova\, Str. Marin Sorescu\, nr. 2\, Craiova\, Dolj\, 200642\, România
CATEGORIES:Evenimente pentru copii,Magie
ATTACH;FMTTYPE=image/jpeg:https://craiovalive.ro/wp-content/uploads/2025/05/MagicShow-cu-Magicianul-Mario-Popescu.jpg
GEO:44.308454;23.7956757
X-APPLE-STRUCTURED-LOCATION;VALUE=URI;X-ADDRESS=Cercul Militar Craiova Str. Marin Sorescu nr. 2 Craiova Dolj 200642 România;X-APPLE-RADIUS=500;X-TITLE=Str. Marin Sorescu\, nr. 2:geo:23.7956757,44.308454
END:VEVENT
END:VCALENDAR