BEGIN:VCALENDAR
VERSION:2.0
PRODID:-//Craiova Live - ECPv6.15.18//NONSGML v1.0//EN
CALSCALE:GREGORIAN
METHOD:PUBLISH
X-ORIGINAL-URL:https://craiovalive.ro
X-WR-CALDESC:Evenimente pentru Craiova Live
REFRESH-INTERVAL;VALUE=DURATION:PT1H
X-Robots-Tag:noindex
X-PUBLISHED-TTL:PT1H
BEGIN:VTIMEZONE
TZID:Europe/Bucharest
BEGIN:DAYLIGHT
TZOFFSETFROM:+0200
TZOFFSETTO:+0300
TZNAME:EEST
DTSTART:20250330T010000
END:DAYLIGHT
BEGIN:STANDARD
TZOFFSETFROM:+0300
TZOFFSETTO:+0200
TZNAME:EET
DTSTART:20251026T010000
END:STANDARD
BEGIN:DAYLIGHT
TZOFFSETFROM:+0200
TZOFFSETTO:+0300
TZNAME:EEST
DTSTART:20260329T010000
END:DAYLIGHT
BEGIN:STANDARD
TZOFFSETFROM:+0300
TZOFFSETTO:+0200
TZNAME:EET
DTSTART:20261025T010000
END:STANDARD
BEGIN:DAYLIGHT
TZOFFSETFROM:+0200
TZOFFSETTO:+0300
TZNAME:EEST
DTSTART:20270328T010000
END:DAYLIGHT
BEGIN:STANDARD
TZOFFSETFROM:+0300
TZOFFSETTO:+0200
TZNAME:EET
DTSTART:20271031T010000
END:STANDARD
END:VTIMEZONE
BEGIN:VEVENT
DTSTART;TZID=Europe/Bucharest:20260515T100000
DTEND;TZID=Europe/Bucharest:20260515T220000
DTSTAMP:20260423T224626
CREATED:20260327T113325Z
LAST-MODIFIED:20260327T113325Z
UID:10014404-1778839200-1778882400@craiovalive.ro
SUMMARY:PICNIC Craiova 2026
DESCRIPTION:Craiova\, scoate ochelarii de soare\, cheful de dans și de festival pentru că PICNIC ajunge în oraș!  Între 15 și 17 mai transformăm Piața Mihai Viteazul într-un daytime party cool\, cu DJ-i\, mâncare delicioasă și o atmosferă de neratat.După ce am cucerit Clujul și Oradea\, ajungem și în Craiova.Anunță-ți prietenii și hai să petrecem un weekend memorabil împreună!\nIntrarea este liberă. Lineup-ul va fi anunțat în curând.\nEveniment realizat în parteneriat cu Primăria Municipiului Craiova.\nBrought to you by Why Not Us. Recomandat de Street FOOD Festival.
URL:https://craiovalive.ro/eveniment/picnic-craiova-2026/2026-05-15/
LOCATION:Piața Mihai Viteazul\, Craiova\, Dolj\, România
CATEGORIES:Gastronomie
ATTACH;FMTTYPE=image/jpeg:https://craiovalive.ro/wp-content/uploads/2026/03/PICNIC-Craiova-2026.jpg
GEO:44.31805;23.79493
END:VEVENT
BEGIN:VEVENT
DTSTART;TZID=Europe/Bucharest:20260516T100000
DTEND;TZID=Europe/Bucharest:20260516T220000
DTSTAMP:20260423T224626
CREATED:20260327T113325Z
LAST-MODIFIED:20260327T113325Z
UID:10014405-1778925600-1778968800@craiovalive.ro
SUMMARY:PICNIC Craiova 2026
DESCRIPTION:Craiova\, scoate ochelarii de soare\, cheful de dans și de festival pentru că PICNIC ajunge în oraș!  Între 15 și 17 mai transformăm Piața Mihai Viteazul într-un daytime party cool\, cu DJ-i\, mâncare delicioasă și o atmosferă de neratat.După ce am cucerit Clujul și Oradea\, ajungem și în Craiova.Anunță-ți prietenii și hai să petrecem un weekend memorabil împreună!\nIntrarea este liberă. Lineup-ul va fi anunțat în curând.\nEveniment realizat în parteneriat cu Primăria Municipiului Craiova.\nBrought to you by Why Not Us. Recomandat de Street FOOD Festival.
URL:https://craiovalive.ro/eveniment/picnic-craiova-2026/2026-05-16/
LOCATION:Piața Mihai Viteazul\, Craiova\, Dolj\, România
CATEGORIES:Gastronomie
ATTACH;FMTTYPE=image/jpeg:https://craiovalive.ro/wp-content/uploads/2026/03/PICNIC-Craiova-2026.jpg
GEO:44.31805;23.79493
END:VEVENT
BEGIN:VEVENT
DTSTART;TZID=Europe/Bucharest:20260517T100000
DTEND;TZID=Europe/Bucharest:20260517T220000
DTSTAMP:20260423T224626
CREATED:20260327T113325Z
LAST-MODIFIED:20260327T113325Z
UID:10014406-1779012000-1779055200@craiovalive.ro
SUMMARY:PICNIC Craiova 2026
DESCRIPTION:Craiova\, scoate ochelarii de soare\, cheful de dans și de festival pentru că PICNIC ajunge în oraș!  Între 15 și 17 mai transformăm Piața Mihai Viteazul într-un daytime party cool\, cu DJ-i\, mâncare delicioasă și o atmosferă de neratat.După ce am cucerit Clujul și Oradea\, ajungem și în Craiova.Anunță-ți prietenii și hai să petrecem un weekend memorabil împreună!\nIntrarea este liberă. Lineup-ul va fi anunțat în curând.\nEveniment realizat în parteneriat cu Primăria Municipiului Craiova.\nBrought to you by Why Not Us. Recomandat de Street FOOD Festival.
URL:https://craiovalive.ro/eveniment/picnic-craiova-2026/2026-05-17/
LOCATION:Piața Mihai Viteazul\, Craiova\, Dolj\, România
CATEGORIES:Gastronomie
ATTACH;FMTTYPE=image/jpeg:https://craiovalive.ro/wp-content/uploads/2026/03/PICNIC-Craiova-2026.jpg
GEO:44.31805;23.79493
END:VEVENT
END:VCALENDAR