BEGIN:VCALENDAR
VERSION:2.0
PRODID:-//Craiova Live - ECPv6.15.18//NONSGML v1.0//EN
CALSCALE:GREGORIAN
METHOD:PUBLISH
X-ORIGINAL-URL:https://craiovalive.ro
X-WR-CALDESC:Evenimente pentru Craiova Live
REFRESH-INTERVAL;VALUE=DURATION:PT1H
X-Robots-Tag:noindex
X-PUBLISHED-TTL:PT1H
BEGIN:VTIMEZONE
TZID:Europe/Bucharest
BEGIN:DAYLIGHT
TZOFFSETFROM:+0200
TZOFFSETTO:+0300
TZNAME:EEST
DTSTART:20240331T010000
END:DAYLIGHT
BEGIN:STANDARD
TZOFFSETFROM:+0300
TZOFFSETTO:+0200
TZNAME:EET
DTSTART:20241027T010000
END:STANDARD
BEGIN:DAYLIGHT
TZOFFSETFROM:+0200
TZOFFSETTO:+0300
TZNAME:EEST
DTSTART:20250330T010000
END:DAYLIGHT
BEGIN:STANDARD
TZOFFSETFROM:+0300
TZOFFSETTO:+0200
TZNAME:EET
DTSTART:20251026T010000
END:STANDARD
BEGIN:DAYLIGHT
TZOFFSETFROM:+0200
TZOFFSETTO:+0300
TZNAME:EEST
DTSTART:20260329T010000
END:DAYLIGHT
BEGIN:STANDARD
TZOFFSETFROM:+0300
TZOFFSETTO:+0200
TZNAME:EET
DTSTART:20261025T010000
END:STANDARD
BEGIN:DAYLIGHT
TZOFFSETFROM:+0200
TZOFFSETTO:+0300
TZNAME:EEST
DTSTART:20270328T010000
END:DAYLIGHT
BEGIN:STANDARD
TZOFFSETFROM:+0300
TZOFFSETTO:+0200
TZNAME:EET
DTSTART:20271031T010000
END:STANDARD
END:VTIMEZONE
BEGIN:VEVENT
DTSTART;TZID=Europe/Bucharest:20251115T140000
DTEND;TZID=Europe/Bucharest:20251115T150000
DTSTAMP:20260424T084831
CREATED:20251110T182724Z
LAST-MODIFIED:20251112T115341Z
UID:10012443-1763215200-1763218800@craiovalive.ro
SUMMARY:Master Class - Cocktail Art Explained @Wine Tonic Festival
DESCRIPTION:Master Class – Cocktail Art Explained în cadrul Wine Tonic Festival\n\nCOCKTAIL ART EXPLAINED – cum faci acasă un cocktail ca în bar \nVrei să știi de ce unii barmani pun gheață până sus? De ce unele băuturi se agită și altele se amestecă? Și cum obții un cocktail echilibrat chiar dacă nu ai barul complet acasă?Te invităm la o sesiune practică în care îți arătăm:– ce înseamnă un cocktail corect echilibrat (acid\, dulce\, tare)– cum alegi paharele și gheața potrivită– care sunt băuturile de bază pe care trebuie să le ai acasă– 2-3 rețete simple pe care le poți repeta oricând– mici trucuri de prezentare ca să arate “instagramabil” \nEvenimentul este pentru tine chiar dacă nu ai lucrat niciodată în bar – explicăm tot\, pas cu pas.
URL:https://craiovalive.ro/eveniment/master-class-cocktail-art-explained-wine-tonic-festival/
LOCATION:Ramada Plaza Craiova\, Calea Bucuresti\, nr 1\, Craiova\, Dolj\, România
CATEGORIES:Ateliere,Gastronomie
ATTACH;FMTTYPE=image/jpeg:https://craiovalive.ro/wp-content/uploads/2025/11/Master-Class-Cocktail-Art-Explained-@Wine-Tonic-Festival-Craiova-2025.jpg
GEO:44.3214396;23.7964694
X-APPLE-STRUCTURED-LOCATION;VALUE=URI;X-ADDRESS=Ramada Plaza Craiova Calea Bucuresti nr 1 Craiova Dolj România;X-APPLE-RADIUS=500;X-TITLE=Calea Bucuresti\, nr 1:geo:23.7964694,44.3214396
END:VEVENT
BEGIN:VEVENT
DTSTART;TZID=Europe/Bucharest:20260515T100000
DTEND;TZID=Europe/Bucharest:20260515T220000
DTSTAMP:20260424T084831
CREATED:20260327T113325Z
LAST-MODIFIED:20260327T113325Z
UID:10014404-1778839200-1778882400@craiovalive.ro
SUMMARY:PICNIC Craiova 2026
DESCRIPTION:Craiova\, scoate ochelarii de soare\, cheful de dans și de festival pentru că PICNIC ajunge în oraș!  Între 15 și 17 mai transformăm Piața Mihai Viteazul într-un daytime party cool\, cu DJ-i\, mâncare delicioasă și o atmosferă de neratat.După ce am cucerit Clujul și Oradea\, ajungem și în Craiova.Anunță-ți prietenii și hai să petrecem un weekend memorabil împreună!\nIntrarea este liberă. Lineup-ul va fi anunțat în curând.\nEveniment realizat în parteneriat cu Primăria Municipiului Craiova.\nBrought to you by Why Not Us. Recomandat de Street FOOD Festival.
URL:https://craiovalive.ro/eveniment/picnic-craiova-2026/2026-05-15/
LOCATION:Piața Mihai Viteazul\, Craiova\, Dolj\, România
CATEGORIES:Gastronomie
ATTACH;FMTTYPE=image/jpeg:https://craiovalive.ro/wp-content/uploads/2026/03/PICNIC-Craiova-2026.jpg
GEO:44.31805;23.79493
END:VEVENT
BEGIN:VEVENT
DTSTART;TZID=Europe/Bucharest:20261002T110000
DTEND;TZID=Europe/Bucharest:20261004T170000
DTSTAMP:20260424T084831
CREATED:20251009T074041Z
LAST-MODIFIED:20251118T132714Z
UID:10010435-1790938800-1791133200@craiovalive.ro
SUMMARY:Treasures of the East
DESCRIPTION:În perioada 2 -4 octombrie 2026 te așteptăm la ediția a doua a festivalului “Treasures of the East” ce are loc la Ramada Plaza Craiova.\nTreasures of the East este un eveniment ce pune bazele unui festival regional de vinuri si gastronomie care atrage profesioniști din industrie din partea de sud-est a Europei\, țări alături de care dorim să construim “o voce comună” și alături de care să facem cunoscute lumii vinurile și produsele Europei de Est.\nNe dorim să fie „un mini Prowein al Europei de Est”\, până în prezent\, la ediția anterioară\, având confirmată participarea mai multor producători de vin din România\, Republica Moldova și Bulgaria. În 2026 extindem festivalul și așteptăm producători din mai multe țări din Europa de Est.\nSave the date: 2-4 Octombrie 2026.Revenim cu detalii suplimentare pe parcurs.\nFestivalul „Treasures of the East” este organizat de platforma „We are România. You are Welcome”\, alături de „Craiova\, capitală Gastronomică Est- Europeană” și Ramada Plaza Craiova.
URL:https://craiovalive.ro/eveniment/treasures-of-the-east/
LOCATION:Ramada Plaza Craiova\, Calea Bucuresti\, nr 1\, Craiova\, Dolj\, România
CATEGORIES:Gastronomie
ATTACH;FMTTYPE=image/jpeg:https://craiovalive.ro/wp-content/uploads/2025/10/Treasures-of-the-East-2026.jpg
GEO:44.3214396;23.7964694
X-APPLE-STRUCTURED-LOCATION;VALUE=URI;X-ADDRESS=Ramada Plaza Craiova Calea Bucuresti nr 1 Craiova Dolj România;X-APPLE-RADIUS=500;X-TITLE=Calea Bucuresti\, nr 1:geo:23.7964694,44.3214396
END:VEVENT
END:VCALENDAR