BEGIN:VCALENDAR
VERSION:2.0
PRODID:-//Craiova Live - ECPv6.15.18//NONSGML v1.0//EN
CALSCALE:GREGORIAN
METHOD:PUBLISH
X-WR-CALNAME:Craiova Live
X-ORIGINAL-URL:https://craiovalive.ro
X-WR-CALDESC:Evenimente pentru Craiova Live
REFRESH-INTERVAL;VALUE=DURATION:PT1H
X-Robots-Tag:noindex
X-PUBLISHED-TTL:PT1H
BEGIN:VTIMEZONE
TZID:Europe/Bucharest
BEGIN:DAYLIGHT
TZOFFSETFROM:+0200
TZOFFSETTO:+0300
TZNAME:EEST
DTSTART:20240331T010000
END:DAYLIGHT
BEGIN:STANDARD
TZOFFSETFROM:+0300
TZOFFSETTO:+0200
TZNAME:EET
DTSTART:20241027T010000
END:STANDARD
BEGIN:DAYLIGHT
TZOFFSETFROM:+0200
TZOFFSETTO:+0300
TZNAME:EEST
DTSTART:20250330T010000
END:DAYLIGHT
BEGIN:STANDARD
TZOFFSETFROM:+0300
TZOFFSETTO:+0200
TZNAME:EET
DTSTART:20251026T010000
END:STANDARD
BEGIN:DAYLIGHT
TZOFFSETFROM:+0200
TZOFFSETTO:+0300
TZNAME:EEST
DTSTART:20260329T010000
END:DAYLIGHT
BEGIN:STANDARD
TZOFFSETFROM:+0300
TZOFFSETTO:+0200
TZNAME:EET
DTSTART:20261025T010000
END:STANDARD
END:VTIMEZONE
BEGIN:VEVENT
DTSTART;TZID=Europe/Bucharest:20250601T100000
DTEND;TZID=Europe/Bucharest:20250601T170000
DTSTAMP:20260424T144424
CREATED:20250521T120926Z
LAST-MODIFIED:20250521T120926Z
UID:10006605-1748772000-1748797200@craiovalive.ro
SUMMARY:Tezaur de gusturi
DESCRIPTION: 𝐓𝐄𝐙𝐀𝐔𝐑 𝐃𝐄 𝐆𝐔𝐒𝐓𝐔𝐑𝐈 – 𝟑𝟏 𝐦𝐚𝐢 & 𝟏 𝐢𝐮𝐧𝐢𝐞 𝐥𝐚 Ramada Plaza Craiova! După succesul ediției din toamnă Craiova\, capitală gastronomică est-europeană\, vă invităm la un weekend plin de gusturi locale\, vinuri alese și experiențe de neratat! Degustări |  Conferințe despre enoturism |  Crame din toată țara | Masterclass cu Chef Ciprian Nicolescu & Cezar Ioan Intrare liberă Eveniment organizat cu sprijinul Primaria Municipiului Craiova\, Liceul de Industrie Alimentară – Craiova\, We Are Romania și Vinul.ro. Hai să celebrăm împreună gusturile autentice ale Olteniei! \n\nBUCATE OLTENEȘTI & VINURI ROMÂNEȘTI / DEGUSTĂRI ȘI CONFERINȚE GASTRONOMICE\n31 MAI – 1 IUNIE 2025 – RAMADA PLAZA CRAIOVA\n\n“Zilele Craiovei” la Ramada Plaza din localitate constituie prilejul unei noi întâlniri a publicului generalist și a profesioniștilor cu bucatele oltenești și cu vinurile românești\, în 31 mai – 1 iunie 2025\, în cadrul mai larg al proiectului “Craiova\, capitală gastronomică est-europeană”. Ca întregul proiect\, și această reuniune este organizată de Liceul de Industrie Alimentară din localitate cu sprijinul Primăriei Craiova și cu implicarea platformei de gândire și acțiune We Are Romania / YOU ARE WELCOME.\n31 mai – Prima zi a evenimentului\, între orele 12:00 și 19:00\, este rezervată degustărilor: o expoziție de bucate realizate în atelierele Liceului de Industrie Alimentară (LIA) și un Masterclass de praz & vinuri din soiuri românești susținut de Chef Ciprian Nicolescu (Ellipse City Restaurant by Ramada Plaza) și Cezar Ioan (vinul.ro).\nTot în 31 mai – în același interval orar\, oaspeții se vor întâlni cu mai multe crame din Oltenia și din țară: au confirmat până în prezent Avincis\, Banul Mărăcine\, Budureasca\, Crama de Piatră\, Crama Oprișor\, Domeniile Panciu\, Domeniile Vînju Mare\, Domeniul Drăgași\, Olterra. În expoziția cu degustare vor fi prezentate și uleiurile de măsline multimedaliate internațional Eliada – inițiativă a antreprenorului craiovean Cătălin Adam.\nÎn aceași după-amiază de sâmbătă va avea loc conferința “Turismul enogastronomic și cultural și dezvoltarea locală” – unde cei prezenți vor asista la studii de caz din Bulgaria (Anelia Hristova & Iulia Bahovski\, “North East Wine Tours Bulgaria”) și din România (Florin Opriș\, “Descoperă vinurile Olteniei”; David Sandu\, “Crama de Piatră” din Dealu Mare; Alina Podiuc\, “Domeniul Drăgași” din Drăgășani).\nDuminică\, 1 iunie\, de la orele 11:00\, va avea loc cea de-a 10-a ediție a conferințelor naționale “Gastronomia – cu bune\, cu rele”\, dedicate brandului de țară al României izvorât din patrimoniul culinar și cultural românesc – tema de etapă fiind “brandul regional oltenesc și oportunitățile în HoReCa și în retailul internațional”.\nCu participarea cadrelor didactice și a elevilor de la Liceul de Industrie Alimentară (LIA) Craiova\, pe 1 iunie va avea loc și o consfătuire cu privire la modurile în care instituția poate pregăti cât mai bine absolvenții de care ospitalitatea și industria de profil au atâta nevoie în momentul de față.
URL:https://craiovalive.ro/eveniment/tezaur-de-gusturi/2025-06-01/
LOCATION:Ramada Plaza Craiova\, Calea Bucuresti\, nr 1\, Craiova\, Dolj\, România
CATEGORIES:Gastronomie
ATTACH;FMTTYPE=image/jpeg:https://craiovalive.ro/wp-content/uploads/2025/05/Tezaur-de-gusturi.jpg
ORGANIZER;CN="Prim%C4%83ria Municipiului Craiova":MAILTO:imaginecv@primariacraiova.ro
GEO:44.3214396;23.7964694
X-APPLE-STRUCTURED-LOCATION;VALUE=URI;X-ADDRESS=Ramada Plaza Craiova Calea Bucuresti nr 1 Craiova Dolj România;X-APPLE-RADIUS=500;X-TITLE=Calea Bucuresti\, nr 1:geo:23.7964694,44.3214396
END:VEVENT
BEGIN:VEVENT
DTSTART;TZID=Europe/Bucharest:20250607T123000
DTEND;TZID=Europe/Bucharest:20250607T160000
DTSTAMP:20260424T144424
CREATED:20250603T191806Z
LAST-MODIFIED:20250603T192857Z
UID:10006985-1749299400-1749312000@craiovalive.ro
SUMMARY:Brunch & Party @Enoteca
DESCRIPTION:BRUNCH & PARTY Sâmbătă\, 7 iunie. 🥂 \nTe așteptăm la un nou brunch cu ritm și savoare! \n🍽️ Bufet generos\n🍷 Vinuri delicioase și cocktail-uri savuroase\n🎶 Muzică bună asigurată all day de @mindcage.official \n– Sâmbătă\, 7 iunie\n– brunch bufet între 12:30 – 16:00\, dar la râsete și 🥂 ne place să ne întindem până târziu\n– 65 lei/persoană (băuturile se achită separat) \nRezervă-ți masa la 0722 102 400!
URL:https://craiovalive.ro/eveniment/brunch-party-enoteca/
LOCATION:Enoteca Social Bar\, Calea Bucuresti 78a\, Cladire de birouri Electroputere Parc\, Craiova\, Dolj\, România
CATEGORIES:Gastronomie,Party
ATTACH;FMTTYPE=image/jpeg:https://craiovalive.ro/wp-content/uploads/2025/06/Brunch-Party-@Enoteca.jpg
GEO:44.313600215854;23.828352709902
X-APPLE-STRUCTURED-LOCATION;VALUE=URI;X-ADDRESS=Enoteca Social Bar Calea Bucuresti 78a Cladire de birouri Electroputere Parc Craiova Dolj România;X-APPLE-RADIUS=500;X-TITLE=Calea Bucuresti 78a\, Cladire de birouri Electroputere Parc:geo:23.828352709902,44.313600215854
END:VEVENT
BEGIN:VEVENT
DTSTART;TZID=Europe/Bucharest:20250613T100000
DTEND;TZID=Europe/Bucharest:20250613T200000
DTSTAMP:20260424T144424
CREATED:20250610T081906Z
LAST-MODIFIED:20250610T081906Z
UID:10006991-1749808800-1749844800@craiovalive.ro
SUMMARY:Festivalul Cafelei Craiova\, ediția a II-a
DESCRIPTION:Festivalul Cafelei Craiova\, ediția a II-a\, eveniment organizat de filiala Craiova a Uniunii Armene din România între 13-15 iunie 2025 este un prilej de a relaționa cu o minoritate care a contribuit într-o perioadă de construcție a României moderne la dezvoltarea Craiovei. \nParteneri locali: cluburile Lions Craiova Cetatea Băniei și Leo EXCELION
URL:https://craiovalive.ro/eveniment/festivalul-cafelei-craiova-editia-a-ii-a/2025-06-13/
LOCATION:Locații multiple\, Craiova\, Dolj\, România
CATEGORIES:Conferință,Expoziție,Gastronomie
ATTACH;FMTTYPE=image/jpeg:https://craiovalive.ro/wp-content/uploads/2025/06/Festivalul-Cafelei-Craiova-editia-a-II-a.jpg
GEO:44.3301785;23.7948808
END:VEVENT
BEGIN:VEVENT
DTSTART;TZID=Europe/Bucharest:20250614T100000
DTEND;TZID=Europe/Bucharest:20250614T200000
DTSTAMP:20260424T144424
CREATED:20250610T081906Z
LAST-MODIFIED:20250610T081906Z
UID:10006992-1749895200-1749931200@craiovalive.ro
SUMMARY:Festivalul Cafelei Craiova\, ediția a II-a
DESCRIPTION:Festivalul Cafelei Craiova\, ediția a II-a\, eveniment organizat de filiala Craiova a Uniunii Armene din România între 13-15 iunie 2025 este un prilej de a relaționa cu o minoritate care a contribuit într-o perioadă de construcție a României moderne la dezvoltarea Craiovei. \nParteneri locali: cluburile Lions Craiova Cetatea Băniei și Leo EXCELION
URL:https://craiovalive.ro/eveniment/festivalul-cafelei-craiova-editia-a-ii-a/2025-06-14/
LOCATION:Locații multiple\, Craiova\, Dolj\, România
CATEGORIES:Conferință,Expoziție,Gastronomie
ATTACH;FMTTYPE=image/jpeg:https://craiovalive.ro/wp-content/uploads/2025/06/Festivalul-Cafelei-Craiova-editia-a-II-a.jpg
GEO:44.3301785;23.7948808
END:VEVENT
BEGIN:VEVENT
DTSTART;TZID=Europe/Bucharest:20250615T100000
DTEND;TZID=Europe/Bucharest:20250615T200000
DTSTAMP:20260424T144424
CREATED:20250610T081906Z
LAST-MODIFIED:20250610T081906Z
UID:10006993-1749981600-1750017600@craiovalive.ro
SUMMARY:Festivalul Cafelei Craiova\, ediția a II-a
DESCRIPTION:Festivalul Cafelei Craiova\, ediția a II-a\, eveniment organizat de filiala Craiova a Uniunii Armene din România între 13-15 iunie 2025 este un prilej de a relaționa cu o minoritate care a contribuit într-o perioadă de construcție a României moderne la dezvoltarea Craiovei. \nParteneri locali: cluburile Lions Craiova Cetatea Băniei și Leo EXCELION
URL:https://craiovalive.ro/eveniment/festivalul-cafelei-craiova-editia-a-ii-a/2025-06-15/
LOCATION:Locații multiple\, Craiova\, Dolj\, România
CATEGORIES:Conferință,Expoziție,Gastronomie
ATTACH;FMTTYPE=image/jpeg:https://craiovalive.ro/wp-content/uploads/2025/06/Festivalul-Cafelei-Craiova-editia-a-II-a.jpg
GEO:44.3301785;23.7948808
END:VEVENT
END:VCALENDAR