BEGIN:VCALENDAR
VERSION:2.0
PRODID:-//Craiova Live - ECPv6.15.18//NONSGML v1.0//EN
CALSCALE:GREGORIAN
METHOD:PUBLISH
X-ORIGINAL-URL:https://craiovalive.ro
X-WR-CALDESC:Evenimente pentru Craiova Live
REFRESH-INTERVAL;VALUE=DURATION:PT1H
X-Robots-Tag:noindex
X-PUBLISHED-TTL:PT1H
BEGIN:VTIMEZONE
TZID:Europe/Bucharest
BEGIN:DAYLIGHT
TZOFFSETFROM:+0200
TZOFFSETTO:+0300
TZNAME:EEST
DTSTART:20250330T010000
END:DAYLIGHT
BEGIN:STANDARD
TZOFFSETFROM:+0300
TZOFFSETTO:+0200
TZNAME:EET
DTSTART:20251026T010000
END:STANDARD
BEGIN:DAYLIGHT
TZOFFSETFROM:+0200
TZOFFSETTO:+0300
TZNAME:EEST
DTSTART:20260329T010000
END:DAYLIGHT
BEGIN:STANDARD
TZOFFSETFROM:+0300
TZOFFSETTO:+0200
TZNAME:EET
DTSTART:20261025T010000
END:STANDARD
BEGIN:DAYLIGHT
TZOFFSETFROM:+0200
TZOFFSETTO:+0300
TZNAME:EEST
DTSTART:20270328T010000
END:DAYLIGHT
BEGIN:STANDARD
TZOFFSETFROM:+0300
TZOFFSETTO:+0200
TZNAME:EET
DTSTART:20271031T010000
END:STANDARD
END:VTIMEZONE
BEGIN:VEVENT
DTSTART;TZID=Europe/Bucharest:20260310T090000
DTEND;TZID=Europe/Bucharest:20260310T170000
DTSTAMP:20260424T002613
CREATED:20260216T110200Z
LAST-MODIFIED:20260216T110200Z
UID:10013910-1773133200-1773162000@craiovalive.ro
SUMMARY:Expoziție de fotografie Eternul Brâncuși
DESCRIPTION:Muzeul Cărții și Exilului Românesc găzduiește miercuri\, 18 februarie 2026\, la ora 18.00\, vernisajul expoziției Eternul Brâncuși\, organizată de Asociația Artiștilor Fotografi „Dacia Malvensis”\, în colaborare cu Consiliul Județean Dolj\, Primăria Municipiului Craiova\, Uniunea Ziariștilor Profesioniști din România”\, filiala „Tudor Arghezi” și Biblioteca Județeană „Alexandru și Aristia Aman”. \nExpoziția marchează împlinirea a 150 de ani de la nașterea marelui sculptor Constantin Brâncuși\, prilej de reflecție și de celebrare a moștenirii sale universale\, care continuă să inspire generații și să redefinească limbajul formei în arta modernă. \nExpoziția reunește lucrările a 34 de artiști din Craiova\, din întreaga țară și din diaspora: \n✓Alexandra AGOP \n✓Arcu Cătălin \n✓Bercaru Adrian \n✓Calin Rucsandra \n✓Ciobotaru Ioan \n✓Cojocaru Mihaela Eleonora \n✓Corcoveanu Livia \n✓Cosoveanu Cristina \n✓Cruceru Valerian \n✓Dalea Petre \n✓Floriganta Cristian \n✓Furdu Mircea \n✓Iancu Daniela \n✓Keller Erica \n✓Mirescu Silviu Cristian \n✓Modan Teodora \n✓Năstasie Dan \n✓Netoiu Ion Claudiu \n✓Obreja Cătălin \n✓Ovi D Pop \n✓Pălădescu Diana \n✓Pașca Iuliana \n✓Popa Victor \n✓Pușcașu Dan \n✓Roșu Anca \n✓Rusu Adela Lia \n✓Sab Angelo \n✓Scaunașu Ionel \n✓Scubli Mariana \n✓Segal Paul \n✓Tătaru Ioan Bogdan \n✓Urziceanu Ovidiu \n✓Vochescu Gabriela \n✓Voicu Andi. \nVernisajul expoziției va fi moderat de Andrada Cojocaru\, președinte al Uniunii Ziariștilor Profesioniști „Tudor Arghezi” – Filiala Dolj. \nDin programul evenimentului fac parte două expuneri ce dezvăluie fațete mai puțin cunoscute ale artistului: \n\n„Brâncuși Esotericul”\, susținută de binecunoscutul publicist Dan Lupescu\, o incursiune în simbolurile și energiile subtile ce pulsează în creația sa;\n„Brâncuși Fotograful”\, prezentată de Silviu Cristian Mirescu\, o privire asupra artistului care a știut să modeleze nu doar materia\, ci și lumina.\n\nLa finalul serii\, publicul va asista la un moment artistic oferit de cvartetul de coarde „Gaudeamus” al Universității din Craiova\, compus din Darius Melencovici\, Andreea Poenaru\, Ana Maria Odină și Gabriela Sârbu.
URL:https://craiovalive.ro/eveniment/expozitie-de-fotografie-eternul-brancusi/2026-03-10/
LOCATION:Muzeul Cărții și Exilului Românesc\, Str. 24 Ianuarie nr. 4\, Craiova\, Dolj\, România
CATEGORIES:Expoziție,Fotografie
ATTACH;FMTTYPE=image/jpeg:https://craiovalive.ro/wp-content/uploads/2026/02/Expozitie-de-fotografie-Eternul-Brancusi.jpeg
GEO:44.3141881;23.7984041
X-APPLE-STRUCTURED-LOCATION;VALUE=URI;X-ADDRESS=Muzeul Cărții și Exilului Românesc Str. 24 Ianuarie nr. 4 Craiova Dolj România;X-APPLE-RADIUS=500;X-TITLE=Str. 24 Ianuarie nr. 4:geo:23.7984041,44.3141881
END:VEVENT
BEGIN:VEVENT
DTSTART;TZID=Europe/Bucharest:20260311T090000
DTEND;TZID=Europe/Bucharest:20260311T170000
DTSTAMP:20260424T002613
CREATED:20260216T110200Z
LAST-MODIFIED:20260216T110200Z
UID:10013911-1773219600-1773248400@craiovalive.ro
SUMMARY:Expoziție de fotografie Eternul Brâncuși
DESCRIPTION:Muzeul Cărții și Exilului Românesc găzduiește miercuri\, 18 februarie 2026\, la ora 18.00\, vernisajul expoziției Eternul Brâncuși\, organizată de Asociația Artiștilor Fotografi „Dacia Malvensis”\, în colaborare cu Consiliul Județean Dolj\, Primăria Municipiului Craiova\, Uniunea Ziariștilor Profesioniști din România”\, filiala „Tudor Arghezi” și Biblioteca Județeană „Alexandru și Aristia Aman”. \nExpoziția marchează împlinirea a 150 de ani de la nașterea marelui sculptor Constantin Brâncuși\, prilej de reflecție și de celebrare a moștenirii sale universale\, care continuă să inspire generații și să redefinească limbajul formei în arta modernă. \nExpoziția reunește lucrările a 34 de artiști din Craiova\, din întreaga țară și din diaspora: \n✓Alexandra AGOP \n✓Arcu Cătălin \n✓Bercaru Adrian \n✓Calin Rucsandra \n✓Ciobotaru Ioan \n✓Cojocaru Mihaela Eleonora \n✓Corcoveanu Livia \n✓Cosoveanu Cristina \n✓Cruceru Valerian \n✓Dalea Petre \n✓Floriganta Cristian \n✓Furdu Mircea \n✓Iancu Daniela \n✓Keller Erica \n✓Mirescu Silviu Cristian \n✓Modan Teodora \n✓Năstasie Dan \n✓Netoiu Ion Claudiu \n✓Obreja Cătălin \n✓Ovi D Pop \n✓Pălădescu Diana \n✓Pașca Iuliana \n✓Popa Victor \n✓Pușcașu Dan \n✓Roșu Anca \n✓Rusu Adela Lia \n✓Sab Angelo \n✓Scaunașu Ionel \n✓Scubli Mariana \n✓Segal Paul \n✓Tătaru Ioan Bogdan \n✓Urziceanu Ovidiu \n✓Vochescu Gabriela \n✓Voicu Andi. \nVernisajul expoziției va fi moderat de Andrada Cojocaru\, președinte al Uniunii Ziariștilor Profesioniști „Tudor Arghezi” – Filiala Dolj. \nDin programul evenimentului fac parte două expuneri ce dezvăluie fațete mai puțin cunoscute ale artistului: \n\n„Brâncuși Esotericul”\, susținută de binecunoscutul publicist Dan Lupescu\, o incursiune în simbolurile și energiile subtile ce pulsează în creația sa;\n„Brâncuși Fotograful”\, prezentată de Silviu Cristian Mirescu\, o privire asupra artistului care a știut să modeleze nu doar materia\, ci și lumina.\n\nLa finalul serii\, publicul va asista la un moment artistic oferit de cvartetul de coarde „Gaudeamus” al Universității din Craiova\, compus din Darius Melencovici\, Andreea Poenaru\, Ana Maria Odină și Gabriela Sârbu.
URL:https://craiovalive.ro/eveniment/expozitie-de-fotografie-eternul-brancusi/2026-03-11/
LOCATION:Muzeul Cărții și Exilului Românesc\, Str. 24 Ianuarie nr. 4\, Craiova\, Dolj\, România
CATEGORIES:Expoziție,Fotografie
ATTACH;FMTTYPE=image/jpeg:https://craiovalive.ro/wp-content/uploads/2026/02/Expozitie-de-fotografie-Eternul-Brancusi.jpeg
GEO:44.3141881;23.7984041
X-APPLE-STRUCTURED-LOCATION;VALUE=URI;X-ADDRESS=Muzeul Cărții și Exilului Românesc Str. 24 Ianuarie nr. 4 Craiova Dolj România;X-APPLE-RADIUS=500;X-TITLE=Str. 24 Ianuarie nr. 4:geo:23.7984041,44.3141881
END:VEVENT
BEGIN:VEVENT
DTSTART;TZID=Europe/Bucharest:20260312T090000
DTEND;TZID=Europe/Bucharest:20260312T170000
DTSTAMP:20260424T002613
CREATED:20260216T110200Z
LAST-MODIFIED:20260216T110200Z
UID:10013912-1773306000-1773334800@craiovalive.ro
SUMMARY:Expoziție de fotografie Eternul Brâncuși
DESCRIPTION:Muzeul Cărții și Exilului Românesc găzduiește miercuri\, 18 februarie 2026\, la ora 18.00\, vernisajul expoziției Eternul Brâncuși\, organizată de Asociația Artiștilor Fotografi „Dacia Malvensis”\, în colaborare cu Consiliul Județean Dolj\, Primăria Municipiului Craiova\, Uniunea Ziariștilor Profesioniști din România”\, filiala „Tudor Arghezi” și Biblioteca Județeană „Alexandru și Aristia Aman”. \nExpoziția marchează împlinirea a 150 de ani de la nașterea marelui sculptor Constantin Brâncuși\, prilej de reflecție și de celebrare a moștenirii sale universale\, care continuă să inspire generații și să redefinească limbajul formei în arta modernă. \nExpoziția reunește lucrările a 34 de artiști din Craiova\, din întreaga țară și din diaspora: \n✓Alexandra AGOP \n✓Arcu Cătălin \n✓Bercaru Adrian \n✓Calin Rucsandra \n✓Ciobotaru Ioan \n✓Cojocaru Mihaela Eleonora \n✓Corcoveanu Livia \n✓Cosoveanu Cristina \n✓Cruceru Valerian \n✓Dalea Petre \n✓Floriganta Cristian \n✓Furdu Mircea \n✓Iancu Daniela \n✓Keller Erica \n✓Mirescu Silviu Cristian \n✓Modan Teodora \n✓Năstasie Dan \n✓Netoiu Ion Claudiu \n✓Obreja Cătălin \n✓Ovi D Pop \n✓Pălădescu Diana \n✓Pașca Iuliana \n✓Popa Victor \n✓Pușcașu Dan \n✓Roșu Anca \n✓Rusu Adela Lia \n✓Sab Angelo \n✓Scaunașu Ionel \n✓Scubli Mariana \n✓Segal Paul \n✓Tătaru Ioan Bogdan \n✓Urziceanu Ovidiu \n✓Vochescu Gabriela \n✓Voicu Andi. \nVernisajul expoziției va fi moderat de Andrada Cojocaru\, președinte al Uniunii Ziariștilor Profesioniști „Tudor Arghezi” – Filiala Dolj. \nDin programul evenimentului fac parte două expuneri ce dezvăluie fațete mai puțin cunoscute ale artistului: \n\n„Brâncuși Esotericul”\, susținută de binecunoscutul publicist Dan Lupescu\, o incursiune în simbolurile și energiile subtile ce pulsează în creația sa;\n„Brâncuși Fotograful”\, prezentată de Silviu Cristian Mirescu\, o privire asupra artistului care a știut să modeleze nu doar materia\, ci și lumina.\n\nLa finalul serii\, publicul va asista la un moment artistic oferit de cvartetul de coarde „Gaudeamus” al Universității din Craiova\, compus din Darius Melencovici\, Andreea Poenaru\, Ana Maria Odină și Gabriela Sârbu.
URL:https://craiovalive.ro/eveniment/expozitie-de-fotografie-eternul-brancusi/2026-03-12/
LOCATION:Muzeul Cărții și Exilului Românesc\, Str. 24 Ianuarie nr. 4\, Craiova\, Dolj\, România
CATEGORIES:Expoziție,Fotografie
ATTACH;FMTTYPE=image/jpeg:https://craiovalive.ro/wp-content/uploads/2026/02/Expozitie-de-fotografie-Eternul-Brancusi.jpeg
GEO:44.3141881;23.7984041
X-APPLE-STRUCTURED-LOCATION;VALUE=URI;X-ADDRESS=Muzeul Cărții și Exilului Românesc Str. 24 Ianuarie nr. 4 Craiova Dolj România;X-APPLE-RADIUS=500;X-TITLE=Str. 24 Ianuarie nr. 4:geo:23.7984041,44.3141881
END:VEVENT
BEGIN:VEVENT
DTSTART;TZID=Europe/Bucharest:20260313T090000
DTEND;TZID=Europe/Bucharest:20260313T170000
DTSTAMP:20260424T002613
CREATED:20260216T110200Z
LAST-MODIFIED:20260216T110200Z
UID:10013913-1773392400-1773421200@craiovalive.ro
SUMMARY:Expoziție de fotografie Eternul Brâncuși
DESCRIPTION:Muzeul Cărții și Exilului Românesc găzduiește miercuri\, 18 februarie 2026\, la ora 18.00\, vernisajul expoziției Eternul Brâncuși\, organizată de Asociația Artiștilor Fotografi „Dacia Malvensis”\, în colaborare cu Consiliul Județean Dolj\, Primăria Municipiului Craiova\, Uniunea Ziariștilor Profesioniști din România”\, filiala „Tudor Arghezi” și Biblioteca Județeană „Alexandru și Aristia Aman”. \nExpoziția marchează împlinirea a 150 de ani de la nașterea marelui sculptor Constantin Brâncuși\, prilej de reflecție și de celebrare a moștenirii sale universale\, care continuă să inspire generații și să redefinească limbajul formei în arta modernă. \nExpoziția reunește lucrările a 34 de artiști din Craiova\, din întreaga țară și din diaspora: \n✓Alexandra AGOP \n✓Arcu Cătălin \n✓Bercaru Adrian \n✓Calin Rucsandra \n✓Ciobotaru Ioan \n✓Cojocaru Mihaela Eleonora \n✓Corcoveanu Livia \n✓Cosoveanu Cristina \n✓Cruceru Valerian \n✓Dalea Petre \n✓Floriganta Cristian \n✓Furdu Mircea \n✓Iancu Daniela \n✓Keller Erica \n✓Mirescu Silviu Cristian \n✓Modan Teodora \n✓Năstasie Dan \n✓Netoiu Ion Claudiu \n✓Obreja Cătălin \n✓Ovi D Pop \n✓Pălădescu Diana \n✓Pașca Iuliana \n✓Popa Victor \n✓Pușcașu Dan \n✓Roșu Anca \n✓Rusu Adela Lia \n✓Sab Angelo \n✓Scaunașu Ionel \n✓Scubli Mariana \n✓Segal Paul \n✓Tătaru Ioan Bogdan \n✓Urziceanu Ovidiu \n✓Vochescu Gabriela \n✓Voicu Andi. \nVernisajul expoziției va fi moderat de Andrada Cojocaru\, președinte al Uniunii Ziariștilor Profesioniști „Tudor Arghezi” – Filiala Dolj. \nDin programul evenimentului fac parte două expuneri ce dezvăluie fațete mai puțin cunoscute ale artistului: \n\n„Brâncuși Esotericul”\, susținută de binecunoscutul publicist Dan Lupescu\, o incursiune în simbolurile și energiile subtile ce pulsează în creația sa;\n„Brâncuși Fotograful”\, prezentată de Silviu Cristian Mirescu\, o privire asupra artistului care a știut să modeleze nu doar materia\, ci și lumina.\n\nLa finalul serii\, publicul va asista la un moment artistic oferit de cvartetul de coarde „Gaudeamus” al Universității din Craiova\, compus din Darius Melencovici\, Andreea Poenaru\, Ana Maria Odină și Gabriela Sârbu.
URL:https://craiovalive.ro/eveniment/expozitie-de-fotografie-eternul-brancusi/2026-03-13/
LOCATION:Muzeul Cărții și Exilului Românesc\, Str. 24 Ianuarie nr. 4\, Craiova\, Dolj\, România
CATEGORIES:Expoziție,Fotografie
ATTACH;FMTTYPE=image/jpeg:https://craiovalive.ro/wp-content/uploads/2026/02/Expozitie-de-fotografie-Eternul-Brancusi.jpeg
GEO:44.3141881;23.7984041
X-APPLE-STRUCTURED-LOCATION;VALUE=URI;X-ADDRESS=Muzeul Cărții și Exilului Românesc Str. 24 Ianuarie nr. 4 Craiova Dolj România;X-APPLE-RADIUS=500;X-TITLE=Str. 24 Ianuarie nr. 4:geo:23.7984041,44.3141881
END:VEVENT
BEGIN:VEVENT
DTSTART;TZID=Europe/Bucharest:20260314T090000
DTEND;TZID=Europe/Bucharest:20260314T170000
DTSTAMP:20260424T002613
CREATED:20260216T110200Z
LAST-MODIFIED:20260216T110200Z
UID:10013914-1773478800-1773507600@craiovalive.ro
SUMMARY:Expoziție de fotografie Eternul Brâncuși
DESCRIPTION:Muzeul Cărții și Exilului Românesc găzduiește miercuri\, 18 februarie 2026\, la ora 18.00\, vernisajul expoziției Eternul Brâncuși\, organizată de Asociația Artiștilor Fotografi „Dacia Malvensis”\, în colaborare cu Consiliul Județean Dolj\, Primăria Municipiului Craiova\, Uniunea Ziariștilor Profesioniști din România”\, filiala „Tudor Arghezi” și Biblioteca Județeană „Alexandru și Aristia Aman”. \nExpoziția marchează împlinirea a 150 de ani de la nașterea marelui sculptor Constantin Brâncuși\, prilej de reflecție și de celebrare a moștenirii sale universale\, care continuă să inspire generații și să redefinească limbajul formei în arta modernă. \nExpoziția reunește lucrările a 34 de artiști din Craiova\, din întreaga țară și din diaspora: \n✓Alexandra AGOP \n✓Arcu Cătălin \n✓Bercaru Adrian \n✓Calin Rucsandra \n✓Ciobotaru Ioan \n✓Cojocaru Mihaela Eleonora \n✓Corcoveanu Livia \n✓Cosoveanu Cristina \n✓Cruceru Valerian \n✓Dalea Petre \n✓Floriganta Cristian \n✓Furdu Mircea \n✓Iancu Daniela \n✓Keller Erica \n✓Mirescu Silviu Cristian \n✓Modan Teodora \n✓Năstasie Dan \n✓Netoiu Ion Claudiu \n✓Obreja Cătălin \n✓Ovi D Pop \n✓Pălădescu Diana \n✓Pașca Iuliana \n✓Popa Victor \n✓Pușcașu Dan \n✓Roșu Anca \n✓Rusu Adela Lia \n✓Sab Angelo \n✓Scaunașu Ionel \n✓Scubli Mariana \n✓Segal Paul \n✓Tătaru Ioan Bogdan \n✓Urziceanu Ovidiu \n✓Vochescu Gabriela \n✓Voicu Andi. \nVernisajul expoziției va fi moderat de Andrada Cojocaru\, președinte al Uniunii Ziariștilor Profesioniști „Tudor Arghezi” – Filiala Dolj. \nDin programul evenimentului fac parte două expuneri ce dezvăluie fațete mai puțin cunoscute ale artistului: \n\n„Brâncuși Esotericul”\, susținută de binecunoscutul publicist Dan Lupescu\, o incursiune în simbolurile și energiile subtile ce pulsează în creația sa;\n„Brâncuși Fotograful”\, prezentată de Silviu Cristian Mirescu\, o privire asupra artistului care a știut să modeleze nu doar materia\, ci și lumina.\n\nLa finalul serii\, publicul va asista la un moment artistic oferit de cvartetul de coarde „Gaudeamus” al Universității din Craiova\, compus din Darius Melencovici\, Andreea Poenaru\, Ana Maria Odină și Gabriela Sârbu.
URL:https://craiovalive.ro/eveniment/expozitie-de-fotografie-eternul-brancusi/2026-03-14/
LOCATION:Muzeul Cărții și Exilului Românesc\, Str. 24 Ianuarie nr. 4\, Craiova\, Dolj\, România
CATEGORIES:Expoziție,Fotografie
ATTACH;FMTTYPE=image/jpeg:https://craiovalive.ro/wp-content/uploads/2026/02/Expozitie-de-fotografie-Eternul-Brancusi.jpeg
GEO:44.3141881;23.7984041
X-APPLE-STRUCTURED-LOCATION;VALUE=URI;X-ADDRESS=Muzeul Cărții și Exilului Românesc Str. 24 Ianuarie nr. 4 Craiova Dolj România;X-APPLE-RADIUS=500;X-TITLE=Str. 24 Ianuarie nr. 4:geo:23.7984041,44.3141881
END:VEVENT
BEGIN:VEVENT
DTSTART;TZID=Europe/Bucharest:20260315T090000
DTEND;TZID=Europe/Bucharest:20260315T170000
DTSTAMP:20260424T002613
CREATED:20260216T110200Z
LAST-MODIFIED:20260216T110200Z
UID:10013915-1773565200-1773594000@craiovalive.ro
SUMMARY:Expoziție de fotografie Eternul Brâncuși
DESCRIPTION:Muzeul Cărții și Exilului Românesc găzduiește miercuri\, 18 februarie 2026\, la ora 18.00\, vernisajul expoziției Eternul Brâncuși\, organizată de Asociația Artiștilor Fotografi „Dacia Malvensis”\, în colaborare cu Consiliul Județean Dolj\, Primăria Municipiului Craiova\, Uniunea Ziariștilor Profesioniști din România”\, filiala „Tudor Arghezi” și Biblioteca Județeană „Alexandru și Aristia Aman”. \nExpoziția marchează împlinirea a 150 de ani de la nașterea marelui sculptor Constantin Brâncuși\, prilej de reflecție și de celebrare a moștenirii sale universale\, care continuă să inspire generații și să redefinească limbajul formei în arta modernă. \nExpoziția reunește lucrările a 34 de artiști din Craiova\, din întreaga țară și din diaspora: \n✓Alexandra AGOP \n✓Arcu Cătălin \n✓Bercaru Adrian \n✓Calin Rucsandra \n✓Ciobotaru Ioan \n✓Cojocaru Mihaela Eleonora \n✓Corcoveanu Livia \n✓Cosoveanu Cristina \n✓Cruceru Valerian \n✓Dalea Petre \n✓Floriganta Cristian \n✓Furdu Mircea \n✓Iancu Daniela \n✓Keller Erica \n✓Mirescu Silviu Cristian \n✓Modan Teodora \n✓Năstasie Dan \n✓Netoiu Ion Claudiu \n✓Obreja Cătălin \n✓Ovi D Pop \n✓Pălădescu Diana \n✓Pașca Iuliana \n✓Popa Victor \n✓Pușcașu Dan \n✓Roșu Anca \n✓Rusu Adela Lia \n✓Sab Angelo \n✓Scaunașu Ionel \n✓Scubli Mariana \n✓Segal Paul \n✓Tătaru Ioan Bogdan \n✓Urziceanu Ovidiu \n✓Vochescu Gabriela \n✓Voicu Andi. \nVernisajul expoziției va fi moderat de Andrada Cojocaru\, președinte al Uniunii Ziariștilor Profesioniști „Tudor Arghezi” – Filiala Dolj. \nDin programul evenimentului fac parte două expuneri ce dezvăluie fațete mai puțin cunoscute ale artistului: \n\n„Brâncuși Esotericul”\, susținută de binecunoscutul publicist Dan Lupescu\, o incursiune în simbolurile și energiile subtile ce pulsează în creația sa;\n„Brâncuși Fotograful”\, prezentată de Silviu Cristian Mirescu\, o privire asupra artistului care a știut să modeleze nu doar materia\, ci și lumina.\n\nLa finalul serii\, publicul va asista la un moment artistic oferit de cvartetul de coarde „Gaudeamus” al Universității din Craiova\, compus din Darius Melencovici\, Andreea Poenaru\, Ana Maria Odină și Gabriela Sârbu.
URL:https://craiovalive.ro/eveniment/expozitie-de-fotografie-eternul-brancusi/2026-03-15/
LOCATION:Muzeul Cărții și Exilului Românesc\, Str. 24 Ianuarie nr. 4\, Craiova\, Dolj\, România
CATEGORIES:Expoziție,Fotografie
ATTACH;FMTTYPE=image/jpeg:https://craiovalive.ro/wp-content/uploads/2026/02/Expozitie-de-fotografie-Eternul-Brancusi.jpeg
GEO:44.3141881;23.7984041
X-APPLE-STRUCTURED-LOCATION;VALUE=URI;X-ADDRESS=Muzeul Cărții și Exilului Românesc Str. 24 Ianuarie nr. 4 Craiova Dolj România;X-APPLE-RADIUS=500;X-TITLE=Str. 24 Ianuarie nr. 4:geo:23.7984041,44.3141881
END:VEVENT
END:VCALENDAR