BEGIN:VCALENDAR
VERSION:2.0
PRODID:-//Craiova Live - ECPv6.15.18//NONSGML v1.0//EN
CALSCALE:GREGORIAN
METHOD:PUBLISH
X-ORIGINAL-URL:https://craiovalive.ro
X-WR-CALDESC:Evenimente pentru Craiova Live
REFRESH-INTERVAL;VALUE=DURATION:PT1H
X-Robots-Tag:noindex
X-PUBLISHED-TTL:PT1H
BEGIN:VTIMEZONE
TZID:Europe/Bucharest
BEGIN:DAYLIGHT
TZOFFSETFROM:+0200
TZOFFSETTO:+0300
TZNAME:EEST
DTSTART:20250330T010000
END:DAYLIGHT
BEGIN:STANDARD
TZOFFSETFROM:+0300
TZOFFSETTO:+0200
TZNAME:EET
DTSTART:20251026T010000
END:STANDARD
BEGIN:DAYLIGHT
TZOFFSETFROM:+0200
TZOFFSETTO:+0300
TZNAME:EEST
DTSTART:20260329T010000
END:DAYLIGHT
BEGIN:STANDARD
TZOFFSETFROM:+0300
TZOFFSETTO:+0200
TZNAME:EET
DTSTART:20261025T010000
END:STANDARD
BEGIN:DAYLIGHT
TZOFFSETFROM:+0200
TZOFFSETTO:+0300
TZNAME:EEST
DTSTART:20270328T010000
END:DAYLIGHT
BEGIN:STANDARD
TZOFFSETFROM:+0300
TZOFFSETTO:+0200
TZNAME:EET
DTSTART:20271031T010000
END:STANDARD
END:VTIMEZONE
BEGIN:VEVENT
DTSTART;TZID=Europe/Bucharest:20260210T090000
DTEND;TZID=Europe/Bucharest:20260210T170000
DTSTAMP:20260424T002623
CREATED:20260127T135309Z
LAST-MODIFIED:20260127T135309Z
UID:10012950-1770714000-1770742800@craiovalive.ro
SUMMARY:Expoziție de fotografie „Fântânile Olteniei. Arhivă și contemporaneitate”
DESCRIPTION:📌„Fântânile Olteniei. Arhivă și contemporaneitate”\n📍 Sectia de Etnografie – Casa Băniei\, Craiova\n🔷La Casa Băniei – Secția de Etnografie a Muzeului Olteniei Craiova a fost vernisată foto-expoziția temporară „Fântânile Olteniei. Arhivă și contemporaneitate”\, menită să aducă în prim-plan o perspectivă complexă asupra timpului și memoriei fântânilor din Oltenia: fântâni cu cumpănă\, cu roată\, cu structuri de lemn sau piatră\, fântâni de hotar sau de răscruce. \n📌Expoziția reunește fotografii de arhivă din patrimoniul Muzeului Olteniei și imagini contemporane realizate în cadrul proiectului independent „Fântânile Olteniei”\, desfășurat de echipa Omnia Photo începând cu anul 2016\, având ca obiectiv cartografierea și documentarea fântânilor de uz comunitar din regiunea Olteniei\, ca structuri vernaculare esențiale pentru viața rurală și memoria colectivă. \n🏦Proiectul cultural „Fântânile Olteniei” propune o reflecție asupra continuității fragile dintre trecut și prezent și asupra rolului fotografiei ca instrument documentar\, istoric și artistic\, capabil să conserve și să transmită memoria unor structuri aparent marginale\, dar esențiale pentru istoria tăcută a comunităților rurale. \nPublicul va putea vedea\, în premieră\, materiale fotografice analogice alb-negru și fișe de arhivă din perioada 1950–1970\, realizate în cadrul campaniilor de cercetare etnografică\, alături de imagini din anii 1930 și de fotografii contemporane realizate pe film și în format digital. \n✨Expoziția este semnată de fotografii documentariști Cristian Bassa și Dorian Delureanu\, cu sprijinul Azero\, iar cercetarea antropologică este realizată de Ana-Cristina Irian\, cu contribuții etnografice din partea dr. Roxanei Deca\, muzeograf Secția de Etnografie a Muzeului Olteniei. Conceptul expozițional este realizat de Roxana Deca și Ana-Cristina Irian\, beneficiind de contribuția specialiștilor Muzeului Olteniei\, Bogdan Lupu și Teodor Ion Surlin\, și invită vizitatorii să observe transformările\, continuitățile și contrastele dintre „atunci” și „acum” pentru a determina o experiență reflexivă\, în care trecutul documentat fotografic capătă noi sensuri prin raportare la prezent\, iar prezentul este îmbogățit de memoria vizuală a istoriei contemporane și etnografice. \n🎤Expoziția a fost deschisă de dr. Florin Ridiche\, managerul Muzeului Olteniei Craiova\, în prezența reprezentanților Omnia.Photo\, respectiv Dorian Delureanu și Cristina Irian\, cei care au realizat cercetarea de teren în cadrul proiectului cu același nume\, reușind\, prin efortul depus\, să realizeze cartografierea și documentarea fântânilor de uz comunitar din regiunea Olteniei. Despre conținutul și semnificația ritualică a acestor simboluri etnografice a vorbit dr. Roxana Deca\, muzeograf – Muzeul Olteniei și curatorul expoziției.\n🕰 Expoziția poate fi vizitată la Casa Băniei până la sfârșitul lunii februarie 2026.
URL:https://craiovalive.ro/eveniment/expozitie-de-fotografie-fantanile-olteniei-arhiva-si-contemporaneitate/2026-02-10/
LOCATION:Muzeul Olteniei – Secția de Etnografie – Casa Băniei\, Str. Matei Basarab\, nr. 16\, Craiova\, Dolj\, România
CATEGORIES:Expoziție,Fotografie
ATTACH;FMTTYPE=image/jpeg:https://craiovalive.ro/wp-content/uploads/2026/01/Expozitie-de-fotografie-„Fantanile-Olteniei.-Arhiva-si-contemporaneitate.jpg
ORGANIZER;CN="Muzeul Olteniei Craiova":MAILTO:muzeulolteniei@yahoo.com
GEO:44.314586;23.7922682
X-APPLE-STRUCTURED-LOCATION;VALUE=URI;X-ADDRESS=Muzeul Olteniei – Secția de Etnografie – Casa Băniei Str. Matei Basarab nr. 16 Craiova Dolj România;X-APPLE-RADIUS=500;X-TITLE=Str. Matei Basarab\, nr. 16:geo:23.7922682,44.314586
END:VEVENT
BEGIN:VEVENT
DTSTART;TZID=Europe/Bucharest:20260211T090000
DTEND;TZID=Europe/Bucharest:20260211T170000
DTSTAMP:20260424T002623
CREATED:20260127T135309Z
LAST-MODIFIED:20260127T135309Z
UID:10012951-1770800400-1770829200@craiovalive.ro
SUMMARY:Expoziție de fotografie „Fântânile Olteniei. Arhivă și contemporaneitate”
DESCRIPTION:📌„Fântânile Olteniei. Arhivă și contemporaneitate”\n📍 Sectia de Etnografie – Casa Băniei\, Craiova\n🔷La Casa Băniei – Secția de Etnografie a Muzeului Olteniei Craiova a fost vernisată foto-expoziția temporară „Fântânile Olteniei. Arhivă și contemporaneitate”\, menită să aducă în prim-plan o perspectivă complexă asupra timpului și memoriei fântânilor din Oltenia: fântâni cu cumpănă\, cu roată\, cu structuri de lemn sau piatră\, fântâni de hotar sau de răscruce. \n📌Expoziția reunește fotografii de arhivă din patrimoniul Muzeului Olteniei și imagini contemporane realizate în cadrul proiectului independent „Fântânile Olteniei”\, desfășurat de echipa Omnia Photo începând cu anul 2016\, având ca obiectiv cartografierea și documentarea fântânilor de uz comunitar din regiunea Olteniei\, ca structuri vernaculare esențiale pentru viața rurală și memoria colectivă. \n🏦Proiectul cultural „Fântânile Olteniei” propune o reflecție asupra continuității fragile dintre trecut și prezent și asupra rolului fotografiei ca instrument documentar\, istoric și artistic\, capabil să conserve și să transmită memoria unor structuri aparent marginale\, dar esențiale pentru istoria tăcută a comunităților rurale. \nPublicul va putea vedea\, în premieră\, materiale fotografice analogice alb-negru și fișe de arhivă din perioada 1950–1970\, realizate în cadrul campaniilor de cercetare etnografică\, alături de imagini din anii 1930 și de fotografii contemporane realizate pe film și în format digital. \n✨Expoziția este semnată de fotografii documentariști Cristian Bassa și Dorian Delureanu\, cu sprijinul Azero\, iar cercetarea antropologică este realizată de Ana-Cristina Irian\, cu contribuții etnografice din partea dr. Roxanei Deca\, muzeograf Secția de Etnografie a Muzeului Olteniei. Conceptul expozițional este realizat de Roxana Deca și Ana-Cristina Irian\, beneficiind de contribuția specialiștilor Muzeului Olteniei\, Bogdan Lupu și Teodor Ion Surlin\, și invită vizitatorii să observe transformările\, continuitățile și contrastele dintre „atunci” și „acum” pentru a determina o experiență reflexivă\, în care trecutul documentat fotografic capătă noi sensuri prin raportare la prezent\, iar prezentul este îmbogățit de memoria vizuală a istoriei contemporane și etnografice. \n🎤Expoziția a fost deschisă de dr. Florin Ridiche\, managerul Muzeului Olteniei Craiova\, în prezența reprezentanților Omnia.Photo\, respectiv Dorian Delureanu și Cristina Irian\, cei care au realizat cercetarea de teren în cadrul proiectului cu același nume\, reușind\, prin efortul depus\, să realizeze cartografierea și documentarea fântânilor de uz comunitar din regiunea Olteniei. Despre conținutul și semnificația ritualică a acestor simboluri etnografice a vorbit dr. Roxana Deca\, muzeograf – Muzeul Olteniei și curatorul expoziției.\n🕰 Expoziția poate fi vizitată la Casa Băniei până la sfârșitul lunii februarie 2026.
URL:https://craiovalive.ro/eveniment/expozitie-de-fotografie-fantanile-olteniei-arhiva-si-contemporaneitate/2026-02-11/
LOCATION:Muzeul Olteniei – Secția de Etnografie – Casa Băniei\, Str. Matei Basarab\, nr. 16\, Craiova\, Dolj\, România
CATEGORIES:Expoziție,Fotografie
ATTACH;FMTTYPE=image/jpeg:https://craiovalive.ro/wp-content/uploads/2026/01/Expozitie-de-fotografie-„Fantanile-Olteniei.-Arhiva-si-contemporaneitate.jpg
ORGANIZER;CN="Muzeul Olteniei Craiova":MAILTO:muzeulolteniei@yahoo.com
GEO:44.314586;23.7922682
X-APPLE-STRUCTURED-LOCATION;VALUE=URI;X-ADDRESS=Muzeul Olteniei – Secția de Etnografie – Casa Băniei Str. Matei Basarab nr. 16 Craiova Dolj România;X-APPLE-RADIUS=500;X-TITLE=Str. Matei Basarab\, nr. 16:geo:23.7922682,44.314586
END:VEVENT
BEGIN:VEVENT
DTSTART;TZID=Europe/Bucharest:20260212T090000
DTEND;TZID=Europe/Bucharest:20260212T170000
DTSTAMP:20260424T002623
CREATED:20260127T135309Z
LAST-MODIFIED:20260127T135309Z
UID:10012952-1770886800-1770915600@craiovalive.ro
SUMMARY:Expoziție de fotografie „Fântânile Olteniei. Arhivă și contemporaneitate”
DESCRIPTION:📌„Fântânile Olteniei. Arhivă și contemporaneitate”\n📍 Sectia de Etnografie – Casa Băniei\, Craiova\n🔷La Casa Băniei – Secția de Etnografie a Muzeului Olteniei Craiova a fost vernisată foto-expoziția temporară „Fântânile Olteniei. Arhivă și contemporaneitate”\, menită să aducă în prim-plan o perspectivă complexă asupra timpului și memoriei fântânilor din Oltenia: fântâni cu cumpănă\, cu roată\, cu structuri de lemn sau piatră\, fântâni de hotar sau de răscruce. \n📌Expoziția reunește fotografii de arhivă din patrimoniul Muzeului Olteniei și imagini contemporane realizate în cadrul proiectului independent „Fântânile Olteniei”\, desfășurat de echipa Omnia Photo începând cu anul 2016\, având ca obiectiv cartografierea și documentarea fântânilor de uz comunitar din regiunea Olteniei\, ca structuri vernaculare esențiale pentru viața rurală și memoria colectivă. \n🏦Proiectul cultural „Fântânile Olteniei” propune o reflecție asupra continuității fragile dintre trecut și prezent și asupra rolului fotografiei ca instrument documentar\, istoric și artistic\, capabil să conserve și să transmită memoria unor structuri aparent marginale\, dar esențiale pentru istoria tăcută a comunităților rurale. \nPublicul va putea vedea\, în premieră\, materiale fotografice analogice alb-negru și fișe de arhivă din perioada 1950–1970\, realizate în cadrul campaniilor de cercetare etnografică\, alături de imagini din anii 1930 și de fotografii contemporane realizate pe film și în format digital. \n✨Expoziția este semnată de fotografii documentariști Cristian Bassa și Dorian Delureanu\, cu sprijinul Azero\, iar cercetarea antropologică este realizată de Ana-Cristina Irian\, cu contribuții etnografice din partea dr. Roxanei Deca\, muzeograf Secția de Etnografie a Muzeului Olteniei. Conceptul expozițional este realizat de Roxana Deca și Ana-Cristina Irian\, beneficiind de contribuția specialiștilor Muzeului Olteniei\, Bogdan Lupu și Teodor Ion Surlin\, și invită vizitatorii să observe transformările\, continuitățile și contrastele dintre „atunci” și „acum” pentru a determina o experiență reflexivă\, în care trecutul documentat fotografic capătă noi sensuri prin raportare la prezent\, iar prezentul este îmbogățit de memoria vizuală a istoriei contemporane și etnografice. \n🎤Expoziția a fost deschisă de dr. Florin Ridiche\, managerul Muzeului Olteniei Craiova\, în prezența reprezentanților Omnia.Photo\, respectiv Dorian Delureanu și Cristina Irian\, cei care au realizat cercetarea de teren în cadrul proiectului cu același nume\, reușind\, prin efortul depus\, să realizeze cartografierea și documentarea fântânilor de uz comunitar din regiunea Olteniei. Despre conținutul și semnificația ritualică a acestor simboluri etnografice a vorbit dr. Roxana Deca\, muzeograf – Muzeul Olteniei și curatorul expoziției.\n🕰 Expoziția poate fi vizitată la Casa Băniei până la sfârșitul lunii februarie 2026.
URL:https://craiovalive.ro/eveniment/expozitie-de-fotografie-fantanile-olteniei-arhiva-si-contemporaneitate/2026-02-12/
LOCATION:Muzeul Olteniei – Secția de Etnografie – Casa Băniei\, Str. Matei Basarab\, nr. 16\, Craiova\, Dolj\, România
CATEGORIES:Expoziție,Fotografie
ATTACH;FMTTYPE=image/jpeg:https://craiovalive.ro/wp-content/uploads/2026/01/Expozitie-de-fotografie-„Fantanile-Olteniei.-Arhiva-si-contemporaneitate.jpg
ORGANIZER;CN="Muzeul Olteniei Craiova":MAILTO:muzeulolteniei@yahoo.com
GEO:44.314586;23.7922682
X-APPLE-STRUCTURED-LOCATION;VALUE=URI;X-ADDRESS=Muzeul Olteniei – Secția de Etnografie – Casa Băniei Str. Matei Basarab nr. 16 Craiova Dolj România;X-APPLE-RADIUS=500;X-TITLE=Str. Matei Basarab\, nr. 16:geo:23.7922682,44.314586
END:VEVENT
BEGIN:VEVENT
DTSTART;TZID=Europe/Bucharest:20260212T170000
DTEND;TZID=Europe/Bucharest:20260212T180000
DTSTAMP:20260424T002623
CREATED:20260212T083217Z
LAST-MODIFIED:20260212T083217Z
UID:10013044-1770915600-1770919200@craiovalive.ro
SUMMARY:Expoziție „Brâncuși\, inspirație pentru tineri”
DESCRIPTION:„Brâncuși\, inspirație pentru tineri” – Expoziție de grafică\, pictură și artă fotografică \nȘcoala Populară de Arte și Meserii „Cornetti” din cadrul Centrului Județean de Cultură și Artă Dolj\, instituție aflată în subordinea Consiliului Județean Dolj\, invită publicul iubitor de artă la expoziția „Brâncuși\, inspirație pentru tineri”\, eveniment dedicat celebrării operei și spiritului marelui sculptor român Constantin Brâncuși. \nExpoziția reunește lucrări realizate de elevii claselor de arte vizuale\, care au explorat\, prin propriul limbaj artistic\, teme\, simboluri și concepte inspirate din creația brâncușiană. Fiecare lucrare reflectă sensibilitatea\, creativitatea și modul autentic în care tinerii artiști înțeleg și reinterpretează valorile universale promovate de Brâncuși: simplitatea formei\, esența și spiritualitatea. \nEvenimentul își propune să încurajeze dialogul dintre tradiție și contemporaneitate\, oferind publicului ocazia de a descoperi viziunea noii generații asupra unei moșteniri culturale de excepție. \nVă invităm să fiți alături de noi și să susțineți talentul și pasiunea elevilor noștri.
URL:https://craiovalive.ro/eveniment/expozitie-brancusi-inspiratie-pentru-tineri/
LOCATION:Dolj
CATEGORIES:Expoziție,Fotografie,Pictura
ATTACH;FMTTYPE=image/jpeg:https://craiovalive.ro/wp-content/uploads/2026/02/AFIS-EXPOZITIE-BRANCUSI-INSPIRATIE-PENTRU-TINERI.jpeg
ORGANIZER;CN="Centrul Jude%C8%9Bean de Cultur%C4%83 %C8%99i Art%C4%83 Dolj":MAILTO:cjcadolj@yahoo.com
END:VEVENT
BEGIN:VEVENT
DTSTART;TZID=Europe/Bucharest:20260213T090000
DTEND;TZID=Europe/Bucharest:20260213T170000
DTSTAMP:20260424T002623
CREATED:20260127T135309Z
LAST-MODIFIED:20260127T135309Z
UID:10012953-1770973200-1771002000@craiovalive.ro
SUMMARY:Expoziție de fotografie „Fântânile Olteniei. Arhivă și contemporaneitate”
DESCRIPTION:📌„Fântânile Olteniei. Arhivă și contemporaneitate”\n📍 Sectia de Etnografie – Casa Băniei\, Craiova\n🔷La Casa Băniei – Secția de Etnografie a Muzeului Olteniei Craiova a fost vernisată foto-expoziția temporară „Fântânile Olteniei. Arhivă și contemporaneitate”\, menită să aducă în prim-plan o perspectivă complexă asupra timpului și memoriei fântânilor din Oltenia: fântâni cu cumpănă\, cu roată\, cu structuri de lemn sau piatră\, fântâni de hotar sau de răscruce. \n📌Expoziția reunește fotografii de arhivă din patrimoniul Muzeului Olteniei și imagini contemporane realizate în cadrul proiectului independent „Fântânile Olteniei”\, desfășurat de echipa Omnia Photo începând cu anul 2016\, având ca obiectiv cartografierea și documentarea fântânilor de uz comunitar din regiunea Olteniei\, ca structuri vernaculare esențiale pentru viața rurală și memoria colectivă. \n🏦Proiectul cultural „Fântânile Olteniei” propune o reflecție asupra continuității fragile dintre trecut și prezent și asupra rolului fotografiei ca instrument documentar\, istoric și artistic\, capabil să conserve și să transmită memoria unor structuri aparent marginale\, dar esențiale pentru istoria tăcută a comunităților rurale. \nPublicul va putea vedea\, în premieră\, materiale fotografice analogice alb-negru și fișe de arhivă din perioada 1950–1970\, realizate în cadrul campaniilor de cercetare etnografică\, alături de imagini din anii 1930 și de fotografii contemporane realizate pe film și în format digital. \n✨Expoziția este semnată de fotografii documentariști Cristian Bassa și Dorian Delureanu\, cu sprijinul Azero\, iar cercetarea antropologică este realizată de Ana-Cristina Irian\, cu contribuții etnografice din partea dr. Roxanei Deca\, muzeograf Secția de Etnografie a Muzeului Olteniei. Conceptul expozițional este realizat de Roxana Deca și Ana-Cristina Irian\, beneficiind de contribuția specialiștilor Muzeului Olteniei\, Bogdan Lupu și Teodor Ion Surlin\, și invită vizitatorii să observe transformările\, continuitățile și contrastele dintre „atunci” și „acum” pentru a determina o experiență reflexivă\, în care trecutul documentat fotografic capătă noi sensuri prin raportare la prezent\, iar prezentul este îmbogățit de memoria vizuală a istoriei contemporane și etnografice. \n🎤Expoziția a fost deschisă de dr. Florin Ridiche\, managerul Muzeului Olteniei Craiova\, în prezența reprezentanților Omnia.Photo\, respectiv Dorian Delureanu și Cristina Irian\, cei care au realizat cercetarea de teren în cadrul proiectului cu același nume\, reușind\, prin efortul depus\, să realizeze cartografierea și documentarea fântânilor de uz comunitar din regiunea Olteniei. Despre conținutul și semnificația ritualică a acestor simboluri etnografice a vorbit dr. Roxana Deca\, muzeograf – Muzeul Olteniei și curatorul expoziției.\n🕰 Expoziția poate fi vizitată la Casa Băniei până la sfârșitul lunii februarie 2026.
URL:https://craiovalive.ro/eveniment/expozitie-de-fotografie-fantanile-olteniei-arhiva-si-contemporaneitate/2026-02-13/
LOCATION:Muzeul Olteniei – Secția de Etnografie – Casa Băniei\, Str. Matei Basarab\, nr. 16\, Craiova\, Dolj\, România
CATEGORIES:Expoziție,Fotografie
ATTACH;FMTTYPE=image/jpeg:https://craiovalive.ro/wp-content/uploads/2026/01/Expozitie-de-fotografie-„Fantanile-Olteniei.-Arhiva-si-contemporaneitate.jpg
ORGANIZER;CN="Muzeul Olteniei Craiova":MAILTO:muzeulolteniei@yahoo.com
GEO:44.314586;23.7922682
X-APPLE-STRUCTURED-LOCATION;VALUE=URI;X-ADDRESS=Muzeul Olteniei – Secția de Etnografie – Casa Băniei Str. Matei Basarab nr. 16 Craiova Dolj România;X-APPLE-RADIUS=500;X-TITLE=Str. Matei Basarab\, nr. 16:geo:23.7922682,44.314586
END:VEVENT
BEGIN:VEVENT
DTSTART;TZID=Europe/Bucharest:20260214T090000
DTEND;TZID=Europe/Bucharest:20260214T170000
DTSTAMP:20260424T002623
CREATED:20260127T135309Z
LAST-MODIFIED:20260127T135309Z
UID:10012954-1771059600-1771088400@craiovalive.ro
SUMMARY:Expoziție de fotografie „Fântânile Olteniei. Arhivă și contemporaneitate”
DESCRIPTION:📌„Fântânile Olteniei. Arhivă și contemporaneitate”\n📍 Sectia de Etnografie – Casa Băniei\, Craiova\n🔷La Casa Băniei – Secția de Etnografie a Muzeului Olteniei Craiova a fost vernisată foto-expoziția temporară „Fântânile Olteniei. Arhivă și contemporaneitate”\, menită să aducă în prim-plan o perspectivă complexă asupra timpului și memoriei fântânilor din Oltenia: fântâni cu cumpănă\, cu roată\, cu structuri de lemn sau piatră\, fântâni de hotar sau de răscruce. \n📌Expoziția reunește fotografii de arhivă din patrimoniul Muzeului Olteniei și imagini contemporane realizate în cadrul proiectului independent „Fântânile Olteniei”\, desfășurat de echipa Omnia Photo începând cu anul 2016\, având ca obiectiv cartografierea și documentarea fântânilor de uz comunitar din regiunea Olteniei\, ca structuri vernaculare esențiale pentru viața rurală și memoria colectivă. \n🏦Proiectul cultural „Fântânile Olteniei” propune o reflecție asupra continuității fragile dintre trecut și prezent și asupra rolului fotografiei ca instrument documentar\, istoric și artistic\, capabil să conserve și să transmită memoria unor structuri aparent marginale\, dar esențiale pentru istoria tăcută a comunităților rurale. \nPublicul va putea vedea\, în premieră\, materiale fotografice analogice alb-negru și fișe de arhivă din perioada 1950–1970\, realizate în cadrul campaniilor de cercetare etnografică\, alături de imagini din anii 1930 și de fotografii contemporane realizate pe film și în format digital. \n✨Expoziția este semnată de fotografii documentariști Cristian Bassa și Dorian Delureanu\, cu sprijinul Azero\, iar cercetarea antropologică este realizată de Ana-Cristina Irian\, cu contribuții etnografice din partea dr. Roxanei Deca\, muzeograf Secția de Etnografie a Muzeului Olteniei. Conceptul expozițional este realizat de Roxana Deca și Ana-Cristina Irian\, beneficiind de contribuția specialiștilor Muzeului Olteniei\, Bogdan Lupu și Teodor Ion Surlin\, și invită vizitatorii să observe transformările\, continuitățile și contrastele dintre „atunci” și „acum” pentru a determina o experiență reflexivă\, în care trecutul documentat fotografic capătă noi sensuri prin raportare la prezent\, iar prezentul este îmbogățit de memoria vizuală a istoriei contemporane și etnografice. \n🎤Expoziția a fost deschisă de dr. Florin Ridiche\, managerul Muzeului Olteniei Craiova\, în prezența reprezentanților Omnia.Photo\, respectiv Dorian Delureanu și Cristina Irian\, cei care au realizat cercetarea de teren în cadrul proiectului cu același nume\, reușind\, prin efortul depus\, să realizeze cartografierea și documentarea fântânilor de uz comunitar din regiunea Olteniei. Despre conținutul și semnificația ritualică a acestor simboluri etnografice a vorbit dr. Roxana Deca\, muzeograf – Muzeul Olteniei și curatorul expoziției.\n🕰 Expoziția poate fi vizitată la Casa Băniei până la sfârșitul lunii februarie 2026.
URL:https://craiovalive.ro/eveniment/expozitie-de-fotografie-fantanile-olteniei-arhiva-si-contemporaneitate/2026-02-14/
LOCATION:Muzeul Olteniei – Secția de Etnografie – Casa Băniei\, Str. Matei Basarab\, nr. 16\, Craiova\, Dolj\, România
CATEGORIES:Expoziție,Fotografie
ATTACH;FMTTYPE=image/jpeg:https://craiovalive.ro/wp-content/uploads/2026/01/Expozitie-de-fotografie-„Fantanile-Olteniei.-Arhiva-si-contemporaneitate.jpg
ORGANIZER;CN="Muzeul Olteniei Craiova":MAILTO:muzeulolteniei@yahoo.com
GEO:44.314586;23.7922682
X-APPLE-STRUCTURED-LOCATION;VALUE=URI;X-ADDRESS=Muzeul Olteniei – Secția de Etnografie – Casa Băniei Str. Matei Basarab nr. 16 Craiova Dolj România;X-APPLE-RADIUS=500;X-TITLE=Str. Matei Basarab\, nr. 16:geo:23.7922682,44.314586
END:VEVENT
BEGIN:VEVENT
DTSTART;TZID=Europe/Bucharest:20260215T090000
DTEND;TZID=Europe/Bucharest:20260215T170000
DTSTAMP:20260424T002623
CREATED:20260127T135309Z
LAST-MODIFIED:20260127T135309Z
UID:10012955-1771146000-1771174800@craiovalive.ro
SUMMARY:Expoziție de fotografie „Fântânile Olteniei. Arhivă și contemporaneitate”
DESCRIPTION:📌„Fântânile Olteniei. Arhivă și contemporaneitate”\n📍 Sectia de Etnografie – Casa Băniei\, Craiova\n🔷La Casa Băniei – Secția de Etnografie a Muzeului Olteniei Craiova a fost vernisată foto-expoziția temporară „Fântânile Olteniei. Arhivă și contemporaneitate”\, menită să aducă în prim-plan o perspectivă complexă asupra timpului și memoriei fântânilor din Oltenia: fântâni cu cumpănă\, cu roată\, cu structuri de lemn sau piatră\, fântâni de hotar sau de răscruce. \n📌Expoziția reunește fotografii de arhivă din patrimoniul Muzeului Olteniei și imagini contemporane realizate în cadrul proiectului independent „Fântânile Olteniei”\, desfășurat de echipa Omnia Photo începând cu anul 2016\, având ca obiectiv cartografierea și documentarea fântânilor de uz comunitar din regiunea Olteniei\, ca structuri vernaculare esențiale pentru viața rurală și memoria colectivă. \n🏦Proiectul cultural „Fântânile Olteniei” propune o reflecție asupra continuității fragile dintre trecut și prezent și asupra rolului fotografiei ca instrument documentar\, istoric și artistic\, capabil să conserve și să transmită memoria unor structuri aparent marginale\, dar esențiale pentru istoria tăcută a comunităților rurale. \nPublicul va putea vedea\, în premieră\, materiale fotografice analogice alb-negru și fișe de arhivă din perioada 1950–1970\, realizate în cadrul campaniilor de cercetare etnografică\, alături de imagini din anii 1930 și de fotografii contemporane realizate pe film și în format digital. \n✨Expoziția este semnată de fotografii documentariști Cristian Bassa și Dorian Delureanu\, cu sprijinul Azero\, iar cercetarea antropologică este realizată de Ana-Cristina Irian\, cu contribuții etnografice din partea dr. Roxanei Deca\, muzeograf Secția de Etnografie a Muzeului Olteniei. Conceptul expozițional este realizat de Roxana Deca și Ana-Cristina Irian\, beneficiind de contribuția specialiștilor Muzeului Olteniei\, Bogdan Lupu și Teodor Ion Surlin\, și invită vizitatorii să observe transformările\, continuitățile și contrastele dintre „atunci” și „acum” pentru a determina o experiență reflexivă\, în care trecutul documentat fotografic capătă noi sensuri prin raportare la prezent\, iar prezentul este îmbogățit de memoria vizuală a istoriei contemporane și etnografice. \n🎤Expoziția a fost deschisă de dr. Florin Ridiche\, managerul Muzeului Olteniei Craiova\, în prezența reprezentanților Omnia.Photo\, respectiv Dorian Delureanu și Cristina Irian\, cei care au realizat cercetarea de teren în cadrul proiectului cu același nume\, reușind\, prin efortul depus\, să realizeze cartografierea și documentarea fântânilor de uz comunitar din regiunea Olteniei. Despre conținutul și semnificația ritualică a acestor simboluri etnografice a vorbit dr. Roxana Deca\, muzeograf – Muzeul Olteniei și curatorul expoziției.\n🕰 Expoziția poate fi vizitată la Casa Băniei până la sfârșitul lunii februarie 2026.
URL:https://craiovalive.ro/eveniment/expozitie-de-fotografie-fantanile-olteniei-arhiva-si-contemporaneitate/2026-02-15/
LOCATION:Muzeul Olteniei – Secția de Etnografie – Casa Băniei\, Str. Matei Basarab\, nr. 16\, Craiova\, Dolj\, România
CATEGORIES:Expoziție,Fotografie
ATTACH;FMTTYPE=image/jpeg:https://craiovalive.ro/wp-content/uploads/2026/01/Expozitie-de-fotografie-„Fantanile-Olteniei.-Arhiva-si-contemporaneitate.jpg
ORGANIZER;CN="Muzeul Olteniei Craiova":MAILTO:muzeulolteniei@yahoo.com
GEO:44.314586;23.7922682
X-APPLE-STRUCTURED-LOCATION;VALUE=URI;X-ADDRESS=Muzeul Olteniei – Secția de Etnografie – Casa Băniei Str. Matei Basarab nr. 16 Craiova Dolj România;X-APPLE-RADIUS=500;X-TITLE=Str. Matei Basarab\, nr. 16:geo:23.7922682,44.314586
END:VEVENT
END:VCALENDAR