BEGIN:VCALENDAR
VERSION:2.0
PRODID:-//Craiova Live - ECPv6.15.18//NONSGML v1.0//EN
CALSCALE:GREGORIAN
METHOD:PUBLISH
X-ORIGINAL-URL:https://craiovalive.ro
X-WR-CALDESC:Evenimente pentru Craiova Live
REFRESH-INTERVAL;VALUE=DURATION:PT1H
X-Robots-Tag:noindex
X-PUBLISHED-TTL:PT1H
BEGIN:VTIMEZONE
TZID:Europe/Bucharest
BEGIN:DAYLIGHT
TZOFFSETFROM:+0200
TZOFFSETTO:+0300
TZNAME:EEST
DTSTART:20250330T010000
END:DAYLIGHT
BEGIN:STANDARD
TZOFFSETFROM:+0300
TZOFFSETTO:+0200
TZNAME:EET
DTSTART:20251026T010000
END:STANDARD
BEGIN:DAYLIGHT
TZOFFSETFROM:+0200
TZOFFSETTO:+0300
TZNAME:EEST
DTSTART:20260329T010000
END:DAYLIGHT
BEGIN:STANDARD
TZOFFSETFROM:+0300
TZOFFSETTO:+0200
TZNAME:EET
DTSTART:20261025T010000
END:STANDARD
BEGIN:DAYLIGHT
TZOFFSETFROM:+0200
TZOFFSETTO:+0300
TZNAME:EEST
DTSTART:20270328T010000
END:DAYLIGHT
BEGIN:STANDARD
TZOFFSETFROM:+0300
TZOFFSETTO:+0200
TZNAME:EET
DTSTART:20271031T010000
END:STANDARD
END:VTIMEZONE
BEGIN:VEVENT
DTSTART;TZID=Europe/Bucharest:20260119T030000
DTEND;TZID=Europe/Bucharest:20260119T180000
DTSTAMP:20260424T015506
CREATED:20260114T113140Z
LAST-MODIFIED:20260114T113515Z
UID:10012798-1768791600-1768845600@craiovalive.ro
SUMMARY:Expoziția de artă vizuală „Eminesciana“ - ediția a VI-a
DESCRIPTION:Centrul Judeţean de Cultură și Artă Dolj – Secția pentru Conservarea şi Promovarea Culturii Tradiţionale\, Asociația Seniori Art Craiova și Cromatic Art Sudio vernisează joi\, 15 ianuarie 2026\, ora 15:00\, la Galeriile „Cromatic“\, expoziția „Eminesciana“ – ediția a VI-a\, dedicată Zilei Culturii Naționale și împlinirii a 176 de ani de la nașterea Luceafărului poeziei românești.  \nExpoziția de artă vizuală „Eminesciana“ – ediția a VI-a aduce pe simezele Galeriilor „Cromatic“\, în perioada 15 – 31 ianuarie 2026\, peste 50 de creații semnate de 44 de artiști plastici din mai multe orașe ale României (Craiova\, Constanța\, Tulcea\, Calafat\, Drăgășani)\, dar și din Gabon – Africa Centrală. Curatorii expoziției sunt artiștii plastici Emilian Popescu și Daniel Guță. Vizitatorii vor putea admira lucrări de pictură\, sculptură\, fotografie\, tapiserie și desen. Expozițiile vor fi deschise de Emilian Popescu – lect. univ. dr. în Arte vizuale și prof. Nicolae Marinescu – directorul Revistei Mozaicul. \nIntrarea este liberă.
URL:https://craiovalive.ro/eveniment/expozitia-de-arta-vizuala-eminesciana-editia-a-vi-a/2026-01-19/
LOCATION:Galeriile Cromatic\, str. Al. Macedonski\, nr. 28\, Craiova\, Dolj\, România
CATEGORIES:Expoziție,Fotografie,Pictura
ATTACH;FMTTYPE=image/jpeg:https://craiovalive.ro/wp-content/uploads/2026/01/Expozitia-de-arta-vizuala-„Eminesciana-editia-a-VI-a.jpeg
ORGANIZER;CN="Centrul Jude%C8%9Bean de Cultur%C4%83 %C8%99i Art%C4%83 Dolj - Sec%C8%9Bia pentru Conservarea %C5%9Fi Promovarea Culturii Tradi%C8%9Bionale Dolj":MAILTO:ccpdolj@yahoo.com
GEO:44.312816218541;23.800203213591
X-APPLE-STRUCTURED-LOCATION;VALUE=URI;X-ADDRESS=Galeriile Cromatic str. Al. Macedonski nr. 28 Craiova Dolj România;X-APPLE-RADIUS=500;X-TITLE=str. Al. Macedonski\, nr. 28:geo:23.800203213591,44.312816218541
END:VEVENT
BEGIN:VEVENT
DTSTART;TZID=Europe/Bucharest:20260120T030000
DTEND;TZID=Europe/Bucharest:20260120T180000
DTSTAMP:20260424T015506
CREATED:20260114T113140Z
LAST-MODIFIED:20260114T113515Z
UID:10012799-1768878000-1768932000@craiovalive.ro
SUMMARY:Expoziția de artă vizuală „Eminesciana“ - ediția a VI-a
DESCRIPTION:Centrul Judeţean de Cultură și Artă Dolj – Secția pentru Conservarea şi Promovarea Culturii Tradiţionale\, Asociația Seniori Art Craiova și Cromatic Art Sudio vernisează joi\, 15 ianuarie 2026\, ora 15:00\, la Galeriile „Cromatic“\, expoziția „Eminesciana“ – ediția a VI-a\, dedicată Zilei Culturii Naționale și împlinirii a 176 de ani de la nașterea Luceafărului poeziei românești.  \nExpoziția de artă vizuală „Eminesciana“ – ediția a VI-a aduce pe simezele Galeriilor „Cromatic“\, în perioada 15 – 31 ianuarie 2026\, peste 50 de creații semnate de 44 de artiști plastici din mai multe orașe ale României (Craiova\, Constanța\, Tulcea\, Calafat\, Drăgășani)\, dar și din Gabon – Africa Centrală. Curatorii expoziției sunt artiștii plastici Emilian Popescu și Daniel Guță. Vizitatorii vor putea admira lucrări de pictură\, sculptură\, fotografie\, tapiserie și desen. Expozițiile vor fi deschise de Emilian Popescu – lect. univ. dr. în Arte vizuale și prof. Nicolae Marinescu – directorul Revistei Mozaicul. \nIntrarea este liberă.
URL:https://craiovalive.ro/eveniment/expozitia-de-arta-vizuala-eminesciana-editia-a-vi-a/2026-01-20/
LOCATION:Galeriile Cromatic\, str. Al. Macedonski\, nr. 28\, Craiova\, Dolj\, România
CATEGORIES:Expoziție,Fotografie,Pictura
ATTACH;FMTTYPE=image/jpeg:https://craiovalive.ro/wp-content/uploads/2026/01/Expozitia-de-arta-vizuala-„Eminesciana-editia-a-VI-a.jpeg
ORGANIZER;CN="Centrul Jude%C8%9Bean de Cultur%C4%83 %C8%99i Art%C4%83 Dolj - Sec%C8%9Bia pentru Conservarea %C5%9Fi Promovarea Culturii Tradi%C8%9Bionale Dolj":MAILTO:ccpdolj@yahoo.com
GEO:44.312816218541;23.800203213591
X-APPLE-STRUCTURED-LOCATION;VALUE=URI;X-ADDRESS=Galeriile Cromatic str. Al. Macedonski nr. 28 Craiova Dolj România;X-APPLE-RADIUS=500;X-TITLE=str. Al. Macedonski\, nr. 28:geo:23.800203213591,44.312816218541
END:VEVENT
BEGIN:VEVENT
DTSTART;TZID=Europe/Bucharest:20260121T030000
DTEND;TZID=Europe/Bucharest:20260121T180000
DTSTAMP:20260424T015506
CREATED:20260114T113140Z
LAST-MODIFIED:20260114T113515Z
UID:10012800-1768964400-1769018400@craiovalive.ro
SUMMARY:Expoziția de artă vizuală „Eminesciana“ - ediția a VI-a
DESCRIPTION:Centrul Judeţean de Cultură și Artă Dolj – Secția pentru Conservarea şi Promovarea Culturii Tradiţionale\, Asociația Seniori Art Craiova și Cromatic Art Sudio vernisează joi\, 15 ianuarie 2026\, ora 15:00\, la Galeriile „Cromatic“\, expoziția „Eminesciana“ – ediția a VI-a\, dedicată Zilei Culturii Naționale și împlinirii a 176 de ani de la nașterea Luceafărului poeziei românești.  \nExpoziția de artă vizuală „Eminesciana“ – ediția a VI-a aduce pe simezele Galeriilor „Cromatic“\, în perioada 15 – 31 ianuarie 2026\, peste 50 de creații semnate de 44 de artiști plastici din mai multe orașe ale României (Craiova\, Constanța\, Tulcea\, Calafat\, Drăgășani)\, dar și din Gabon – Africa Centrală. Curatorii expoziției sunt artiștii plastici Emilian Popescu și Daniel Guță. Vizitatorii vor putea admira lucrări de pictură\, sculptură\, fotografie\, tapiserie și desen. Expozițiile vor fi deschise de Emilian Popescu – lect. univ. dr. în Arte vizuale și prof. Nicolae Marinescu – directorul Revistei Mozaicul. \nIntrarea este liberă.
URL:https://craiovalive.ro/eveniment/expozitia-de-arta-vizuala-eminesciana-editia-a-vi-a/2026-01-21/
LOCATION:Galeriile Cromatic\, str. Al. Macedonski\, nr. 28\, Craiova\, Dolj\, România
CATEGORIES:Expoziție,Fotografie,Pictura
ATTACH;FMTTYPE=image/jpeg:https://craiovalive.ro/wp-content/uploads/2026/01/Expozitia-de-arta-vizuala-„Eminesciana-editia-a-VI-a.jpeg
ORGANIZER;CN="Centrul Jude%C8%9Bean de Cultur%C4%83 %C8%99i Art%C4%83 Dolj - Sec%C8%9Bia pentru Conservarea %C5%9Fi Promovarea Culturii Tradi%C8%9Bionale Dolj":MAILTO:ccpdolj@yahoo.com
GEO:44.312816218541;23.800203213591
X-APPLE-STRUCTURED-LOCATION;VALUE=URI;X-ADDRESS=Galeriile Cromatic str. Al. Macedonski nr. 28 Craiova Dolj România;X-APPLE-RADIUS=500;X-TITLE=str. Al. Macedonski\, nr. 28:geo:23.800203213591,44.312816218541
END:VEVENT
BEGIN:VEVENT
DTSTART;TZID=Europe/Bucharest:20260122T030000
DTEND;TZID=Europe/Bucharest:20260122T180000
DTSTAMP:20260424T015506
CREATED:20260114T113140Z
LAST-MODIFIED:20260114T113515Z
UID:10012801-1769050800-1769104800@craiovalive.ro
SUMMARY:Expoziția de artă vizuală „Eminesciana“ - ediția a VI-a
DESCRIPTION:Centrul Judeţean de Cultură și Artă Dolj – Secția pentru Conservarea şi Promovarea Culturii Tradiţionale\, Asociația Seniori Art Craiova și Cromatic Art Sudio vernisează joi\, 15 ianuarie 2026\, ora 15:00\, la Galeriile „Cromatic“\, expoziția „Eminesciana“ – ediția a VI-a\, dedicată Zilei Culturii Naționale și împlinirii a 176 de ani de la nașterea Luceafărului poeziei românești.  \nExpoziția de artă vizuală „Eminesciana“ – ediția a VI-a aduce pe simezele Galeriilor „Cromatic“\, în perioada 15 – 31 ianuarie 2026\, peste 50 de creații semnate de 44 de artiști plastici din mai multe orașe ale României (Craiova\, Constanța\, Tulcea\, Calafat\, Drăgășani)\, dar și din Gabon – Africa Centrală. Curatorii expoziției sunt artiștii plastici Emilian Popescu și Daniel Guță. Vizitatorii vor putea admira lucrări de pictură\, sculptură\, fotografie\, tapiserie și desen. Expozițiile vor fi deschise de Emilian Popescu – lect. univ. dr. în Arte vizuale și prof. Nicolae Marinescu – directorul Revistei Mozaicul. \nIntrarea este liberă.
URL:https://craiovalive.ro/eveniment/expozitia-de-arta-vizuala-eminesciana-editia-a-vi-a/2026-01-22/
LOCATION:Galeriile Cromatic\, str. Al. Macedonski\, nr. 28\, Craiova\, Dolj\, România
CATEGORIES:Expoziție,Fotografie,Pictura
ATTACH;FMTTYPE=image/jpeg:https://craiovalive.ro/wp-content/uploads/2026/01/Expozitia-de-arta-vizuala-„Eminesciana-editia-a-VI-a.jpeg
ORGANIZER;CN="Centrul Jude%C8%9Bean de Cultur%C4%83 %C8%99i Art%C4%83 Dolj - Sec%C8%9Bia pentru Conservarea %C5%9Fi Promovarea Culturii Tradi%C8%9Bionale Dolj":MAILTO:ccpdolj@yahoo.com
GEO:44.312816218541;23.800203213591
X-APPLE-STRUCTURED-LOCATION;VALUE=URI;X-ADDRESS=Galeriile Cromatic str. Al. Macedonski nr. 28 Craiova Dolj România;X-APPLE-RADIUS=500;X-TITLE=str. Al. Macedonski\, nr. 28:geo:23.800203213591,44.312816218541
END:VEVENT
BEGIN:VEVENT
DTSTART;TZID=Europe/Bucharest:20260123T030000
DTEND;TZID=Europe/Bucharest:20260123T180000
DTSTAMP:20260424T015506
CREATED:20260114T113140Z
LAST-MODIFIED:20260114T113515Z
UID:10012802-1769137200-1769191200@craiovalive.ro
SUMMARY:Expoziția de artă vizuală „Eminesciana“ - ediția a VI-a
DESCRIPTION:Centrul Judeţean de Cultură și Artă Dolj – Secția pentru Conservarea şi Promovarea Culturii Tradiţionale\, Asociația Seniori Art Craiova și Cromatic Art Sudio vernisează joi\, 15 ianuarie 2026\, ora 15:00\, la Galeriile „Cromatic“\, expoziția „Eminesciana“ – ediția a VI-a\, dedicată Zilei Culturii Naționale și împlinirii a 176 de ani de la nașterea Luceafărului poeziei românești.  \nExpoziția de artă vizuală „Eminesciana“ – ediția a VI-a aduce pe simezele Galeriilor „Cromatic“\, în perioada 15 – 31 ianuarie 2026\, peste 50 de creații semnate de 44 de artiști plastici din mai multe orașe ale României (Craiova\, Constanța\, Tulcea\, Calafat\, Drăgășani)\, dar și din Gabon – Africa Centrală. Curatorii expoziției sunt artiștii plastici Emilian Popescu și Daniel Guță. Vizitatorii vor putea admira lucrări de pictură\, sculptură\, fotografie\, tapiserie și desen. Expozițiile vor fi deschise de Emilian Popescu – lect. univ. dr. în Arte vizuale și prof. Nicolae Marinescu – directorul Revistei Mozaicul. \nIntrarea este liberă.
URL:https://craiovalive.ro/eveniment/expozitia-de-arta-vizuala-eminesciana-editia-a-vi-a/2026-01-23/
LOCATION:Galeriile Cromatic\, str. Al. Macedonski\, nr. 28\, Craiova\, Dolj\, România
CATEGORIES:Expoziție,Fotografie,Pictura
ATTACH;FMTTYPE=image/jpeg:https://craiovalive.ro/wp-content/uploads/2026/01/Expozitia-de-arta-vizuala-„Eminesciana-editia-a-VI-a.jpeg
ORGANIZER;CN="Centrul Jude%C8%9Bean de Cultur%C4%83 %C8%99i Art%C4%83 Dolj - Sec%C8%9Bia pentru Conservarea %C5%9Fi Promovarea Culturii Tradi%C8%9Bionale Dolj":MAILTO:ccpdolj@yahoo.com
GEO:44.312816218541;23.800203213591
X-APPLE-STRUCTURED-LOCATION;VALUE=URI;X-ADDRESS=Galeriile Cromatic str. Al. Macedonski nr. 28 Craiova Dolj România;X-APPLE-RADIUS=500;X-TITLE=str. Al. Macedonski\, nr. 28:geo:23.800203213591,44.312816218541
END:VEVENT
BEGIN:VEVENT
DTSTART;TZID=Europe/Bucharest:20260124T030000
DTEND;TZID=Europe/Bucharest:20260124T180000
DTSTAMP:20260424T015506
CREATED:20260114T113140Z
LAST-MODIFIED:20260114T113515Z
UID:10012803-1769223600-1769277600@craiovalive.ro
SUMMARY:Expoziția de artă vizuală „Eminesciana“ - ediția a VI-a
DESCRIPTION:Centrul Judeţean de Cultură și Artă Dolj – Secția pentru Conservarea şi Promovarea Culturii Tradiţionale\, Asociația Seniori Art Craiova și Cromatic Art Sudio vernisează joi\, 15 ianuarie 2026\, ora 15:00\, la Galeriile „Cromatic“\, expoziția „Eminesciana“ – ediția a VI-a\, dedicată Zilei Culturii Naționale și împlinirii a 176 de ani de la nașterea Luceafărului poeziei românești.  \nExpoziția de artă vizuală „Eminesciana“ – ediția a VI-a aduce pe simezele Galeriilor „Cromatic“\, în perioada 15 – 31 ianuarie 2026\, peste 50 de creații semnate de 44 de artiști plastici din mai multe orașe ale României (Craiova\, Constanța\, Tulcea\, Calafat\, Drăgășani)\, dar și din Gabon – Africa Centrală. Curatorii expoziției sunt artiștii plastici Emilian Popescu și Daniel Guță. Vizitatorii vor putea admira lucrări de pictură\, sculptură\, fotografie\, tapiserie și desen. Expozițiile vor fi deschise de Emilian Popescu – lect. univ. dr. în Arte vizuale și prof. Nicolae Marinescu – directorul Revistei Mozaicul. \nIntrarea este liberă.
URL:https://craiovalive.ro/eveniment/expozitia-de-arta-vizuala-eminesciana-editia-a-vi-a/2026-01-24/
LOCATION:Galeriile Cromatic\, str. Al. Macedonski\, nr. 28\, Craiova\, Dolj\, România
CATEGORIES:Expoziție,Fotografie,Pictura
ATTACH;FMTTYPE=image/jpeg:https://craiovalive.ro/wp-content/uploads/2026/01/Expozitia-de-arta-vizuala-„Eminesciana-editia-a-VI-a.jpeg
ORGANIZER;CN="Centrul Jude%C8%9Bean de Cultur%C4%83 %C8%99i Art%C4%83 Dolj - Sec%C8%9Bia pentru Conservarea %C5%9Fi Promovarea Culturii Tradi%C8%9Bionale Dolj":MAILTO:ccpdolj@yahoo.com
GEO:44.312816218541;23.800203213591
X-APPLE-STRUCTURED-LOCATION;VALUE=URI;X-ADDRESS=Galeriile Cromatic str. Al. Macedonski nr. 28 Craiova Dolj România;X-APPLE-RADIUS=500;X-TITLE=str. Al. Macedonski\, nr. 28:geo:23.800203213591,44.312816218541
END:VEVENT
BEGIN:VEVENT
DTSTART;TZID=Europe/Bucharest:20260125T030000
DTEND;TZID=Europe/Bucharest:20260125T180000
DTSTAMP:20260424T015506
CREATED:20260114T113140Z
LAST-MODIFIED:20260114T113515Z
UID:10012804-1769310000-1769364000@craiovalive.ro
SUMMARY:Expoziția de artă vizuală „Eminesciana“ - ediția a VI-a
DESCRIPTION:Centrul Judeţean de Cultură și Artă Dolj – Secția pentru Conservarea şi Promovarea Culturii Tradiţionale\, Asociația Seniori Art Craiova și Cromatic Art Sudio vernisează joi\, 15 ianuarie 2026\, ora 15:00\, la Galeriile „Cromatic“\, expoziția „Eminesciana“ – ediția a VI-a\, dedicată Zilei Culturii Naționale și împlinirii a 176 de ani de la nașterea Luceafărului poeziei românești.  \nExpoziția de artă vizuală „Eminesciana“ – ediția a VI-a aduce pe simezele Galeriilor „Cromatic“\, în perioada 15 – 31 ianuarie 2026\, peste 50 de creații semnate de 44 de artiști plastici din mai multe orașe ale României (Craiova\, Constanța\, Tulcea\, Calafat\, Drăgășani)\, dar și din Gabon – Africa Centrală. Curatorii expoziției sunt artiștii plastici Emilian Popescu și Daniel Guță. Vizitatorii vor putea admira lucrări de pictură\, sculptură\, fotografie\, tapiserie și desen. Expozițiile vor fi deschise de Emilian Popescu – lect. univ. dr. în Arte vizuale și prof. Nicolae Marinescu – directorul Revistei Mozaicul. \nIntrarea este liberă.
URL:https://craiovalive.ro/eveniment/expozitia-de-arta-vizuala-eminesciana-editia-a-vi-a/2026-01-25/
LOCATION:Galeriile Cromatic\, str. Al. Macedonski\, nr. 28\, Craiova\, Dolj\, România
CATEGORIES:Expoziție,Fotografie,Pictura
ATTACH;FMTTYPE=image/jpeg:https://craiovalive.ro/wp-content/uploads/2026/01/Expozitia-de-arta-vizuala-„Eminesciana-editia-a-VI-a.jpeg
ORGANIZER;CN="Centrul Jude%C8%9Bean de Cultur%C4%83 %C8%99i Art%C4%83 Dolj - Sec%C8%9Bia pentru Conservarea %C5%9Fi Promovarea Culturii Tradi%C8%9Bionale Dolj":MAILTO:ccpdolj@yahoo.com
GEO:44.312816218541;23.800203213591
X-APPLE-STRUCTURED-LOCATION;VALUE=URI;X-ADDRESS=Galeriile Cromatic str. Al. Macedonski nr. 28 Craiova Dolj România;X-APPLE-RADIUS=500;X-TITLE=str. Al. Macedonski\, nr. 28:geo:23.800203213591,44.312816218541
END:VEVENT
END:VCALENDAR