BEGIN:VCALENDAR
VERSION:2.0
PRODID:-//Craiova Live - ECPv6.15.18//NONSGML v1.0//EN
CALSCALE:GREGORIAN
METHOD:PUBLISH
X-WR-CALNAME:Craiova Live
X-ORIGINAL-URL:https://craiovalive.ro
X-WR-CALDESC:Evenimente pentru Craiova Live
REFRESH-INTERVAL;VALUE=DURATION:PT1H
X-Robots-Tag:noindex
X-PUBLISHED-TTL:PT1H
BEGIN:VTIMEZONE
TZID:Europe/Bucharest
BEGIN:DAYLIGHT
TZOFFSETFROM:+0200
TZOFFSETTO:+0300
TZNAME:EEST
DTSTART:20240331T010000
END:DAYLIGHT
BEGIN:STANDARD
TZOFFSETFROM:+0300
TZOFFSETTO:+0200
TZNAME:EET
DTSTART:20241027T010000
END:STANDARD
BEGIN:DAYLIGHT
TZOFFSETFROM:+0200
TZOFFSETTO:+0300
TZNAME:EEST
DTSTART:20250330T010000
END:DAYLIGHT
BEGIN:STANDARD
TZOFFSETFROM:+0300
TZOFFSETTO:+0200
TZNAME:EET
DTSTART:20251026T010000
END:STANDARD
BEGIN:DAYLIGHT
TZOFFSETFROM:+0200
TZOFFSETTO:+0300
TZNAME:EEST
DTSTART:20260329T010000
END:DAYLIGHT
BEGIN:STANDARD
TZOFFSETFROM:+0300
TZOFFSETTO:+0200
TZNAME:EET
DTSTART:20261025T010000
END:STANDARD
END:VTIMEZONE
BEGIN:VEVENT
DTSTART;TZID=Europe/Bucharest:20251230T090000
DTEND;TZID=Europe/Bucharest:20251230T170000
DTSTAMP:20260424T002506
CREATED:20251217T104819Z
LAST-MODIFIED:20251217T104819Z
UID:10012656-1767085200-1767114000@craiovalive.ro
SUMMARY:Expoziție fotografică Magia Sărbătorilor de Iarnă
DESCRIPTION:Muzeul Cărții și Exilului Românesc găzduiește miercuri\, 17 decembrie\, ora 18.00\, vernisajul expoziției fotografice Magia Sărbătorilor de Iarnă\, un eveniment dedicat frumuseții tradițiilor\, emoției sărbătorilor și forței expresive a imaginii fotografice. \nExpoziția reunește 158 de fotografii\, semnate de 24 de artiști fotografi din Craiova și din întreaga țară\, și propune un parcurs vizual amplu\, în care iarna este surprinsă ca stare de spirit\, memorie colectivă și expresie artistică. \nStructurată în trei secțiuni complementare\, expoziția oferă privitorului o experiență ce oscilează între intimitate\, comunitate și spectacol. \n✔Prima secțiune\, Seară magică\, prezintă 21 de naturi statice realizate de Rucsandra Silvia Călin\, EFIAP/d1\, imagini în care lumina și obiectele specifice sărbătorii Crăciunului construiesc o atmosferă de liniște\, așteptare și reculegere\, specifică serilor de iarnă. \n✔Cea de-a doua secțiune cuprinde 97 de fotografii – 73 în format landscape și 24 în format portret – aparținând celor 24 de artiști expozanți: Agop Alexandra (București)\, Amarandei Gabriel (Iași)\, Apostol Mircea Florian (Oradea)\, Boldîr Victor Cătălin (Craiova)\, Călin Rucsandra Silvia (Craiova)\, Ciobotaru Ioan (Rm. Vâlcea)\, Cojocaru Mihaela Eleonora (Craiova)\, Corcoveanu Livia (Craiova)\, Cruceru Valerian (Motru)\, Furdu Mircea Cristian (București)\, Mirescu Silviu Cristian (Craiova)\, Nețoiu Ion Claudiu (Baia de Aramă)\, Nucă Ionelia (Craiova)\, Obreja Cătălin (Craiova)\, Pop D. Ovi (Oradea)\, Popa Victor Eugen (Craiova)\, Radu Iulian (Bacău)\, Roșu Anca (Craiova)\, Rusu Adela (Oradea)\, Segal Paul (Israel)\, Scubli Mariana (Sighetul Marmației)\, Urziceanu Ovidiu (Calafat)\, Voicu Andi (Craiova) și Vochescu Gabriela (Craiova). \nAceste lucrări surprind o diversitate de elemente ale tradiției românești\, de la preparatele tradiționale și portul popular\, la dansurile și obiceiurile specifice diferitelor zone ale țării. \n✔Cea de-a treia secțiune reunește 40 de fotografii realizate în cadrul spectacolului Colindăm încă din zori\, susținut de Secția de folclor „Maria Tănase” a Teatrului Colibri din Craiova. Instantaneele surprind emoția colindului\, expresivitatea scenică și energia unui moment artistic dedicat sărbătorilor de iarnă. Prin obiectivul artiștilor fotografi Victor Cătălin Boldîr\, Mihaela Eleonora Cojocaru\, Livia Corcoveanu\, Silviu Cristian Mirescu\, Cătălin Obreja și Andi Marian Voicu\, colindul și arta populară capătă formă vizuală\, iar scena devine un spațiu al emoției colective. \nProgramul evenimentului cuprinde următoarele momente: \n\nun scurt program de colinde\, intitulat „Vin colindătorii”\, moment oferit de Lavinia Bârsoghe și un grup de colindători ai Secției de folclor „Maria Tănase” a Teatrului Colibri\nExpunere „Tradiția sărbătorilor de iarnă în Oltenia”\, susținută de prof. univ. dr. Gabriela Păsărin\nScurt program muzical – „Noapte de vis”\, în interpretarea lui Daniel Petrescu\, „Angels” Pop Opera Group\n\nExpoziția fotografică Magia Sărbătorilor de Iarnă\, este cea de a 12-a expoziție organizată în acest an la Muzeul Cărții și Exilului Românesc de Asociația Artiștilor Fotografi „Dacia Malvensis” din Oltenia.
URL:https://craiovalive.ro/eveniment/expozitie-fotografica-magia-sarbatorilor-de-iarna/2025-12-30/
LOCATION:Muzeul Cărții și Exilului Românesc\, Str. 24 Ianuarie nr. 4\, Craiova\, Dolj\, România
CATEGORIES:Expoziție,Fotografie
ATTACH;FMTTYPE=image/jpeg:https://craiovalive.ro/wp-content/uploads/2025/12/Expozitie-fotografica-Magia-Sarbatorilor-de-Iarna.jpeg
GEO:44.3141881;23.7984041
X-APPLE-STRUCTURED-LOCATION;VALUE=URI;X-ADDRESS=Muzeul Cărții și Exilului Românesc Str. 24 Ianuarie nr. 4 Craiova Dolj România;X-APPLE-RADIUS=500;X-TITLE=Str. 24 Ianuarie nr. 4:geo:23.7984041,44.3141881
END:VEVENT
BEGIN:VEVENT
DTSTART;TZID=Europe/Bucharest:20251231T090000
DTEND;TZID=Europe/Bucharest:20251231T170000
DTSTAMP:20260424T002506
CREATED:20251217T104819Z
LAST-MODIFIED:20251217T104819Z
UID:10012657-1767171600-1767200400@craiovalive.ro
SUMMARY:Expoziție fotografică Magia Sărbătorilor de Iarnă
DESCRIPTION:Muzeul Cărții și Exilului Românesc găzduiește miercuri\, 17 decembrie\, ora 18.00\, vernisajul expoziției fotografice Magia Sărbătorilor de Iarnă\, un eveniment dedicat frumuseții tradițiilor\, emoției sărbătorilor și forței expresive a imaginii fotografice. \nExpoziția reunește 158 de fotografii\, semnate de 24 de artiști fotografi din Craiova și din întreaga țară\, și propune un parcurs vizual amplu\, în care iarna este surprinsă ca stare de spirit\, memorie colectivă și expresie artistică. \nStructurată în trei secțiuni complementare\, expoziția oferă privitorului o experiență ce oscilează între intimitate\, comunitate și spectacol. \n✔Prima secțiune\, Seară magică\, prezintă 21 de naturi statice realizate de Rucsandra Silvia Călin\, EFIAP/d1\, imagini în care lumina și obiectele specifice sărbătorii Crăciunului construiesc o atmosferă de liniște\, așteptare și reculegere\, specifică serilor de iarnă. \n✔Cea de-a doua secțiune cuprinde 97 de fotografii – 73 în format landscape și 24 în format portret – aparținând celor 24 de artiști expozanți: Agop Alexandra (București)\, Amarandei Gabriel (Iași)\, Apostol Mircea Florian (Oradea)\, Boldîr Victor Cătălin (Craiova)\, Călin Rucsandra Silvia (Craiova)\, Ciobotaru Ioan (Rm. Vâlcea)\, Cojocaru Mihaela Eleonora (Craiova)\, Corcoveanu Livia (Craiova)\, Cruceru Valerian (Motru)\, Furdu Mircea Cristian (București)\, Mirescu Silviu Cristian (Craiova)\, Nețoiu Ion Claudiu (Baia de Aramă)\, Nucă Ionelia (Craiova)\, Obreja Cătălin (Craiova)\, Pop D. Ovi (Oradea)\, Popa Victor Eugen (Craiova)\, Radu Iulian (Bacău)\, Roșu Anca (Craiova)\, Rusu Adela (Oradea)\, Segal Paul (Israel)\, Scubli Mariana (Sighetul Marmației)\, Urziceanu Ovidiu (Calafat)\, Voicu Andi (Craiova) și Vochescu Gabriela (Craiova). \nAceste lucrări surprind o diversitate de elemente ale tradiției românești\, de la preparatele tradiționale și portul popular\, la dansurile și obiceiurile specifice diferitelor zone ale țării. \n✔Cea de-a treia secțiune reunește 40 de fotografii realizate în cadrul spectacolului Colindăm încă din zori\, susținut de Secția de folclor „Maria Tănase” a Teatrului Colibri din Craiova. Instantaneele surprind emoția colindului\, expresivitatea scenică și energia unui moment artistic dedicat sărbătorilor de iarnă. Prin obiectivul artiștilor fotografi Victor Cătălin Boldîr\, Mihaela Eleonora Cojocaru\, Livia Corcoveanu\, Silviu Cristian Mirescu\, Cătălin Obreja și Andi Marian Voicu\, colindul și arta populară capătă formă vizuală\, iar scena devine un spațiu al emoției colective. \nProgramul evenimentului cuprinde următoarele momente: \n\nun scurt program de colinde\, intitulat „Vin colindătorii”\, moment oferit de Lavinia Bârsoghe și un grup de colindători ai Secției de folclor „Maria Tănase” a Teatrului Colibri\nExpunere „Tradiția sărbătorilor de iarnă în Oltenia”\, susținută de prof. univ. dr. Gabriela Păsărin\nScurt program muzical – „Noapte de vis”\, în interpretarea lui Daniel Petrescu\, „Angels” Pop Opera Group\n\nExpoziția fotografică Magia Sărbătorilor de Iarnă\, este cea de a 12-a expoziție organizată în acest an la Muzeul Cărții și Exilului Românesc de Asociația Artiștilor Fotografi „Dacia Malvensis” din Oltenia.
URL:https://craiovalive.ro/eveniment/expozitie-fotografica-magia-sarbatorilor-de-iarna/2025-12-31/
LOCATION:Muzeul Cărții și Exilului Românesc\, Str. 24 Ianuarie nr. 4\, Craiova\, Dolj\, România
CATEGORIES:Expoziție,Fotografie
ATTACH;FMTTYPE=image/jpeg:https://craiovalive.ro/wp-content/uploads/2025/12/Expozitie-fotografica-Magia-Sarbatorilor-de-Iarna.jpeg
GEO:44.3141881;23.7984041
X-APPLE-STRUCTURED-LOCATION;VALUE=URI;X-ADDRESS=Muzeul Cărții și Exilului Românesc Str. 24 Ianuarie nr. 4 Craiova Dolj România;X-APPLE-RADIUS=500;X-TITLE=Str. 24 Ianuarie nr. 4:geo:23.7984041,44.3141881
END:VEVENT
END:VCALENDAR