BEGIN:VCALENDAR
VERSION:2.0
PRODID:-//Craiova Live - ECPv6.15.18//NONSGML v1.0//EN
CALSCALE:GREGORIAN
METHOD:PUBLISH
X-WR-CALNAME:Craiova Live
X-ORIGINAL-URL:https://craiovalive.ro
X-WR-CALDESC:Evenimente pentru Craiova Live
REFRESH-INTERVAL;VALUE=DURATION:PT1H
X-Robots-Tag:noindex
X-PUBLISHED-TTL:PT1H
BEGIN:VTIMEZONE
TZID:Europe/Bucharest
BEGIN:DAYLIGHT
TZOFFSETFROM:+0200
TZOFFSETTO:+0300
TZNAME:EEST
DTSTART:20240331T010000
END:DAYLIGHT
BEGIN:STANDARD
TZOFFSETFROM:+0300
TZOFFSETTO:+0200
TZNAME:EET
DTSTART:20241027T010000
END:STANDARD
BEGIN:DAYLIGHT
TZOFFSETFROM:+0200
TZOFFSETTO:+0300
TZNAME:EEST
DTSTART:20250330T010000
END:DAYLIGHT
BEGIN:STANDARD
TZOFFSETFROM:+0300
TZOFFSETTO:+0200
TZNAME:EET
DTSTART:20251026T010000
END:STANDARD
BEGIN:DAYLIGHT
TZOFFSETFROM:+0200
TZOFFSETTO:+0300
TZNAME:EEST
DTSTART:20260329T010000
END:DAYLIGHT
BEGIN:STANDARD
TZOFFSETFROM:+0300
TZOFFSETTO:+0200
TZNAME:EET
DTSTART:20261025T010000
END:STANDARD
END:VTIMEZONE
BEGIN:VEVENT
DTSTART;TZID=Europe/Bucharest:20250507T180000
DTEND;TZID=Europe/Bucharest:20250507T190000
DTSTAMP:20260424T174019
CREATED:20250505T075651Z
LAST-MODIFIED:20250505T075651Z
UID:10006281-1746640800-1746644400@craiovalive.ro
SUMMARY:Expoziție de artă fotografică „Strada și scena”
DESCRIPTION:Muzeul Cărții și Exilului găzduiește miercuri\, 7 mai 2025\, la ora 18.00\, vernisajul expoziției de artă fotografică „Strada și scena”\, organizată de Asociația Artiștilor Fotografi „Dacia Malvensis”\,  din Oltenia și Uniunea Ziariștilor Profesioniști din România\, Filiala „Tudor Arghezi”\, Dolj. \nExpoziția este dedicată evenimentului din data de 7 mai 1975\, când artistul fotograf francez Henri Cartier-Bresson a vizitat Craiova și zonele din nordul Olteniei și s-a întâlnit cu cei trei maeștri fotografi craioveni ai  vremii: Mihai Dan Călinescu\, Nicu Dan Gelep și Victor Boldâr. \nÎn cadrul expoziției „Strada și scena„ vor expune artiștii fotografi: Rucsandra Silvia Călin\, Mariana Scubli\, Cristian Tiberiu Floriganță\, Livia Corcoveanu\, Ioan Ciobotaru\, Bogdan Negoiță\, Silviu Cristian Mirescu\, Gabriele Vochescu\, Mircea Furdu\, Ion Claudiu Nețoiu\, Mihaela Eleonora Cojocaru\, Angelo SAB\, Gabriel Amarandei\, Velerian Cruceru\, Cătălin Obreja\, Cristina Marcu\, Claudia Radu\, Gabriela Bărăitaru\, Anne Marie Gavrilă\, Cătălin Arcu\, Valentin Flory\, Ovidiu Marius Urziceanu\, Nicoles Alexandru Florică\, Gabriela Ivan\, Diana Paladescu\, Viorica Anoaica\, Daniela Iancu\, Victor Popa. \nExpoziția va putea fi vizitată la Muzeul Cărții și Exilului Românesc până pe data de 28 mai 2025.
URL:https://craiovalive.ro/eveniment/expozitie-de-arta-fotografica-strada-si-scena/2025-05-07/
LOCATION:Muzeul Cărții și Exilului Românesc\, Str. 24 Ianuarie nr. 4\, Craiova\, Dolj\, România
CATEGORIES:Expoziție,Fotografie
ATTACH;FMTTYPE=image/jpeg:https://craiovalive.ro/wp-content/uploads/2025/05/Expozitie-de-arta-fotografica-„Strada-si-scena.jpeg
GEO:44.3141881;23.7984041
X-APPLE-STRUCTURED-LOCATION;VALUE=URI;X-ADDRESS=Muzeul Cărții și Exilului Românesc Str. 24 Ianuarie nr. 4 Craiova Dolj România;X-APPLE-RADIUS=500;X-TITLE=Str. 24 Ianuarie nr. 4:geo:23.7984041,44.3141881
END:VEVENT
BEGIN:VEVENT
DTSTART;TZID=Europe/Bucharest:20250508T090000
DTEND;TZID=Europe/Bucharest:20250508T170000
DTSTAMP:20260424T174019
CREATED:20250505T075651Z
LAST-MODIFIED:20250505T075651Z
UID:10006282-1746694800-1746723600@craiovalive.ro
SUMMARY:Expoziție de artă fotografică „Strada și scena”
DESCRIPTION:Muzeul Cărții și Exilului găzduiește miercuri\, 7 mai 2025\, la ora 18.00\, vernisajul expoziției de artă fotografică „Strada și scena”\, organizată de Asociația Artiștilor Fotografi „Dacia Malvensis”\,  din Oltenia și Uniunea Ziariștilor Profesioniști din România\, Filiala „Tudor Arghezi”\, Dolj. \nExpoziția este dedicată evenimentului din data de 7 mai 1975\, când artistul fotograf francez Henri Cartier-Bresson a vizitat Craiova și zonele din nordul Olteniei și s-a întâlnit cu cei trei maeștri fotografi craioveni ai  vremii: Mihai Dan Călinescu\, Nicu Dan Gelep și Victor Boldâr. \nÎn cadrul expoziției „Strada și scena„ vor expune artiștii fotografi: Rucsandra Silvia Călin\, Mariana Scubli\, Cristian Tiberiu Floriganță\, Livia Corcoveanu\, Ioan Ciobotaru\, Bogdan Negoiță\, Silviu Cristian Mirescu\, Gabriele Vochescu\, Mircea Furdu\, Ion Claudiu Nețoiu\, Mihaela Eleonora Cojocaru\, Angelo SAB\, Gabriel Amarandei\, Velerian Cruceru\, Cătălin Obreja\, Cristina Marcu\, Claudia Radu\, Gabriela Bărăitaru\, Anne Marie Gavrilă\, Cătălin Arcu\, Valentin Flory\, Ovidiu Marius Urziceanu\, Nicoles Alexandru Florică\, Gabriela Ivan\, Diana Paladescu\, Viorica Anoaica\, Daniela Iancu\, Victor Popa. \nExpoziția va putea fi vizitată la Muzeul Cărții și Exilului Românesc până pe data de 28 mai 2025.
URL:https://craiovalive.ro/eveniment/expozitie-de-arta-fotografica-strada-si-scena/2025-05-08/
LOCATION:Muzeul Cărții și Exilului Românesc\, Str. 24 Ianuarie nr. 4\, Craiova\, Dolj\, România
CATEGORIES:Expoziție,Fotografie
ATTACH;FMTTYPE=image/jpeg:https://craiovalive.ro/wp-content/uploads/2025/05/Expozitie-de-arta-fotografica-„Strada-si-scena.jpeg
GEO:44.3141881;23.7984041
X-APPLE-STRUCTURED-LOCATION;VALUE=URI;X-ADDRESS=Muzeul Cărții și Exilului Românesc Str. 24 Ianuarie nr. 4 Craiova Dolj România;X-APPLE-RADIUS=500;X-TITLE=Str. 24 Ianuarie nr. 4:geo:23.7984041,44.3141881
END:VEVENT
BEGIN:VEVENT
DTSTART;TZID=Europe/Bucharest:20250509T090000
DTEND;TZID=Europe/Bucharest:20250509T170000
DTSTAMP:20260424T174019
CREATED:20250505T075651Z
LAST-MODIFIED:20250505T075651Z
UID:10006283-1746781200-1746810000@craiovalive.ro
SUMMARY:Expoziție de artă fotografică „Strada și scena”
DESCRIPTION:Muzeul Cărții și Exilului găzduiește miercuri\, 7 mai 2025\, la ora 18.00\, vernisajul expoziției de artă fotografică „Strada și scena”\, organizată de Asociația Artiștilor Fotografi „Dacia Malvensis”\,  din Oltenia și Uniunea Ziariștilor Profesioniști din România\, Filiala „Tudor Arghezi”\, Dolj. \nExpoziția este dedicată evenimentului din data de 7 mai 1975\, când artistul fotograf francez Henri Cartier-Bresson a vizitat Craiova și zonele din nordul Olteniei și s-a întâlnit cu cei trei maeștri fotografi craioveni ai  vremii: Mihai Dan Călinescu\, Nicu Dan Gelep și Victor Boldâr. \nÎn cadrul expoziției „Strada și scena„ vor expune artiștii fotografi: Rucsandra Silvia Călin\, Mariana Scubli\, Cristian Tiberiu Floriganță\, Livia Corcoveanu\, Ioan Ciobotaru\, Bogdan Negoiță\, Silviu Cristian Mirescu\, Gabriele Vochescu\, Mircea Furdu\, Ion Claudiu Nețoiu\, Mihaela Eleonora Cojocaru\, Angelo SAB\, Gabriel Amarandei\, Velerian Cruceru\, Cătălin Obreja\, Cristina Marcu\, Claudia Radu\, Gabriela Bărăitaru\, Anne Marie Gavrilă\, Cătălin Arcu\, Valentin Flory\, Ovidiu Marius Urziceanu\, Nicoles Alexandru Florică\, Gabriela Ivan\, Diana Paladescu\, Viorica Anoaica\, Daniela Iancu\, Victor Popa. \nExpoziția va putea fi vizitată la Muzeul Cărții și Exilului Românesc până pe data de 28 mai 2025.
URL:https://craiovalive.ro/eveniment/expozitie-de-arta-fotografica-strada-si-scena/2025-05-09/
LOCATION:Muzeul Cărții și Exilului Românesc\, Str. 24 Ianuarie nr. 4\, Craiova\, Dolj\, România
CATEGORIES:Expoziție,Fotografie
ATTACH;FMTTYPE=image/jpeg:https://craiovalive.ro/wp-content/uploads/2025/05/Expozitie-de-arta-fotografica-„Strada-si-scena.jpeg
GEO:44.3141881;23.7984041
X-APPLE-STRUCTURED-LOCATION;VALUE=URI;X-ADDRESS=Muzeul Cărții și Exilului Românesc Str. 24 Ianuarie nr. 4 Craiova Dolj România;X-APPLE-RADIUS=500;X-TITLE=Str. 24 Ianuarie nr. 4:geo:23.7984041,44.3141881
END:VEVENT
BEGIN:VEVENT
DTSTART;TZID=Europe/Bucharest:20250510T090000
DTEND;TZID=Europe/Bucharest:20250510T170000
DTSTAMP:20260424T174019
CREATED:20250505T075651Z
LAST-MODIFIED:20250505T075651Z
UID:10006284-1746867600-1746896400@craiovalive.ro
SUMMARY:Expoziție de artă fotografică „Strada și scena”
DESCRIPTION:Muzeul Cărții și Exilului găzduiește miercuri\, 7 mai 2025\, la ora 18.00\, vernisajul expoziției de artă fotografică „Strada și scena”\, organizată de Asociația Artiștilor Fotografi „Dacia Malvensis”\,  din Oltenia și Uniunea Ziariștilor Profesioniști din România\, Filiala „Tudor Arghezi”\, Dolj. \nExpoziția este dedicată evenimentului din data de 7 mai 1975\, când artistul fotograf francez Henri Cartier-Bresson a vizitat Craiova și zonele din nordul Olteniei și s-a întâlnit cu cei trei maeștri fotografi craioveni ai  vremii: Mihai Dan Călinescu\, Nicu Dan Gelep și Victor Boldâr. \nÎn cadrul expoziției „Strada și scena„ vor expune artiștii fotografi: Rucsandra Silvia Călin\, Mariana Scubli\, Cristian Tiberiu Floriganță\, Livia Corcoveanu\, Ioan Ciobotaru\, Bogdan Negoiță\, Silviu Cristian Mirescu\, Gabriele Vochescu\, Mircea Furdu\, Ion Claudiu Nețoiu\, Mihaela Eleonora Cojocaru\, Angelo SAB\, Gabriel Amarandei\, Velerian Cruceru\, Cătălin Obreja\, Cristina Marcu\, Claudia Radu\, Gabriela Bărăitaru\, Anne Marie Gavrilă\, Cătălin Arcu\, Valentin Flory\, Ovidiu Marius Urziceanu\, Nicoles Alexandru Florică\, Gabriela Ivan\, Diana Paladescu\, Viorica Anoaica\, Daniela Iancu\, Victor Popa. \nExpoziția va putea fi vizitată la Muzeul Cărții și Exilului Românesc până pe data de 28 mai 2025.
URL:https://craiovalive.ro/eveniment/expozitie-de-arta-fotografica-strada-si-scena/2025-05-10/
LOCATION:Muzeul Cărții și Exilului Românesc\, Str. 24 Ianuarie nr. 4\, Craiova\, Dolj\, România
CATEGORIES:Expoziție,Fotografie
ATTACH;FMTTYPE=image/jpeg:https://craiovalive.ro/wp-content/uploads/2025/05/Expozitie-de-arta-fotografica-„Strada-si-scena.jpeg
GEO:44.3141881;23.7984041
X-APPLE-STRUCTURED-LOCATION;VALUE=URI;X-ADDRESS=Muzeul Cărții și Exilului Românesc Str. 24 Ianuarie nr. 4 Craiova Dolj România;X-APPLE-RADIUS=500;X-TITLE=Str. 24 Ianuarie nr. 4:geo:23.7984041,44.3141881
END:VEVENT
BEGIN:VEVENT
DTSTART;TZID=Europe/Bucharest:20250511T090000
DTEND;TZID=Europe/Bucharest:20250511T170000
DTSTAMP:20260424T174019
CREATED:20250505T075651Z
LAST-MODIFIED:20250505T075651Z
UID:10006285-1746954000-1746982800@craiovalive.ro
SUMMARY:Expoziție de artă fotografică „Strada și scena”
DESCRIPTION:Muzeul Cărții și Exilului găzduiește miercuri\, 7 mai 2025\, la ora 18.00\, vernisajul expoziției de artă fotografică „Strada și scena”\, organizată de Asociația Artiștilor Fotografi „Dacia Malvensis”\,  din Oltenia și Uniunea Ziariștilor Profesioniști din România\, Filiala „Tudor Arghezi”\, Dolj. \nExpoziția este dedicată evenimentului din data de 7 mai 1975\, când artistul fotograf francez Henri Cartier-Bresson a vizitat Craiova și zonele din nordul Olteniei și s-a întâlnit cu cei trei maeștri fotografi craioveni ai  vremii: Mihai Dan Călinescu\, Nicu Dan Gelep și Victor Boldâr. \nÎn cadrul expoziției „Strada și scena„ vor expune artiștii fotografi: Rucsandra Silvia Călin\, Mariana Scubli\, Cristian Tiberiu Floriganță\, Livia Corcoveanu\, Ioan Ciobotaru\, Bogdan Negoiță\, Silviu Cristian Mirescu\, Gabriele Vochescu\, Mircea Furdu\, Ion Claudiu Nețoiu\, Mihaela Eleonora Cojocaru\, Angelo SAB\, Gabriel Amarandei\, Velerian Cruceru\, Cătălin Obreja\, Cristina Marcu\, Claudia Radu\, Gabriela Bărăitaru\, Anne Marie Gavrilă\, Cătălin Arcu\, Valentin Flory\, Ovidiu Marius Urziceanu\, Nicoles Alexandru Florică\, Gabriela Ivan\, Diana Paladescu\, Viorica Anoaica\, Daniela Iancu\, Victor Popa. \nExpoziția va putea fi vizitată la Muzeul Cărții și Exilului Românesc până pe data de 28 mai 2025.
URL:https://craiovalive.ro/eveniment/expozitie-de-arta-fotografica-strada-si-scena/2025-05-11/
LOCATION:Muzeul Cărții și Exilului Românesc\, Str. 24 Ianuarie nr. 4\, Craiova\, Dolj\, România
CATEGORIES:Expoziție,Fotografie
ATTACH;FMTTYPE=image/jpeg:https://craiovalive.ro/wp-content/uploads/2025/05/Expozitie-de-arta-fotografica-„Strada-si-scena.jpeg
GEO:44.3141881;23.7984041
X-APPLE-STRUCTURED-LOCATION;VALUE=URI;X-ADDRESS=Muzeul Cărții și Exilului Românesc Str. 24 Ianuarie nr. 4 Craiova Dolj România;X-APPLE-RADIUS=500;X-TITLE=Str. 24 Ianuarie nr. 4:geo:23.7984041,44.3141881
END:VEVENT
END:VCALENDAR