BEGIN:VCALENDAR
VERSION:2.0
PRODID:-//Craiova Live - ECPv6.15.18//NONSGML v1.0//EN
CALSCALE:GREGORIAN
METHOD:PUBLISH
X-ORIGINAL-URL:https://craiovalive.ro
X-WR-CALDESC:Evenimente pentru Craiova Live
REFRESH-INTERVAL;VALUE=DURATION:PT1H
X-Robots-Tag:noindex
X-PUBLISHED-TTL:PT1H
BEGIN:VTIMEZONE
TZID:Europe/Bucharest
BEGIN:DAYLIGHT
TZOFFSETFROM:+0200
TZOFFSETTO:+0300
TZNAME:EEST
DTSTART:20240331T010000
END:DAYLIGHT
BEGIN:STANDARD
TZOFFSETFROM:+0300
TZOFFSETTO:+0200
TZNAME:EET
DTSTART:20241027T010000
END:STANDARD
BEGIN:DAYLIGHT
TZOFFSETFROM:+0200
TZOFFSETTO:+0300
TZNAME:EEST
DTSTART:20250330T010000
END:DAYLIGHT
BEGIN:STANDARD
TZOFFSETFROM:+0300
TZOFFSETTO:+0200
TZNAME:EET
DTSTART:20251026T010000
END:STANDARD
BEGIN:DAYLIGHT
TZOFFSETFROM:+0200
TZOFFSETTO:+0300
TZNAME:EEST
DTSTART:20260329T010000
END:DAYLIGHT
BEGIN:STANDARD
TZOFFSETFROM:+0300
TZOFFSETTO:+0200
TZNAME:EET
DTSTART:20261025T010000
END:STANDARD
END:VTIMEZONE
BEGIN:VEVENT
DTSTART;TZID=Europe/Bucharest:20250809T110000
DTEND;TZID=Europe/Bucharest:20250809T120000
DTSTAMP:20260423T225346
CREATED:20250806T101237Z
LAST-MODIFIED:20250806T101237Z
UID:10007888-1754737200-1754740800@craiovalive.ro
SUMMARY:Vernisaj expoziție fotografie Craiova turistică
DESCRIPTION:Muzeul Cărții și Exilului Românesc din Craiova organizează sâmbătă\, 9 august 2025\, la ora 11.00\, vernisajul expoziției de artă fotografică intitulată Craiova turistică\, expoziție care va fi disponibilă până pe data de 17 septembrie 2025. \nDedicată lăcașurilor de cult din municipiu\, expoziția a fost concepută să evoce și trei sărbători religioase care vor avea loc în perioada respectivă: Adormirea Maicii Domnului – 15 august (Sfânta Maria Mare)\, Nașterea Maicii Domnului – 8 septembrie (Sfânta Marie Mică) și Înălțarea Sfintei Cruci – 14 septembrie. \nManifestarea este organizată sub egida Primăriei Municipiului Craiova\, a Muzeului Cărții și Exilului Românesc\, a Asociației Ziariștilor Profesioniști Filiala „Tudor Argezi” din județul Dolj și a Asociației Artiștilor Fotografi „Dacia Malvensis” din Oltenia. \nÎn cadrul expoziției Craiova turistică expun artiștii craioveni: Rucsandra Calin\, Livia Corcoveanu\, Cristian Tiberiu Floriganta\, Victor Catalin Boldîr\, Bogdan Negoiță\, Gabriela Vochescu\, Silviu Cristian Mirescu\, Mihaela Eleonora Cojocaru\, Ion Claudiu Nețoiu\, Anca Roșu\, Olguța Albiș\, Anné Marie Gavrilă \, Catalin Obreja și ANGELØ SAB. \nExpoziția cuprinde 138 de fotografii care surprind 26 de lăcașuri de cult din Craiova\, fotografiate din diferite unghiuri sau în anumite momente ale zilei. Unele dintre fotografiile expuse au fost premiate la concursuri internaționale de artă fotografică. \nVernisajul expoziției va fi moderat de Andrada Cojocaru– Președintele Asociației Ziariștilor Profesioniști Filiala „Tudor Argezi” din județul Dolj. \nLa finalul evenimentului\, participanții vor asista la un scurt spectacol artistic susținut de Grupul de pop opera Angels\, alcătuit din Daniel Petrescu\, Iulian Codrut Stanescu și Sergiu Doroș și de soprana Mihaela Daniela Leonte.
URL:https://craiovalive.ro/eveniment/vernisaj-expozitie-fotografie-craiova-turistica/
LOCATION:Muzeul Cărții și Exilului Românesc\, Str. 24 Ianuarie nr. 4\, Craiova\, Dolj\, România
CATEGORIES:Expoziție,Fotografie
ATTACH;FMTTYPE=image/jpeg:https://craiovalive.ro/wp-content/uploads/2025/08/Vernisaj-expozitie-fotografie-Craiova-turistica-Lacasuri-de-cult.jpeg
GEO:44.3141881;23.7984041
X-APPLE-STRUCTURED-LOCATION;VALUE=URI;X-ADDRESS=Muzeul Cărții și Exilului Românesc Str. 24 Ianuarie nr. 4 Craiova Dolj România;X-APPLE-RADIUS=500;X-TITLE=Str. 24 Ianuarie nr. 4:geo:23.7984041,44.3141881
END:VEVENT
BEGIN:VEVENT
DTSTART;TZID=Europe/Bucharest:20250711T180000
DTEND;TZID=Europe/Bucharest:20250711T190000
DTSTAMP:20260423T225346
CREATED:20250708T111426Z
LAST-MODIFIED:20250708T111426Z
UID:10007726-1752256800-1752260400@craiovalive.ro
SUMMARY:Vernisaj expoziție de artă fotografică „Let’s Rock”
DESCRIPTION:Muzeul Cărții și Exilului Românesc găzduiește vineri\, 11 iulie 2025\, la ora 18.00\, vernisajul celei de-a doua ediții a expoziției de artă fotografică „Let’s Rock”\, dedicată Zilei Internaționale a Rockului și organizată în colaborare cu Primăria Municipiului Craiova\, Asociația Artiștilor Fotografi „Dacia Malvensis” Oltenia și Uniunea Ziariștilor Profesioniști din România\, Filiala „Tudor Arghezi” Dolj. \nExpoziția cuprinde 132 de fotografii și 15 bannere\, care vor fi expuse în spațiul expozițional de la mansarda instituției și pe simezele din curtea interioară\, realizate de artiștii: \n✓ Astrid Pichler (Austria) \n✓Igor Dešić (Serbia) \n✓Pavao Hodap (Croația) \n✓Gabriela Ivan – diaspora \n✓Adela Rusu (Oradea) \n✓Ovi D. Pop (Oradea) \n✓Iuliana Pașca (Baia Mare) \n✓Mariana Scubli (Sighetul Marmației) \n✓Petre Dalea (Reșița) \n✓Ioan Ciobotaru (Rm. Vâlcea) \n✓Cătălin Arcu (Florești – Cluj) \n✓Diana Pălădescu (Iași) \n✓Gabriel Amarandei (Iași) \n✓Rucsandra Calin (Craiova) \n✓Livia Corcoveanu (Craiova) \n✓Boldir Victor Catalin (Craiova) \n✓Bogdan Ioan Tătaru (Craiova) \n✓Gabriela Vochescu (Craiova) \n✓Anca Rosu (Craiova) \n✓Claudiu Nețoiu (Craiova) \n✓Catalin Obreja (Craiova) \n✓Mi Ela Cojocaru (Craiova) \n✓ANGELØ SAB (Craiova) \n✓Ove Urziceanu (Craiova) \n✓Silviu Cristian Mirescu (Craiova) \nInvitat special\, Valentin Crimenov\, solistul trupei „Crimena”. \nPe 13 Iulie 1985 a fost organizat Live Aid\, un concert care a avut loc simultan în Londra și în Philadelphia\, scopul principal fiind eradicarea foametei din Ethiopia. Printre participanți s-au numărat artiști precum Queen\, Black Sabbath\, Led Zeppelin\, The Who\, Mick Jagger și mulți alții\, ambele concerte fiind transmise live de BBC. \nPropunerea ca aceasta zi sa fie declarata „Global Day of Rock” i-a aparținut lui Phil Collins\, artist care a urcat pe scenă atât în Londra cât și în Philadelphia.
URL:https://craiovalive.ro/eveniment/vernisaj-expozitie-de-arta-fotografica-lets-rock/
LOCATION:Muzeul Cărții și Exilului Românesc\, Str. 24 Ianuarie nr. 4\, Craiova\, Dolj\, România
CATEGORIES:Expoziție,Fotografie
ATTACH;FMTTYPE=image/jpeg:https://craiovalive.ro/wp-content/uploads/2025/07/Vernisaj-expozitie-de-arta-fotografica-„Lets-Rock.jpeg
GEO:44.3141881;23.7984041
X-APPLE-STRUCTURED-LOCATION;VALUE=URI;X-ADDRESS=Muzeul Cărții și Exilului Românesc Str. 24 Ianuarie nr. 4 Craiova Dolj România;X-APPLE-RADIUS=500;X-TITLE=Str. 24 Ianuarie nr. 4:geo:23.7984041,44.3141881
END:VEVENT
BEGIN:VEVENT
DTSTART;TZID=Europe/Bucharest:20250630T080000
DTEND;TZID=Europe/Bucharest:20250630T180000
DTSTAMP:20260423T225346
CREATED:20250514T080809Z
LAST-MODIFIED:20250530T195148Z
UID:10006962-1751270400-1751306400@craiovalive.ro
SUMMARY:Salonul Regional de Fotografie pentru liceeni ”Oltenia în imagini”\, ed. a XIII-a\, 2025
DESCRIPTION:𝐒𝐚𝐥𝐨𝐧𝐮𝐥 𝐑𝐞𝐠𝐢𝐨𝐧𝐚𝐥 𝐝𝐞 𝐅𝐨𝐭𝐨𝐠𝐫𝐚𝐟𝐢𝐞 𝐩𝐞𝐧𝐭𝐫𝐮 𝐋𝐢𝐜𝐞𝐞𝐧𝐢 „𝐎𝐥𝐭𝐞𝐧𝐢𝐚 𝐢̂𝐧 𝐈𝐦𝐚𝐠𝐢𝐧𝐢” 𝐞𝐝𝐢𝐭̦𝐢𝐚 𝐚-𝐗𝐈𝐈𝐈-𝐚 \n\nEvenimentul este continuatorul Salonului Municipal de Fotografie „Craiova în imagini” și este organizat de Asociaţia Culturală „Craiova”\, Muzeul Olteniei\, Fotoclubul „Mihai Dan Călinescu” și Asociația „Omnia Photo” în parteneriat cu Muzeul de Artă Craiova\, Fotoclubul „Mircea Faria” și cu Inspectoratele Şcolare Judeţene Dolj\, Gorj\, Olt\, Mehedinți\, Vâlcea şi se desfăşoară sub patronajul Asociaţiei „DACICA” Societatea Română de Artă Fotografică.\n\n 𝐉𝐮𝐫𝐢𝐮𝐥 𝐚 𝐟𝐨𝐬𝐭 𝐚𝐥𝐜𝐚̆𝐭𝐮𝐢𝐭 𝐝𝐢𝐧 𝐏𝐫𝐞𝐬̦𝐞𝐝𝐢𝐧𝐭𝐞𝐥𝐞 𝐉𝐮𝐫𝐢𝐮𝐥𝐮𝐢:\n𝐌𝐈𝐑𝐂𝐄𝐀 𝐀𝐍𝐆𝐇𝐄𝐋\, artist fotograf\, A.FIAP\, Hon.FICS\, Hon.WPAI\, Hon.CPE\, Hon.FCPA\, (Preşedinte al Fotoclubului „Mihai Dan-Călinescu” din Craiova)\n 𝐌𝐞𝐦𝐛𝐫𝐢𝐢 𝐣𝐮𝐫𝐢𝐮𝐥𝐮𝐢:\n𝐂𝐑𝐈𝐒𝐓𝐈 𝐍𝐄𝐃𝐄𝐋𝐂𝐔 – directorul Salonului\n𝐕𝐈𝐎𝐑𝐄𝐋 𝐏𝐈̂𝐋𝐈𝐆𝐑𝐀𝐒 – grafician (Asociaţia Culturală „Craiova”).\n𝐃𝐎𝐑𝐈𝐀𝐍 𝐃𝐄𝐋𝐔𝐑𝐄𝐀𝐍𝐔 – artist fotograf\, Asociația „Omnia Photo”\n𝐃𝐈𝐀𝐍𝐀 𝐍𝐄𝐃𝐄𝐋𝐂𝐔 – secretarul Salonului\n\nLa această ediție au fost înscrise în competiție 141 de lucrări realizate de elevi de la licee din întreaga Oltenie. În urma jurizării\, 63 dintre ele au intrat în Salon\, iar nouă au fost recompenate cu premiile decise de juriu.\n\n𝐌𝐚𝐫𝐞𝐥𝐞 𝐏𝐫𝐞𝐦𝐢𝐮 „𝐍𝐈𝐂𝐔-𝐃𝐀𝐍 𝐆𝐄𝐋𝐄𝐏”\n𝐌𝐞𝐝𝐚𝐥𝐢𝐚 𝐝𝐞 𝐀𝐮𝐫 𝐚 𝐀𝐬𝐨𝐜𝐢𝐚𝐭̦𝐢𝐞𝐢 „𝐃𝐀𝐂𝐈𝐂𝐀” 𝐒𝐨𝐜𝐢𝐞𝐭𝐚𝐭𝐞𝐚 𝐑𝐨𝐦𝐚̂𝐧𝐚̆ 𝐝𝐞 𝐀𝐫𝐭𝐚̆ 𝐅𝐨𝐭𝐨𝐠𝐫𝐚𝐟𝐢𝐜𝐚̆.\n𝐌𝐞𝐝𝐚𝐥𝐢𝐚 𝐝𝐞 𝐀𝐫𝐠𝐢𝐧𝐭 𝐚 𝐀𝐬𝐨𝐜𝐢𝐚𝐭̦𝐢𝐞𝐢 „𝐃𝐀𝐂𝐈𝐂𝐀” 𝐒𝐨𝐜𝐢𝐞𝐭𝐚𝐭𝐞𝐚 𝐑𝐨𝐦𝐚̂𝐧𝐚̆ 𝐝𝐞 𝐀𝐫𝐭𝐚̆ 𝐅𝐨𝐭𝐨𝐠𝐫𝐚𝐟𝐢𝐜𝐚̆ 𝐌𝐞𝐝𝐚𝐥𝐢𝐚 𝐝𝐞 𝐁𝐫𝐨𝐧𝐳 𝐚 𝐀𝐬𝐨𝐜𝐢𝐚𝐭̦𝐢𝐞𝐢 „𝐃𝐀𝐂𝐈𝐂𝐀” 𝐒𝐨𝐜𝐢𝐞𝐭𝐚𝐭𝐞𝐚 𝐑𝐨𝐦𝐚̂𝐧𝐚̆ 𝐝𝐞 𝐀𝐫𝐭𝐚̆ 𝐅𝐨𝐭𝐨𝐠𝐫𝐚𝐟𝐢𝐜𝐚̆.\n 𝐏𝐫𝐞𝐦𝐢𝐢 𝐬𝐩𝐞𝐜𝐢𝐚𝐥𝐞:\n𝑃𝑟𝑒𝑚𝑖𝑢𝑙 𝑆𝑝𝑒𝑐𝑖𝑎𝑙 „𝐹𝑙𝑜𝑟𝑖𝑛 𝑅𝑜𝑔𝑛𝑒𝑎𝑛𝑢” 𝑎𝑙 𝑀𝑢𝑧𝑒𝑢𝑙𝑢𝑖 𝑑𝑒 𝐴𝑟𝑡𝑎̆ 𝐶𝑟𝑎𝑖𝑜𝑣𝑎\n𝑃𝑟𝑒𝑚𝑖𝑢𝑙 𝑆𝑝𝑒𝑐𝑖𝑎𝑙 „𝑉𝑖𝑐𝑡𝑜𝑟 𝐵𝑜𝑙𝑑â𝑟” 𝑎𝑙 𝐹𝑜𝑡𝑜𝑐𝑙𝑢𝑏𝑢𝑙𝑢𝑖 „𝑀𝑖𝑟𝑐𝑒𝑎 𝐹𝑎𝑟𝑖𝑎”\n𝑃𝑟𝑒𝑚𝑖𝑢𝑙 𝑆𝑝𝑒𝑐𝑖𝑎𝑙 𝑎𝑙 𝐹𝑜𝑡𝑜𝑐𝑙𝑢𝑏𝑢𝑙𝑢𝑖 „𝑀𝑖𝘩𝑎𝑖 𝐷𝑎𝑛-𝐶ă𝑙𝑖𝑛𝑒𝑠𝑐𝑢”\n𝑃𝑟𝑒𝑚𝑖𝑢𝑙 𝑆𝑝𝑒𝑐𝑖𝑎𝑙 „𝑂𝑚𝑛𝑖𝑎 𝑃ℎ𝑜𝑡𝑜” 𝑎𝑙 𝐴𝑠𝑜𝑐𝑖𝑎𝑡̦𝑖𝑒𝑖 „𝑂𝑚𝑛𝑖𝑎 𝑃ℎ𝑜𝑡𝑜”\n𝑃𝑟𝑒𝑚𝑖𝑢𝑙 𝑆𝑝𝑒𝑐𝑖𝑎𝑙 „𝑆̦𝑡𝑒𝘧𝑎𝑛 𝐶𝑖𝑢𝑐𝑒𝑎𝑛𝑢” 𝑎𝑙 𝑀𝑢𝑧𝑒𝑢𝑙𝑢𝑖 𝑂𝑙𝑡𝑒𝑛𝑖𝑒𝑖\n\nPremiile sunt substanțiale și constau în sume de bani\, un weekend la munte pentru două persoane\, un zbor cu balonul cu aer cald\, cărți\, invitații la film și materiale promoționale. Aceste premii sunt oferite de sponsorii Salonului – Asociația pentru Copii și Tineri Pro Reziliența\, Cabana Terra Rânca\, Rotary Club Craiova\, Asociaţia Română pentru Transfer Tehnologic\, Aventura Baloanelor\, Inspire Cinema\, Editura Litera și Europe Direct Sudul Olteniei.
URL:https://craiovalive.ro/eveniment/salonul-regional-de-fotografie-pentru-liceeni-oltenia-in-imagini-ed-a-xiii-a-2025/2025-06-30/
LOCATION:Cercul Militar Craiova\, Str. Marin Sorescu\, nr. 2\, Craiova\, Dolj\, 200642\, România
CATEGORIES:Expoziție,Fotografie
ATTACH;FMTTYPE=image/jpeg:https://craiovalive.ro/wp-content/uploads/2025/05/Salonul-Regional-de-Fotografie-pentru-liceeni-Oltenia-in-imagini-ed.-a-XIII-a-2025.jpg
GEO:44.308454;23.7956757
X-APPLE-STRUCTURED-LOCATION;VALUE=URI;X-ADDRESS=Cercul Militar Craiova Str. Marin Sorescu nr. 2 Craiova Dolj 200642 România;X-APPLE-RADIUS=500;X-TITLE=Str. Marin Sorescu\, nr. 2:geo:23.7956757,44.308454
END:VEVENT
BEGIN:VEVENT
DTSTART;TZID=Europe/Bucharest:20250622T090000
DTEND;TZID=Europe/Bucharest:20250622T170000
DTSTAMP:20260423T225346
CREATED:20250530T091923Z
LAST-MODIFIED:20250530T091923Z
UID:10006916-1750582800-1750611600@craiovalive.ro
SUMMARY:Expoziție de fotografie „Craiova mea iubită”\, ediția a II-a
DESCRIPTION:Muzeul Cărții și Exilului Românesc găzduiește sâmbătă\, 31 mai 2025\, la ora 11.00\, vernisajul expoziției de fotografie „Craiova mea iubită”\, ediția a doua. În cadrul acestei noi ediții\, vor fi expuse 25 de panouri cu fotografii realizate de: \n☑Rucsandra Silvia Călin \n☑Bogdan Negoiță \n☑Livia Corcoveanu \n☑Cristian Floriganță \n☑Gabriela Vochescu \n☑Victor Cătălin Boldîr \n☑Mihaela Eleonora Cojocaru \n☑Mircea Georgescu \n☑Daniela Iancu \n☑Ion Claudiu Nețoiu \n☑Claudia Bucur \n☑Valerian Cruceru \n☑Claudia Radu \n☑Cătălin Obreja \n☑Anne Marie Gavrilă \n☑Angelo Sab \n☑Marina Gabriela Bărăitaru \n☑Ovidiu Marius Urziceanu \n☑Silviu Cristian Mirescu \n☑Valentin Flory \n☑Invitat special – Nick Wolf (artist plastic) \nExpoziția „Craiova mea iubită”\, parte din programul Zilelor Craiovei\, este dedicată aniversării a 550 de ani de la atestarea documentară a orașului și poate fi vizitată în salonul expozițional de la mansardă până pe data de 23 iunie 2025.
URL:https://craiovalive.ro/eveniment/expozitie-de-fotografie-craiova-mea-iubita-editia-a-ii-a/2025-06-22/
LOCATION:Muzeul Cărții și Exilului Românesc\, Str. 24 Ianuarie nr. 4\, Craiova\, Dolj\, România
CATEGORIES:Expoziție,Fotografie
ATTACH;FMTTYPE=image/jpeg:https://craiovalive.ro/wp-content/uploads/2025/05/Expozitie-de-fotografie-„Craiova-mea-iubita-editia-a-II-a.jpeg
GEO:44.3141881;23.7984041
X-APPLE-STRUCTURED-LOCATION;VALUE=URI;X-ADDRESS=Muzeul Cărții și Exilului Românesc Str. 24 Ianuarie nr. 4 Craiova Dolj România;X-APPLE-RADIUS=500;X-TITLE=Str. 24 Ianuarie nr. 4:geo:23.7984041,44.3141881
END:VEVENT
BEGIN:VEVENT
DTSTART;TZID=Europe/Bucharest:20250621T090000
DTEND;TZID=Europe/Bucharest:20250621T170000
DTSTAMP:20260423T225346
CREATED:20250619T182201Z
LAST-MODIFIED:20250619T182224Z
UID:10001717-1750496400-1750525200@craiovalive.ro
SUMMARY:Expoziție foto „Ia-aripă spre absolut”
DESCRIPTION: Muzeul Cărții și Exilului Românesc găzduiește sâmbătă\, 21 iunie 2025\, începând cu ora 11.00\, vernisajul expoziției „Ia-aripă spre absolut”. \nAjunsă la cea de-a patra ediție\, expoziția „Ia-aripă spre absolut” este organizată în parteneriat cu Primăria Municipiului Craiova\, Asociația Artiștilor Fotografi din România\, Asociația Artiștilor Fotografi „Dacia Malvensis” Oltenia și Uniunea Ziariștilor Profesioniști din România\, Filiala „Tudor Arghezi” Dolj. \nModeratorul evenimentului va fi Andrada Cojocaru\, președintele Uniunii Ziariștilor Profesioniști din România\, Filiala „Tudor Arghezi” Dolj\, iar Aneta Șișu și Marius Măgureanu\, membri ai Secției de folclor „Maria Tănase”\, vor susține în fața invitaților un moment folcloric. \nExpoziția va cuprinde 120 de fotografii realizate de artiștii fotografi: \nRucsandra Silvia Călin \nMariana Scubli \nAdela Lia Rusu \nLivia Corcoveanu \nGabriela Vochescu \nMihaela Eleonora Cojocaru \nMarina Gabriela Bărăitaru \nCristina Marcu \nGabriela Ivan \nOvi D. Pop \nCristian Tiberiu Floriganță \nBogdan Negoiță \nVictor Cătălin Boldîr \nPetre Dalea \nIoan Ciobotaru \nSilviu Cristian Mirescu \nIoan Bogdan Tătaru \nIon Claudiu Nețoiu \nValerian Cruceru \nIoan Ungurianu \nGabriel Amarandei \nCătălin Obreja \nOvidiu Urziceanu \nExpoziția „Ia-aripă spre absolut” va putea fi vizitată la Muzeul Cărții și Exilului Românesc până pe data de 11 iulie. \nSponsorul principal al expoziției este Asociația pentru educație și sănătate „Romanați”
URL:https://craiovalive.ro/eveniment/expozitie-foto-ia-aripa-spre-absolut-2/
LOCATION:Muzeul Cărții și Exilului Românesc\, Str. 24 Ianuarie nr. 4\, Craiova\, Dolj\, România
CATEGORIES:Expoziție,Fotografie
ATTACH;FMTTYPE=image/jpeg:https://craiovalive.ro/wp-content/uploads/2024/06/Expozitie-foto-„Ia-aripa-spre-absolut-2025.jpeg
GEO:44.3141881;23.7984041
X-APPLE-STRUCTURED-LOCATION;VALUE=URI;X-ADDRESS=Muzeul Cărții și Exilului Românesc Str. 24 Ianuarie nr. 4 Craiova Dolj România;X-APPLE-RADIUS=500;X-TITLE=Str. 24 Ianuarie nr. 4:geo:23.7984041,44.3141881
END:VEVENT
BEGIN:VEVENT
DTSTART;TZID=Europe/Bucharest:20250528T090000
DTEND;TZID=Europe/Bucharest:20250528T170000
DTSTAMP:20260423T225346
CREATED:20250505T075651Z
LAST-MODIFIED:20250505T075651Z
UID:10006299-1748422800-1748451600@craiovalive.ro
SUMMARY:Expoziție de artă fotografică „Strada și scena”
DESCRIPTION:Muzeul Cărții și Exilului găzduiește miercuri\, 7 mai 2025\, la ora 18.00\, vernisajul expoziției de artă fotografică „Strada și scena”\, organizată de Asociația Artiștilor Fotografi „Dacia Malvensis”\,  din Oltenia și Uniunea Ziariștilor Profesioniști din România\, Filiala „Tudor Arghezi”\, Dolj. \nExpoziția este dedicată evenimentului din data de 7 mai 1975\, când artistul fotograf francez Henri Cartier-Bresson a vizitat Craiova și zonele din nordul Olteniei și s-a întâlnit cu cei trei maeștri fotografi craioveni ai  vremii: Mihai Dan Călinescu\, Nicu Dan Gelep și Victor Boldâr. \nÎn cadrul expoziției „Strada și scena„ vor expune artiștii fotografi: Rucsandra Silvia Călin\, Mariana Scubli\, Cristian Tiberiu Floriganță\, Livia Corcoveanu\, Ioan Ciobotaru\, Bogdan Negoiță\, Silviu Cristian Mirescu\, Gabriele Vochescu\, Mircea Furdu\, Ion Claudiu Nețoiu\, Mihaela Eleonora Cojocaru\, Angelo SAB\, Gabriel Amarandei\, Velerian Cruceru\, Cătălin Obreja\, Cristina Marcu\, Claudia Radu\, Gabriela Bărăitaru\, Anne Marie Gavrilă\, Cătălin Arcu\, Valentin Flory\, Ovidiu Marius Urziceanu\, Nicoles Alexandru Florică\, Gabriela Ivan\, Diana Paladescu\, Viorica Anoaica\, Daniela Iancu\, Victor Popa. \nExpoziția va putea fi vizitată la Muzeul Cărții și Exilului Românesc până pe data de 28 mai 2025.
URL:https://craiovalive.ro/eveniment/expozitie-de-arta-fotografica-strada-si-scena/2025-05-28/
LOCATION:Muzeul Cărții și Exilului Românesc\, Str. 24 Ianuarie nr. 4\, Craiova\, Dolj\, România
CATEGORIES:Expoziție,Fotografie
ATTACH;FMTTYPE=image/jpeg:https://craiovalive.ro/wp-content/uploads/2025/05/Expozitie-de-arta-fotografica-„Strada-si-scena.jpeg
GEO:44.3141881;23.7984041
X-APPLE-STRUCTURED-LOCATION;VALUE=URI;X-ADDRESS=Muzeul Cărții și Exilului Românesc Str. 24 Ianuarie nr. 4 Craiova Dolj România;X-APPLE-RADIUS=500;X-TITLE=Str. 24 Ianuarie nr. 4:geo:23.7984041,44.3141881
END:VEVENT
END:VCALENDAR