BEGIN:VCALENDAR
VERSION:2.0
PRODID:-//Craiova Live - ECPv6.15.18//NONSGML v1.0//EN
CALSCALE:GREGORIAN
METHOD:PUBLISH
X-ORIGINAL-URL:https://craiovalive.ro
X-WR-CALDESC:Evenimente pentru Craiova Live
REFRESH-INTERVAL;VALUE=DURATION:PT1H
X-Robots-Tag:noindex
X-PUBLISHED-TTL:PT1H
BEGIN:VTIMEZONE
TZID:Europe/Bucharest
BEGIN:DAYLIGHT
TZOFFSETFROM:+0200
TZOFFSETTO:+0300
TZNAME:EEST
DTSTART:20240331T010000
END:DAYLIGHT
BEGIN:STANDARD
TZOFFSETFROM:+0300
TZOFFSETTO:+0200
TZNAME:EET
DTSTART:20241027T010000
END:STANDARD
BEGIN:DAYLIGHT
TZOFFSETFROM:+0200
TZOFFSETTO:+0300
TZNAME:EEST
DTSTART:20250330T010000
END:DAYLIGHT
BEGIN:STANDARD
TZOFFSETFROM:+0300
TZOFFSETTO:+0200
TZNAME:EET
DTSTART:20251026T010000
END:STANDARD
BEGIN:DAYLIGHT
TZOFFSETFROM:+0200
TZOFFSETTO:+0300
TZNAME:EEST
DTSTART:20260329T010000
END:DAYLIGHT
BEGIN:STANDARD
TZOFFSETFROM:+0300
TZOFFSETTO:+0200
TZNAME:EET
DTSTART:20261025T010000
END:STANDARD
BEGIN:DAYLIGHT
TZOFFSETFROM:+0200
TZOFFSETTO:+0300
TZNAME:EEST
DTSTART:20270328T010000
END:DAYLIGHT
BEGIN:STANDARD
TZOFFSETFROM:+0300
TZOFFSETTO:+0200
TZNAME:EET
DTSTART:20271031T010000
END:STANDARD
END:VTIMEZONE
BEGIN:VEVENT
DTSTART;TZID=Europe/Bucharest:20251230T090000
DTEND;TZID=Europe/Bucharest:20251230T170000
DTSTAMP:20260424T015624
CREATED:20251217T104819Z
LAST-MODIFIED:20251217T104819Z
UID:10012656-1767085200-1767114000@craiovalive.ro
SUMMARY:Expoziție fotografică Magia Sărbătorilor de Iarnă
DESCRIPTION:Muzeul Cărții și Exilului Românesc găzduiește miercuri\, 17 decembrie\, ora 18.00\, vernisajul expoziției fotografice Magia Sărbătorilor de Iarnă\, un eveniment dedicat frumuseții tradițiilor\, emoției sărbătorilor și forței expresive a imaginii fotografice. \nExpoziția reunește 158 de fotografii\, semnate de 24 de artiști fotografi din Craiova și din întreaga țară\, și propune un parcurs vizual amplu\, în care iarna este surprinsă ca stare de spirit\, memorie colectivă și expresie artistică. \nStructurată în trei secțiuni complementare\, expoziția oferă privitorului o experiență ce oscilează între intimitate\, comunitate și spectacol. \n✔Prima secțiune\, Seară magică\, prezintă 21 de naturi statice realizate de Rucsandra Silvia Călin\, EFIAP/d1\, imagini în care lumina și obiectele specifice sărbătorii Crăciunului construiesc o atmosferă de liniște\, așteptare și reculegere\, specifică serilor de iarnă. \n✔Cea de-a doua secțiune cuprinde 97 de fotografii – 73 în format landscape și 24 în format portret – aparținând celor 24 de artiști expozanți: Agop Alexandra (București)\, Amarandei Gabriel (Iași)\, Apostol Mircea Florian (Oradea)\, Boldîr Victor Cătălin (Craiova)\, Călin Rucsandra Silvia (Craiova)\, Ciobotaru Ioan (Rm. Vâlcea)\, Cojocaru Mihaela Eleonora (Craiova)\, Corcoveanu Livia (Craiova)\, Cruceru Valerian (Motru)\, Furdu Mircea Cristian (București)\, Mirescu Silviu Cristian (Craiova)\, Nețoiu Ion Claudiu (Baia de Aramă)\, Nucă Ionelia (Craiova)\, Obreja Cătălin (Craiova)\, Pop D. Ovi (Oradea)\, Popa Victor Eugen (Craiova)\, Radu Iulian (Bacău)\, Roșu Anca (Craiova)\, Rusu Adela (Oradea)\, Segal Paul (Israel)\, Scubli Mariana (Sighetul Marmației)\, Urziceanu Ovidiu (Calafat)\, Voicu Andi (Craiova) și Vochescu Gabriela (Craiova). \nAceste lucrări surprind o diversitate de elemente ale tradiției românești\, de la preparatele tradiționale și portul popular\, la dansurile și obiceiurile specifice diferitelor zone ale țării. \n✔Cea de-a treia secțiune reunește 40 de fotografii realizate în cadrul spectacolului Colindăm încă din zori\, susținut de Secția de folclor „Maria Tănase” a Teatrului Colibri din Craiova. Instantaneele surprind emoția colindului\, expresivitatea scenică și energia unui moment artistic dedicat sărbătorilor de iarnă. Prin obiectivul artiștilor fotografi Victor Cătălin Boldîr\, Mihaela Eleonora Cojocaru\, Livia Corcoveanu\, Silviu Cristian Mirescu\, Cătălin Obreja și Andi Marian Voicu\, colindul și arta populară capătă formă vizuală\, iar scena devine un spațiu al emoției colective. \nProgramul evenimentului cuprinde următoarele momente: \n\nun scurt program de colinde\, intitulat „Vin colindătorii”\, moment oferit de Lavinia Bârsoghe și un grup de colindători ai Secției de folclor „Maria Tănase” a Teatrului Colibri\nExpunere „Tradiția sărbătorilor de iarnă în Oltenia”\, susținută de prof. univ. dr. Gabriela Păsărin\nScurt program muzical – „Noapte de vis”\, în interpretarea lui Daniel Petrescu\, „Angels” Pop Opera Group\n\nExpoziția fotografică Magia Sărbătorilor de Iarnă\, este cea de a 12-a expoziție organizată în acest an la Muzeul Cărții și Exilului Românesc de Asociația Artiștilor Fotografi „Dacia Malvensis” din Oltenia.
URL:https://craiovalive.ro/eveniment/expozitie-fotografica-magia-sarbatorilor-de-iarna/2025-12-30/
LOCATION:Muzeul Cărții și Exilului Românesc\, Str. 24 Ianuarie nr. 4\, Craiova\, Dolj\, România
CATEGORIES:Expoziție,Fotografie
ATTACH;FMTTYPE=image/jpeg:https://craiovalive.ro/wp-content/uploads/2025/12/Expozitie-fotografica-Magia-Sarbatorilor-de-Iarna.jpeg
GEO:44.3141881;23.7984041
X-APPLE-STRUCTURED-LOCATION;VALUE=URI;X-ADDRESS=Muzeul Cărții și Exilului Românesc Str. 24 Ianuarie nr. 4 Craiova Dolj România;X-APPLE-RADIUS=500;X-TITLE=Str. 24 Ianuarie nr. 4:geo:23.7984041,44.3141881
END:VEVENT
BEGIN:VEVENT
DTSTART;TZID=Europe/Bucharest:20260127T090000
DTEND;TZID=Europe/Bucharest:20260127T170000
DTSTAMP:20260424T015624
CREATED:20260127T135309Z
LAST-MODIFIED:20260127T135309Z
UID:10012938-1769504400-1769533200@craiovalive.ro
SUMMARY:Expoziție de fotografie „Fântânile Olteniei. Arhivă și contemporaneitate”
DESCRIPTION:📌„Fântânile Olteniei. Arhivă și contemporaneitate”\n📍 Sectia de Etnografie – Casa Băniei\, Craiova\n🔷La Casa Băniei – Secția de Etnografie a Muzeului Olteniei Craiova a fost vernisată foto-expoziția temporară „Fântânile Olteniei. Arhivă și contemporaneitate”\, menită să aducă în prim-plan o perspectivă complexă asupra timpului și memoriei fântânilor din Oltenia: fântâni cu cumpănă\, cu roată\, cu structuri de lemn sau piatră\, fântâni de hotar sau de răscruce. \n📌Expoziția reunește fotografii de arhivă din patrimoniul Muzeului Olteniei și imagini contemporane realizate în cadrul proiectului independent „Fântânile Olteniei”\, desfășurat de echipa Omnia Photo începând cu anul 2016\, având ca obiectiv cartografierea și documentarea fântânilor de uz comunitar din regiunea Olteniei\, ca structuri vernaculare esențiale pentru viața rurală și memoria colectivă. \n🏦Proiectul cultural „Fântânile Olteniei” propune o reflecție asupra continuității fragile dintre trecut și prezent și asupra rolului fotografiei ca instrument documentar\, istoric și artistic\, capabil să conserve și să transmită memoria unor structuri aparent marginale\, dar esențiale pentru istoria tăcută a comunităților rurale. \nPublicul va putea vedea\, în premieră\, materiale fotografice analogice alb-negru și fișe de arhivă din perioada 1950–1970\, realizate în cadrul campaniilor de cercetare etnografică\, alături de imagini din anii 1930 și de fotografii contemporane realizate pe film și în format digital. \n✨Expoziția este semnată de fotografii documentariști Cristian Bassa și Dorian Delureanu\, cu sprijinul Azero\, iar cercetarea antropologică este realizată de Ana-Cristina Irian\, cu contribuții etnografice din partea dr. Roxanei Deca\, muzeograf Secția de Etnografie a Muzeului Olteniei. Conceptul expozițional este realizat de Roxana Deca și Ana-Cristina Irian\, beneficiind de contribuția specialiștilor Muzeului Olteniei\, Bogdan Lupu și Teodor Ion Surlin\, și invită vizitatorii să observe transformările\, continuitățile și contrastele dintre „atunci” și „acum” pentru a determina o experiență reflexivă\, în care trecutul documentat fotografic capătă noi sensuri prin raportare la prezent\, iar prezentul este îmbogățit de memoria vizuală a istoriei contemporane și etnografice. \n🎤Expoziția a fost deschisă de dr. Florin Ridiche\, managerul Muzeului Olteniei Craiova\, în prezența reprezentanților Omnia.Photo\, respectiv Dorian Delureanu și Cristina Irian\, cei care au realizat cercetarea de teren în cadrul proiectului cu același nume\, reușind\, prin efortul depus\, să realizeze cartografierea și documentarea fântânilor de uz comunitar din regiunea Olteniei. Despre conținutul și semnificația ritualică a acestor simboluri etnografice a vorbit dr. Roxana Deca\, muzeograf – Muzeul Olteniei și curatorul expoziției.\n🕰 Expoziția poate fi vizitată la Casa Băniei până la sfârșitul lunii februarie 2026.
URL:https://craiovalive.ro/eveniment/expozitie-de-fotografie-fantanile-olteniei-arhiva-si-contemporaneitate/2026-01-27/
LOCATION:Muzeul Olteniei – Secția de Etnografie – Casa Băniei\, Str. Matei Basarab\, nr. 16\, Craiova\, Dolj\, România
CATEGORIES:Expoziție,Fotografie
ATTACH;FMTTYPE=image/jpeg:https://craiovalive.ro/wp-content/uploads/2026/01/Expozitie-de-fotografie-„Fantanile-Olteniei.-Arhiva-si-contemporaneitate.jpg
ORGANIZER;CN="Muzeul Olteniei Craiova":MAILTO:muzeulolteniei@yahoo.com
GEO:44.314586;23.7922682
X-APPLE-STRUCTURED-LOCATION;VALUE=URI;X-ADDRESS=Muzeul Olteniei – Secția de Etnografie – Casa Băniei Str. Matei Basarab nr. 16 Craiova Dolj România;X-APPLE-RADIUS=500;X-TITLE=Str. Matei Basarab\, nr. 16:geo:23.7922682,44.314586
END:VEVENT
BEGIN:VEVENT
DTSTART;TZID=Europe/Bucharest:20260212T170000
DTEND;TZID=Europe/Bucharest:20260212T180000
DTSTAMP:20260424T015624
CREATED:20260212T083217Z
LAST-MODIFIED:20260212T083217Z
UID:10013044-1770915600-1770919200@craiovalive.ro
SUMMARY:Expoziție „Brâncuși\, inspirație pentru tineri”
DESCRIPTION:„Brâncuși\, inspirație pentru tineri” – Expoziție de grafică\, pictură și artă fotografică \nȘcoala Populară de Arte și Meserii „Cornetti” din cadrul Centrului Județean de Cultură și Artă Dolj\, instituție aflată în subordinea Consiliului Județean Dolj\, invită publicul iubitor de artă la expoziția „Brâncuși\, inspirație pentru tineri”\, eveniment dedicat celebrării operei și spiritului marelui sculptor român Constantin Brâncuși. \nExpoziția reunește lucrări realizate de elevii claselor de arte vizuale\, care au explorat\, prin propriul limbaj artistic\, teme\, simboluri și concepte inspirate din creația brâncușiană. Fiecare lucrare reflectă sensibilitatea\, creativitatea și modul autentic în care tinerii artiști înțeleg și reinterpretează valorile universale promovate de Brâncuși: simplitatea formei\, esența și spiritualitatea. \nEvenimentul își propune să încurajeze dialogul dintre tradiție și contemporaneitate\, oferind publicului ocazia de a descoperi viziunea noii generații asupra unei moșteniri culturale de excepție. \nVă invităm să fiți alături de noi și să susțineți talentul și pasiunea elevilor noștri.
URL:https://craiovalive.ro/eveniment/expozitie-brancusi-inspiratie-pentru-tineri/
LOCATION:Dolj
CATEGORIES:Expoziție,Fotografie,Pictura
ATTACH;FMTTYPE=image/jpeg:https://craiovalive.ro/wp-content/uploads/2026/02/AFIS-EXPOZITIE-BRANCUSI-INSPIRATIE-PENTRU-TINERI.jpeg
ORGANIZER;CN="Centrul Jude%C8%9Bean de Cultur%C4%83 %C8%99i Art%C4%83 Dolj":MAILTO:cjcadolj@yahoo.com
END:VEVENT
BEGIN:VEVENT
DTSTART;TZID=Europe/Bucharest:20260218T180000
DTEND;TZID=Europe/Bucharest:20260218T200000
DTSTAMP:20260424T015624
CREATED:20260216T110200Z
LAST-MODIFIED:20260216T110200Z
UID:10013893-1771437600-1771444800@craiovalive.ro
SUMMARY:Expoziție de fotografie Eternul Brâncuși
DESCRIPTION:Muzeul Cărții și Exilului Românesc găzduiește miercuri\, 18 februarie 2026\, la ora 18.00\, vernisajul expoziției Eternul Brâncuși\, organizată de Asociația Artiștilor Fotografi „Dacia Malvensis”\, în colaborare cu Consiliul Județean Dolj\, Primăria Municipiului Craiova\, Uniunea Ziariștilor Profesioniști din România”\, filiala „Tudor Arghezi” și Biblioteca Județeană „Alexandru și Aristia Aman”. \nExpoziția marchează împlinirea a 150 de ani de la nașterea marelui sculptor Constantin Brâncuși\, prilej de reflecție și de celebrare a moștenirii sale universale\, care continuă să inspire generații și să redefinească limbajul formei în arta modernă. \nExpoziția reunește lucrările a 34 de artiști din Craiova\, din întreaga țară și din diaspora: \n✓Alexandra AGOP \n✓Arcu Cătălin \n✓Bercaru Adrian \n✓Calin Rucsandra \n✓Ciobotaru Ioan \n✓Cojocaru Mihaela Eleonora \n✓Corcoveanu Livia \n✓Cosoveanu Cristina \n✓Cruceru Valerian \n✓Dalea Petre \n✓Floriganta Cristian \n✓Furdu Mircea \n✓Iancu Daniela \n✓Keller Erica \n✓Mirescu Silviu Cristian \n✓Modan Teodora \n✓Năstasie Dan \n✓Netoiu Ion Claudiu \n✓Obreja Cătălin \n✓Ovi D Pop \n✓Pălădescu Diana \n✓Pașca Iuliana \n✓Popa Victor \n✓Pușcașu Dan \n✓Roșu Anca \n✓Rusu Adela Lia \n✓Sab Angelo \n✓Scaunașu Ionel \n✓Scubli Mariana \n✓Segal Paul \n✓Tătaru Ioan Bogdan \n✓Urziceanu Ovidiu \n✓Vochescu Gabriela \n✓Voicu Andi. \nVernisajul expoziției va fi moderat de Andrada Cojocaru\, președinte al Uniunii Ziariștilor Profesioniști „Tudor Arghezi” – Filiala Dolj. \nDin programul evenimentului fac parte două expuneri ce dezvăluie fațete mai puțin cunoscute ale artistului: \n\n„Brâncuși Esotericul”\, susținută de binecunoscutul publicist Dan Lupescu\, o incursiune în simbolurile și energiile subtile ce pulsează în creația sa;\n„Brâncuși Fotograful”\, prezentată de Silviu Cristian Mirescu\, o privire asupra artistului care a știut să modeleze nu doar materia\, ci și lumina.\n\nLa finalul serii\, publicul va asista la un moment artistic oferit de cvartetul de coarde „Gaudeamus” al Universității din Craiova\, compus din Darius Melencovici\, Andreea Poenaru\, Ana Maria Odină și Gabriela Sârbu.
URL:https://craiovalive.ro/eveniment/expozitie-de-fotografie-eternul-brancusi/2026-02-18/
LOCATION:Muzeul Cărții și Exilului Românesc\, Str. 24 Ianuarie nr. 4\, Craiova\, Dolj\, România
CATEGORIES:Expoziție,Fotografie
ATTACH;FMTTYPE=image/jpeg:https://craiovalive.ro/wp-content/uploads/2026/02/Expozitie-de-fotografie-Eternul-Brancusi.jpeg
GEO:44.3141881;23.7984041
X-APPLE-STRUCTURED-LOCATION;VALUE=URI;X-ADDRESS=Muzeul Cărții și Exilului Românesc Str. 24 Ianuarie nr. 4 Craiova Dolj România;X-APPLE-RADIUS=500;X-TITLE=Str. 24 Ianuarie nr. 4:geo:23.7984041,44.3141881
END:VEVENT
BEGIN:VEVENT
DTSTART;TZID=Europe/Bucharest:20260421T180000
DTEND;TZID=Europe/Bucharest:20260421T193000
DTSTAMP:20260424T015624
CREATED:20260420T102222Z
LAST-MODIFIED:20260420T102222Z
UID:10014568-1776794400-1776799800@craiovalive.ro
SUMMARY:Expoziție de fotografie bilaterală Craiova – Ploiești: Clădiri de patrimoniu
DESCRIPTION:Muzeul Cărții și Exilului Românesc găzduiește marți\, 21 aprilie\, la ora 18:00\, vernisajul expoziției de fotografie bilaterală Craiova – Ploiești\, Clădiri de patrimoniu\, un dialog vizual început vineri\, 17 aprilie\, la Ploiești\, în spațiul elegant al Hotelului Central\, care continuă acum în inima Olteniei\, purtând cu sine ecoul pașilor de altădată și respirația arhitecturii care refuză uitarea. \nPrin obiectivul lor\, artiștii  Victor Cătălin Boldîr\, Rucsandra Silvia Călin\, Mihaela Eleonora Cojocaru\, Livia Corcoveanu\, Cristiana Coșoveanu\, Valerian Cruceru\, Cristi Floriganță\, Anne-Marie Gavrilă\, Mircea Georgescu\, Cristina Marcu\, Silviu Cristian Mirescu\, Mihai Murarețu\, Ion Claudiu Nețoiu\, Ionelia Nucă\, Cătălin Obreja\, Victor Popa\, Claudia Radu\, Anca Roșu\, Angelo Sab\, Ioan Bogdan Tătaru\, Ovidiu Urziceanu\, Andi Voicu și Marcel Horneț reconstituie o hartă sensibilă a patrimoniului\, unde fiecare clădire devine poveste\, fiecare detaliu devine mărturie. \nEvenimentul va fi moderat de Ionela Gherghe\, iar despre destinul și fragilitatea clădirilor de patrimoniu vor vorbi Gabriel Vlăduț\, alături de câte doi cercetători pasionați ai patrimoniului craiovean și prahovean\, într-un schimb de idei ce îmbină rigoarea cu emoția. \nLa eveniment participă Cvartetul Gaudeamus al Universității din Craiova. Artiștii Darius Melencovici (vioara I)\, Andreea Poenaru (vioara a II-a)\, Ana Maria Odină (violă) și Gabriela Sârbu (violoncel)\, care vor interpreta mai multe piese\, printre care „Mica serenadă” de W.A. Mozart și tangoul „Por una cabeza” de C. Gardel.
URL:https://craiovalive.ro/eveniment/expozitie-de-fotografie-bilaterala-craiova-ploiesti-cladiri-de-patrimoniu/2026-04-21/
LOCATION:Muzeul Cărții și Exilului Românesc\, Str. 24 Ianuarie nr. 4\, Craiova\, Dolj\, România
CATEGORIES:Expoziție,Fotografie
ATTACH;FMTTYPE=image/jpeg:https://craiovalive.ro/wp-content/uploads/2026/04/Expozitie-de-fotografie-bilaterala-Craiova-–-Ploiesti-Cladiri-de-patrimoniu.jpeg
GEO:44.3141881;23.7984041
X-APPLE-STRUCTURED-LOCATION;VALUE=URI;X-ADDRESS=Muzeul Cărții și Exilului Românesc Str. 24 Ianuarie nr. 4 Craiova Dolj România;X-APPLE-RADIUS=500;X-TITLE=Str. 24 Ianuarie nr. 4:geo:23.7984041,44.3141881
END:VEVENT
END:VCALENDAR