BEGIN:VCALENDAR
VERSION:2.0
PRODID:-//Craiova Live - ECPv6.15.18//NONSGML v1.0//EN
CALSCALE:GREGORIAN
METHOD:PUBLISH
X-WR-CALNAME:Craiova Live
X-ORIGINAL-URL:https://craiovalive.ro
X-WR-CALDESC:Evenimente pentru Craiova Live
REFRESH-INTERVAL;VALUE=DURATION:PT1H
X-Robots-Tag:noindex
X-PUBLISHED-TTL:PT1H
BEGIN:VTIMEZONE
TZID:Europe/Bucharest
BEGIN:DAYLIGHT
TZOFFSETFROM:+0200
TZOFFSETTO:+0300
TZNAME:EEST
DTSTART:20250330T010000
END:DAYLIGHT
BEGIN:STANDARD
TZOFFSETFROM:+0300
TZOFFSETTO:+0200
TZNAME:EET
DTSTART:20251026T010000
END:STANDARD
BEGIN:DAYLIGHT
TZOFFSETFROM:+0200
TZOFFSETTO:+0300
TZNAME:EEST
DTSTART:20260329T010000
END:DAYLIGHT
BEGIN:STANDARD
TZOFFSETFROM:+0300
TZOFFSETTO:+0200
TZNAME:EET
DTSTART:20261025T010000
END:STANDARD
BEGIN:DAYLIGHT
TZOFFSETFROM:+0200
TZOFFSETTO:+0300
TZNAME:EEST
DTSTART:20270328T010000
END:DAYLIGHT
BEGIN:STANDARD
TZOFFSETFROM:+0300
TZOFFSETTO:+0200
TZNAME:EET
DTSTART:20271031T010000
END:STANDARD
END:VTIMEZONE
BEGIN:VEVENT
DTSTART;TZID=Europe/Bucharest:20260417T171500
DTEND;TZID=Europe/Bucharest:20260417T191500
DTSTAMP:20260424T002449
CREATED:20260319T160308Z
LAST-MODIFIED:20260416T170859Z
UID:10014545-1776446100-1776453300@craiovalive.ro
SUMMARY:Cineplexx Classics Kids: Cars
DESCRIPTION:Pe 17 aprilie de la ora 19:30\, la Cineplexx Craiova (Promenada) se vede pe marile ecrane filmul Cars la un preț special de doar 12 lei/biletul! \nLightning McQueen\, un tânăr automobil de curse plin de ambiție\, ajunge din greșeală în pitorescul Radiator Springs\, unde o simplă oprire se transformă într-o experiență care îi schimbă complet drumul. \nObligat să repare greșelile făcute\, McQueen descoperă că succesul nu înseamnă doar viteză și trofee\, ci și prietenie\, respect și spirit de echipă. Va reuși el să revină pe circuit sau va descoperi ceva mult mai valoros? \nO poveste plină de emoție\, umor și lecții care merg dincolo de linia de sosire!
URL:https://craiovalive.ro/eveniment/cineplexx-classics-cars/2026-04-17/1/
LOCATION:Promenada Mall\, Calea Severinului 61\, Craiova\, Dolj\, România
CATEGORIES:Film
ATTACH;FMTTYPE=image/jpeg:https://craiovalive.ro/wp-content/uploads/2026/03/Cineplexx-Classics-Cars.jpg
GEO:44.3487242;23.7559265
X-APPLE-STRUCTURED-LOCATION;VALUE=URI;X-ADDRESS=Promenada Mall Calea Severinului 61 Craiova Dolj România;X-APPLE-RADIUS=500;X-TITLE=Calea Severinului 61:geo:23.7559265,44.3487242
END:VEVENT
BEGIN:VEVENT
DTSTART;TZID=Europe/Bucharest:20260417T193000
DTEND;TZID=Europe/Bucharest:20260417T213000
DTSTAMP:20260424T002449
CREATED:20260319T155943Z
LAST-MODIFIED:20260413T124816Z
UID:10014374-1776454200-1776461400@craiovalive.ro
SUMMARY:Cinemateca: Diligența
DESCRIPTION: A venit vremea ca la 𝐂𝐈𝐍𝐄𝐌𝐀𝐓𝐄𝐂𝐀 sa ne intoarcem in Vestul Salbatic  cu acel gen de film prin care Hollywoodul si-a construit influenta incontestabila in istoria cinematografiei Asa ca vom lua „𝐃𝐢𝐥𝐢𝐠𝐞𝐧𝐭𝐚”  si vom porni intr-o aventura antrenanta si fascinanta prin peisajele spectaculoase din Monument Valley \, surprinse ca nimeni altul de marele maestru al genului western\, regizorul John Ford Tovarasi de calatorie ne vor fi personaje diverse si pitoresti\, in frunte cu nimeni altul decat legendarul John Wayne  Vino la Inspire Cinema sa calatorim impreuna in tinuturile primejdioase si palpitante ale Vestului Salbatic!  \nVineri\, 17 aprilie\, la Cinema Inspire Mercur \nSâmbătă\, 18 aprilie\, la Cinema Inspire Electro
URL:https://craiovalive.ro/eveniment/cinemateca-diligenta/2026-04-17/
LOCATION:Dolj
CATEGORIES:Film
ATTACH;FMTTYPE=image/jpeg:https://craiovalive.ro/wp-content/uploads/2026/03/Cinemateca-Diligenta.jpg
END:VEVENT
BEGIN:VEVENT
DTSTART;TZID=Europe/Bucharest:20260417T193000
DTEND;TZID=Europe/Bucharest:20260417T213000
DTSTAMP:20260424T002449
CREATED:20260319T160308Z
LAST-MODIFIED:20260416T170859Z
UID:10014375-1776454200-1776461400@craiovalive.ro
SUMMARY:Cineplexx Classics Kids: Cars
DESCRIPTION:Pe 17 aprilie de la ora 19:30\, la Cineplexx Craiova (Promenada) se vede pe marile ecrane filmul Cars la un preț special de doar 12 lei/biletul! \nLightning McQueen\, un tânăr automobil de curse plin de ambiție\, ajunge din greșeală în pitorescul Radiator Springs\, unde o simplă oprire se transformă într-o experiență care îi schimbă complet drumul. \nObligat să repare greșelile făcute\, McQueen descoperă că succesul nu înseamnă doar viteză și trofee\, ci și prietenie\, respect și spirit de echipă. Va reuși el să revină pe circuit sau va descoperi ceva mult mai valoros? \nO poveste plină de emoție\, umor și lecții care merg dincolo de linia de sosire!
URL:https://craiovalive.ro/eveniment/cineplexx-classics-cars/2026-04-17/2/
LOCATION:Promenada Mall\, Calea Severinului 61\, Craiova\, Dolj\, România
CATEGORIES:Film
ATTACH;FMTTYPE=image/jpeg:https://craiovalive.ro/wp-content/uploads/2026/03/Cineplexx-Classics-Cars.jpg
GEO:44.3487242;23.7559265
X-APPLE-STRUCTURED-LOCATION;VALUE=URI;X-ADDRESS=Promenada Mall Calea Severinului 61 Craiova Dolj România;X-APPLE-RADIUS=500;X-TITLE=Calea Severinului 61:geo:23.7559265,44.3487242
END:VEVENT
BEGIN:VEVENT
DTSTART;TZID=Europe/Bucharest:20260418T200000
DTEND;TZID=Europe/Bucharest:20260418T220000
DTSTAMP:20260424T002449
CREATED:20260319T155943Z
LAST-MODIFIED:20260413T124816Z
UID:10014528-1776542400-1776549600@craiovalive.ro
SUMMARY:Cinemateca: Diligența
DESCRIPTION: A venit vremea ca la 𝐂𝐈𝐍𝐄𝐌𝐀𝐓𝐄𝐂𝐀 sa ne intoarcem in Vestul Salbatic  cu acel gen de film prin care Hollywoodul si-a construit influenta incontestabila in istoria cinematografiei Asa ca vom lua „𝐃𝐢𝐥𝐢𝐠𝐞𝐧𝐭𝐚”  si vom porni intr-o aventura antrenanta si fascinanta prin peisajele spectaculoase din Monument Valley \, surprinse ca nimeni altul de marele maestru al genului western\, regizorul John Ford Tovarasi de calatorie ne vor fi personaje diverse si pitoresti\, in frunte cu nimeni altul decat legendarul John Wayne  Vino la Inspire Cinema sa calatorim impreuna in tinuturile primejdioase si palpitante ale Vestului Salbatic!  \nVineri\, 17 aprilie\, la Cinema Inspire Mercur \nSâmbătă\, 18 aprilie\, la Cinema Inspire Electro
URL:https://craiovalive.ro/eveniment/cinemateca-diligenta/2026-04-18/
LOCATION:Dolj
CATEGORIES:Film
ATTACH;FMTTYPE=image/jpeg:https://craiovalive.ro/wp-content/uploads/2026/03/Cinemateca-Diligenta.jpg
END:VEVENT
END:VCALENDAR