BEGIN:VCALENDAR
VERSION:2.0
PRODID:-//Craiova Live - ECPv6.15.18//NONSGML v1.0//EN
CALSCALE:GREGORIAN
METHOD:PUBLISH
X-WR-CALNAME:Craiova Live
X-ORIGINAL-URL:https://craiovalive.ro
X-WR-CALDESC:Evenimente pentru Craiova Live
REFRESH-INTERVAL;VALUE=DURATION:PT1H
X-Robots-Tag:noindex
X-PUBLISHED-TTL:PT1H
BEGIN:VTIMEZONE
TZID:Europe/Bucharest
BEGIN:DAYLIGHT
TZOFFSETFROM:+0200
TZOFFSETTO:+0300
TZNAME:EEST
DTSTART:20250330T010000
END:DAYLIGHT
BEGIN:STANDARD
TZOFFSETFROM:+0300
TZOFFSETTO:+0200
TZNAME:EET
DTSTART:20251026T010000
END:STANDARD
BEGIN:DAYLIGHT
TZOFFSETFROM:+0200
TZOFFSETTO:+0300
TZNAME:EEST
DTSTART:20260329T010000
END:DAYLIGHT
BEGIN:STANDARD
TZOFFSETFROM:+0300
TZOFFSETTO:+0200
TZNAME:EET
DTSTART:20261025T010000
END:STANDARD
BEGIN:DAYLIGHT
TZOFFSETFROM:+0200
TZOFFSETTO:+0300
TZNAME:EEST
DTSTART:20270328T010000
END:DAYLIGHT
BEGIN:STANDARD
TZOFFSETFROM:+0300
TZOFFSETTO:+0200
TZNAME:EET
DTSTART:20271031T010000
END:STANDARD
END:VTIMEZONE
BEGIN:VEVENT
DTSTART;TZID=Europe/Bucharest:20260320T200000
DTEND;TZID=Europe/Bucharest:20260320T220000
DTSTAMP:20260424T015605
CREATED:20260316T190156Z
LAST-MODIFIED:20260320T104701Z
UID:10014352-1774036800-1774044000@craiovalive.ro
SUMMARY:Festivalul Filmului Francez Craiova 2026
DESCRIPTION:Festivalul Filmului Francez\, ajuns anul acesta la cea de-a 30-a ediție\, va avea loc în 16 orașe din România\, printre care și Craiova. Proiecțiile vor avea loc în Bănie în perioada 20-22 martie\, la Cinema Inspire Mercur \nAceastă ediție aniversară reprezintă unul dintre momentele de referință ale Lunii Francofoniei și este coorganizată de cele șase Alianțe Franceze membre ale rețelei din România\, împreună cu Institutul Francez. Cu o tradiție de 30 de ani\, festivalul s-a impus ca o întâlnire de neratat pentru cinefili și ca un spațiu privilegiat de dialog intercultural\, printr-o programare riguroasă\, deschisă marilor teme contemporane și noilor forme de expresie cinematografică. Pentru a celebra această aniversare\, festivalul va propune o selecție de peste 30 de filme\, îmbinând producții inedite cu titluri de referință ale cinematografiei franceze din ultimii ani. \nPROGRAM FESTIVALUL FILMULUI FRANCEZ CRAIOVA2026\nVineri\, 20 martie\, ora 20:00 & ora 20:20 – Misericorde\nSambata\, 21 martie\, ora 20:00 & ora 20:20 – Chien 51\nDuminica\, 22 martie\, ora 20:00 & ora 20:10 – Maria
URL:https://craiovalive.ro/eveniment/festivalul-filmului-francez-craiova-2026/2026-03-20/
LOCATION:Dolj
CATEGORIES:Film
ATTACH;FMTTYPE=image/jpeg:https://craiovalive.ro/wp-content/uploads/2026/03/Festivalul-Filmului-Francez-Craiova-2026.jpg
END:VEVENT
BEGIN:VEVENT
DTSTART;TZID=Europe/Bucharest:20260320T200000
DTEND;TZID=Europe/Bucharest:20260320T220000
DTSTAMP:20260424T015605
CREATED:20260316T190527Z
LAST-MODIFIED:20260320T104750Z
UID:10014355-1774036800-1774044000@craiovalive.ro
SUMMARY:Miséricorde
DESCRIPTION:Vineri\, 20 martie\, ora 20:00 & ora 20:20\, la Inspire Cinema Mercur\, în cadrul Festivalului Filmului Francez Craiova 2026 \nMiséricorde\nUn film de Alain Guiraudie · 2024 (Franță\, Spania\, Portugalia) · Dramă · 1h 44m \nFélix Kysyl\nCatherine Frot\nJean-Baptiste Durand \nVorbit în FR · Subtitrat în RO\, EN \nJérémie\, în jur de 30 de ani\, se întoarce în orașul său natal pentru înmormântarea fostului său șef\, când o dispariție misterioasă\, un vecin amenințător și un preot cu intenții ciudate adaugă o turnură neașteptată șederii sale. \nPremieră la Festivalul de Film de la Cannes\, 2024
URL:https://craiovalive.ro/eveniment/misericorde/2026-03-20/1/
LOCATION:Dolj
CATEGORIES:Film
ATTACH;FMTTYPE=image/jpeg:https://craiovalive.ro/wp-content/uploads/2026/03/Misericorde.jpg
END:VEVENT
BEGIN:VEVENT
DTSTART;TZID=Europe/Bucharest:20260320T202000
DTEND;TZID=Europe/Bucharest:20260320T220000
DTSTAMP:20260424T015605
CREATED:20260316T190527Z
LAST-MODIFIED:20260320T104750Z
UID:10014377-1774038000-1774044000@craiovalive.ro
SUMMARY:Miséricorde
DESCRIPTION:Vineri\, 20 martie\, ora 20:00 & ora 20:20\, la Inspire Cinema Mercur\, în cadrul Festivalului Filmului Francez Craiova 2026 \nMiséricorde\nUn film de Alain Guiraudie · 2024 (Franță\, Spania\, Portugalia) · Dramă · 1h 44m \nFélix Kysyl\nCatherine Frot\nJean-Baptiste Durand \nVorbit în FR · Subtitrat în RO\, EN \nJérémie\, în jur de 30 de ani\, se întoarce în orașul său natal pentru înmormântarea fostului său șef\, când o dispariție misterioasă\, un vecin amenințător și un preot cu intenții ciudate adaugă o turnură neașteptată șederii sale. \nPremieră la Festivalul de Film de la Cannes\, 2024
URL:https://craiovalive.ro/eveniment/misericorde/2026-03-20/2/
LOCATION:Dolj
CATEGORIES:Film
ATTACH;FMTTYPE=image/jpeg:https://craiovalive.ro/wp-content/uploads/2026/03/Misericorde.jpg
END:VEVENT
BEGIN:VEVENT
DTSTART;TZID=Europe/Bucharest:20260321T200000
DTEND;TZID=Europe/Bucharest:20260321T220000
DTSTAMP:20260424T015605
CREATED:20260316T190156Z
LAST-MODIFIED:20260320T104701Z
UID:10014353-1774123200-1774130400@craiovalive.ro
SUMMARY:Festivalul Filmului Francez Craiova 2026
DESCRIPTION:Festivalul Filmului Francez\, ajuns anul acesta la cea de-a 30-a ediție\, va avea loc în 16 orașe din România\, printre care și Craiova. Proiecțiile vor avea loc în Bănie în perioada 20-22 martie\, la Cinema Inspire Mercur \nAceastă ediție aniversară reprezintă unul dintre momentele de referință ale Lunii Francofoniei și este coorganizată de cele șase Alianțe Franceze membre ale rețelei din România\, împreună cu Institutul Francez. Cu o tradiție de 30 de ani\, festivalul s-a impus ca o întâlnire de neratat pentru cinefili și ca un spațiu privilegiat de dialog intercultural\, printr-o programare riguroasă\, deschisă marilor teme contemporane și noilor forme de expresie cinematografică. Pentru a celebra această aniversare\, festivalul va propune o selecție de peste 30 de filme\, îmbinând producții inedite cu titluri de referință ale cinematografiei franceze din ultimii ani. \nPROGRAM FESTIVALUL FILMULUI FRANCEZ CRAIOVA2026\nVineri\, 20 martie\, ora 20:00 & ora 20:20 – Misericorde\nSambata\, 21 martie\, ora 20:00 & ora 20:20 – Chien 51\nDuminica\, 22 martie\, ora 20:00 & ora 20:10 – Maria
URL:https://craiovalive.ro/eveniment/festivalul-filmului-francez-craiova-2026/2026-03-21/
LOCATION:Dolj
CATEGORIES:Film
ATTACH;FMTTYPE=image/jpeg:https://craiovalive.ro/wp-content/uploads/2026/03/Festivalul-Filmului-Francez-Craiova-2026.jpg
END:VEVENT
BEGIN:VEVENT
DTSTART;TZID=Europe/Bucharest:20260321T200000
DTEND;TZID=Europe/Bucharest:20260321T220000
DTSTAMP:20260424T015605
CREATED:20260316T190759Z
LAST-MODIFIED:20260320T105122Z
UID:10014382-1774123200-1774130400@craiovalive.ro
SUMMARY:Chien 51
DESCRIPTION:Sâmbătă\, 21 martie\, ora 20:00 & ora 20:20\, la Inspire Cinema Mercur\, în cadrul Festivalului Filmului Francez Craiova 2026 \nCâine 51 / Chien 51\nUn film de Cédric Jimenez · 2025 (Franța) · Acțiune\, Thriller · 1h 40m \nGilles Lellouche\nAdèle Exarchopoulos\nLouis Garrel\nRomain Duris \nVorbit în FR · Subtitrat în RO\, EN \nÎntr-un Paris al viitorului împărțit pe clase\, un AI numit ALMA supraveghează societatea. Când creatorul său este asasinat\, o agentă de top și un polițist blazat sunt forțați să lucreze împreună pentru a rezolva o crimă care ar putea dezvălui secretele întunecate ale sistemului pe care îl servesc. \nCâștigător Jean-Philippe Moreaux (Cea mai bună scenografie) la Premiile César\, 2026\nCâștigător Cédric Fayolle (Cele mai bune efecte vizuale) la Premiile César\, 2026
URL:https://craiovalive.ro/eveniment/chien-51/2026-03-21/1/
LOCATION:Dolj
CATEGORIES:Film
ATTACH;FMTTYPE=image/jpeg:https://craiovalive.ro/wp-content/uploads/2026/03/Chien-51.jpg
END:VEVENT
BEGIN:VEVENT
DTSTART;TZID=Europe/Bucharest:20260321T202000
DTEND;TZID=Europe/Bucharest:20260321T220000
DTSTAMP:20260424T015605
CREATED:20260316T190759Z
LAST-MODIFIED:20260320T105122Z
UID:10014383-1774124400-1774130400@craiovalive.ro
SUMMARY:Chien 51
DESCRIPTION:Sâmbătă\, 21 martie\, ora 20:00 & ora 20:20\, la Inspire Cinema Mercur\, în cadrul Festivalului Filmului Francez Craiova 2026 \nCâine 51 / Chien 51\nUn film de Cédric Jimenez · 2025 (Franța) · Acțiune\, Thriller · 1h 40m \nGilles Lellouche\nAdèle Exarchopoulos\nLouis Garrel\nRomain Duris \nVorbit în FR · Subtitrat în RO\, EN \nÎntr-un Paris al viitorului împărțit pe clase\, un AI numit ALMA supraveghează societatea. Când creatorul său este asasinat\, o agentă de top și un polițist blazat sunt forțați să lucreze împreună pentru a rezolva o crimă care ar putea dezvălui secretele întunecate ale sistemului pe care îl servesc. \nCâștigător Jean-Philippe Moreaux (Cea mai bună scenografie) la Premiile César\, 2026\nCâștigător Cédric Fayolle (Cele mai bune efecte vizuale) la Premiile César\, 2026
URL:https://craiovalive.ro/eveniment/chien-51/2026-03-21/2/
LOCATION:Dolj
CATEGORIES:Film
ATTACH;FMTTYPE=image/jpeg:https://craiovalive.ro/wp-content/uploads/2026/03/Chien-51.jpg
END:VEVENT
BEGIN:VEVENT
DTSTART;TZID=Europe/Bucharest:20260322T200000
DTEND;TZID=Europe/Bucharest:20260322T220000
DTSTAMP:20260424T015605
CREATED:20260316T190156Z
LAST-MODIFIED:20260320T104701Z
UID:10014354-1774209600-1774216800@craiovalive.ro
SUMMARY:Festivalul Filmului Francez Craiova 2026
DESCRIPTION:Festivalul Filmului Francez\, ajuns anul acesta la cea de-a 30-a ediție\, va avea loc în 16 orașe din România\, printre care și Craiova. Proiecțiile vor avea loc în Bănie în perioada 20-22 martie\, la Cinema Inspire Mercur \nAceastă ediție aniversară reprezintă unul dintre momentele de referință ale Lunii Francofoniei și este coorganizată de cele șase Alianțe Franceze membre ale rețelei din România\, împreună cu Institutul Francez. Cu o tradiție de 30 de ani\, festivalul s-a impus ca o întâlnire de neratat pentru cinefili și ca un spațiu privilegiat de dialog intercultural\, printr-o programare riguroasă\, deschisă marilor teme contemporane și noilor forme de expresie cinematografică. Pentru a celebra această aniversare\, festivalul va propune o selecție de peste 30 de filme\, îmbinând producții inedite cu titluri de referință ale cinematografiei franceze din ultimii ani. \nPROGRAM FESTIVALUL FILMULUI FRANCEZ CRAIOVA2026\nVineri\, 20 martie\, ora 20:00 & ora 20:20 – Misericorde\nSambata\, 21 martie\, ora 20:00 & ora 20:20 – Chien 51\nDuminica\, 22 martie\, ora 20:00 & ora 20:10 – Maria
URL:https://craiovalive.ro/eveniment/festivalul-filmului-francez-craiova-2026/2026-03-22/
LOCATION:Dolj
CATEGORIES:Film
ATTACH;FMTTYPE=image/jpeg:https://craiovalive.ro/wp-content/uploads/2026/03/Festivalul-Filmului-Francez-Craiova-2026.jpg
END:VEVENT
BEGIN:VEVENT
DTSTART;TZID=Europe/Bucharest:20260322T200000
DTEND;TZID=Europe/Bucharest:20260322T220000
DTSTAMP:20260424T015605
CREATED:20260316T191040Z
LAST-MODIFIED:20260320T104917Z
UID:10014357-1774209600-1774216800@craiovalive.ro
SUMMARY:Maria
DESCRIPTION:Duminică\, 22 martie\, ora 20:00 & ora 20:10\, la Inspire Cinema Mercur\, în cadrul Festivalului Filmului Francez Craiova 2026 \nMaria\nUn film de Jessica Palud · 2024 (Franța) · Dramă · 1h 40m \nVorbit în FR\, EN\, IT · Subtitrat în RO\, EN \nMaria nu mai e nici copil\, dar nici un adult în adevăratul sens al cuvântului\, când strălucește pe marele ecran în filmul unui tânăr regizor italian promițător: un huis clos intens\, plin de sex și violență\, alături de o vedetă americană. Fără să fie pregătită pentru faimă sau scandal\, ajunge rapid celebră și devine o actriță iconică. \nPremieră la Festivalul de Film de la Cannes\, 2024
URL:https://craiovalive.ro/eveniment/maria/2026-03-22/1/
LOCATION:Dolj
CATEGORIES:Film
ATTACH;FMTTYPE=image/jpeg:https://craiovalive.ro/wp-content/uploads/2026/03/Maria.jpg
END:VEVENT
BEGIN:VEVENT
DTSTART;TZID=Europe/Bucharest:20260322T201000
DTEND;TZID=Europe/Bucharest:20260322T220000
DTSTAMP:20260424T015605
CREATED:20260316T191040Z
LAST-MODIFIED:20260320T104917Z
UID:10014381-1774210200-1774216800@craiovalive.ro
SUMMARY:Maria
DESCRIPTION:Duminică\, 22 martie\, ora 20:00 & ora 20:10\, la Inspire Cinema Mercur\, în cadrul Festivalului Filmului Francez Craiova 2026 \nMaria\nUn film de Jessica Palud · 2024 (Franța) · Dramă · 1h 40m \nVorbit în FR\, EN\, IT · Subtitrat în RO\, EN \nMaria nu mai e nici copil\, dar nici un adult în adevăratul sens al cuvântului\, când strălucește pe marele ecran în filmul unui tânăr regizor italian promițător: un huis clos intens\, plin de sex și violență\, alături de o vedetă americană. Fără să fie pregătită pentru faimă sau scandal\, ajunge rapid celebră și devine o actriță iconică. \nPremieră la Festivalul de Film de la Cannes\, 2024
URL:https://craiovalive.ro/eveniment/maria/2026-03-22/2/
LOCATION:Dolj
CATEGORIES:Film
ATTACH;FMTTYPE=image/jpeg:https://craiovalive.ro/wp-content/uploads/2026/03/Maria.jpg
END:VEVENT
END:VCALENDAR