BEGIN:VCALENDAR
VERSION:2.0
PRODID:-//Craiova Live - ECPv6.15.18//NONSGML v1.0//EN
CALSCALE:GREGORIAN
METHOD:PUBLISH
X-ORIGINAL-URL:https://craiovalive.ro
X-WR-CALDESC:Evenimente pentru Craiova Live
REFRESH-INTERVAL;VALUE=DURATION:PT1H
X-Robots-Tag:noindex
X-PUBLISHED-TTL:PT1H
BEGIN:VTIMEZONE
TZID:Europe/Bucharest
BEGIN:DAYLIGHT
TZOFFSETFROM:+0200
TZOFFSETTO:+0300
TZNAME:EEST
DTSTART:20240331T010000
END:DAYLIGHT
BEGIN:STANDARD
TZOFFSETFROM:+0300
TZOFFSETTO:+0200
TZNAME:EET
DTSTART:20241027T010000
END:STANDARD
BEGIN:DAYLIGHT
TZOFFSETFROM:+0200
TZOFFSETTO:+0300
TZNAME:EEST
DTSTART:20250330T010000
END:DAYLIGHT
BEGIN:STANDARD
TZOFFSETFROM:+0300
TZOFFSETTO:+0200
TZNAME:EET
DTSTART:20251026T010000
END:STANDARD
BEGIN:DAYLIGHT
TZOFFSETFROM:+0200
TZOFFSETTO:+0300
TZNAME:EEST
DTSTART:20260329T010000
END:DAYLIGHT
BEGIN:STANDARD
TZOFFSETFROM:+0300
TZOFFSETTO:+0200
TZNAME:EET
DTSTART:20261025T010000
END:STANDARD
END:VTIMEZONE
BEGIN:VEVENT
DTSTART;TZID=Europe/Bucharest:20251026T163000
DTEND;TZID=Europe/Bucharest:20251026T183000
DTSTAMP:20260424T060426
CREATED:20251020T122652Z
LAST-MODIFIED:20251020T122652Z
UID:10010857-1761496200-1761503400@craiovalive.ro
SUMMARY:„Moartea domnului Lăzărescu” - proiecție specială la Craiova
DESCRIPTION:„Moartea domnului Lăzărescu”\, lungmetrajul regizorului Cristi Puiu\, devenit un titlu de patrimoniu cultural\, revine în cinematografe la 20 de ani de la lansare pentru o perioadă limitată. O serie de proiecții speciale dedicate întâlnirilor dintre generații și discuțiilor despre neajunsurile perpetuate ale unui sistem care nu pune preț pe empatie vor avea loc în mai multe orașe din țară\, în prezența unor membri ai echipei. Pe 26 octombrie\, de la 16:30\, în Cinema Inspire Electroputere Craiova\, filmul „Moartea domnului Lăzărescu” va avea parte de o proiecție specială\, iar publicul de toate vârstele poate afla mai multe detalii despre film. \nDOSARUL LĂZĂRESCU: REDESCHIS  –  dialog între generații \nFilmul care a pus România pe harta cinematografiei mondiale vorbește în continuare\, la fel de actual și puternic\, despre umanitate\, fragilitate și societate. \nBILETE: https://linktr.ee/moarteadomnuluilazarescu \nO critică magistrală\, plină de umor negru și tulburătoare a unui sistem medical insensibil și ineficient\, filmul „Moartea domnului Lăzărescu” a fost  descris drept o „odisee puternică” și o „odă crudă la adresa mortalității”\, fiind remarcat pentru realismul său\, interpretările excelente și portretizarea indiferenței umane alături de momente de bunătate. \nCele peste 50 de premii și selecții naționale și internaționale\, sutele de cronici care-i apreciază sensibilitatea\, subtilitatea și importanța artistică\, mărturiile cineaștilor pe care i-a influențat\, dar și ale publicului care l-a descoperit recent\, la TIFF\, SFR sau la proiecția de gală din 23 septembrie din București\, alcătuiesc o bogată și impresionantă carte de vizită. \n„Moartea domnului Lăzărescu” nu este doar „o capodoperă incomodă”\, ci un film actual și puternic\, în care publicul are ocazia să-i (re)descopere actorii care alcătuiesc una dintre cele memorabile distribuții: Ion Fiscuteanu\, Luminița Gheorghiu și Doru Ana\, alături de Florin Zamfirescu\, Adrian Titieni\, Dana Dogaru\, Monica Bârlădeanu\, Dragoș Bucur\, Șerban Pavlu\, Gabriel Spahiu\, Dorian Boguță\, Bogdan Dumitrache\, Rodica Lazăr\, Alina Berzunțeanu\, Mihai Brătilă\, Clara Vodă\, și mulți alții. \n„Moartea domnului Lăzărescu” este un titlu de patrimoniu cinematografic\, prezentat în cinematografe sub înaltul patronaj al Ministerului Culturii. \nImaginea filmului „Moartea domnului Lăzărescu” este semnată de Oleg Mutu și camera de Andrei Butică\,  iar montajul de Dana Bunescu.  Produs de MANDRAGORA prin Alexandru Munteanu\, Anca Puiu și Bobby Păunescu.
URL:https://craiovalive.ro/eveniment/moartea-domnului-lazarescu-proiectie-speciala-la-craiova/
LOCATION:Electroputere Parc Mall\, Calea București\, nr. 80\, Craiova\, Dolj\, România
CATEGORIES:Film
ATTACH;FMTTYPE=image/png:https://craiovalive.ro/wp-content/uploads/2025/10/„Moartea-domnului-Lazarescu-proiectie-speciala-la-Craiova.png
GEO:44.312934978525;23.833569266691
X-APPLE-STRUCTURED-LOCATION;VALUE=URI;X-ADDRESS=Electroputere Parc Mall Calea București nr. 80 Craiova Dolj România;X-APPLE-RADIUS=500;X-TITLE=Calea București\, nr. 80:geo:23.833569266691,44.312934978525
END:VEVENT
END:VCALENDAR