BEGIN:VCALENDAR
VERSION:2.0
PRODID:-//Craiova Live - ECPv6.15.18//NONSGML v1.0//EN
CALSCALE:GREGORIAN
METHOD:PUBLISH
X-ORIGINAL-URL:https://craiovalive.ro
X-WR-CALDESC:Evenimente pentru Craiova Live
REFRESH-INTERVAL;VALUE=DURATION:PT1H
X-Robots-Tag:noindex
X-PUBLISHED-TTL:PT1H
BEGIN:VTIMEZONE
TZID:Europe/Bucharest
BEGIN:DAYLIGHT
TZOFFSETFROM:+0200
TZOFFSETTO:+0300
TZNAME:EEST
DTSTART:20240331T010000
END:DAYLIGHT
BEGIN:STANDARD
TZOFFSETFROM:+0300
TZOFFSETTO:+0200
TZNAME:EET
DTSTART:20241027T010000
END:STANDARD
BEGIN:DAYLIGHT
TZOFFSETFROM:+0200
TZOFFSETTO:+0300
TZNAME:EEST
DTSTART:20250330T010000
END:DAYLIGHT
BEGIN:STANDARD
TZOFFSETFROM:+0300
TZOFFSETTO:+0200
TZNAME:EET
DTSTART:20251026T010000
END:STANDARD
BEGIN:DAYLIGHT
TZOFFSETFROM:+0200
TZOFFSETTO:+0300
TZNAME:EEST
DTSTART:20260329T010000
END:DAYLIGHT
BEGIN:STANDARD
TZOFFSETFROM:+0300
TZOFFSETTO:+0200
TZNAME:EET
DTSTART:20261025T010000
END:STANDARD
END:VTIMEZONE
BEGIN:VEVENT
DTSTART;TZID=Europe/Bucharest:20250916T210000
DTEND;TZID=Europe/Bucharest:20250916T220000
DTSTAMP:20260424T112631
CREATED:20250915T070039Z
LAST-MODIFIED:20250915T072059Z
UID:10009743-1758056400-1758060000@craiovalive.ro
SUMMARY:#ConnectFilms - Shift and Rise: 27 (Flóra Anna Buda)
DESCRIPTION:#ConnectFilms  aduce în fața publicului două proiecții de filme de dans realizate în parteneriat cu Bucharest International Dance Film Festival.\n\n\n27 (Flóra Anna Buda)\n\n\n 10’38’’\, FR\n Se vede marți\, 16 septembrie\, la Silent Garden\, de la 21.00.\n Scurtmetraj din secțiunea „Shift and Rise”. Intrarea e liberă.\n\n\n\nAlice împlinește astăzi 27 de ani. Chiar dacă se sufocă puțin\, locuiește în continuare cu părinții și tinde să trăiască cu capul în nori pentru a scăpa de viața monotonă. Amețită după o petrecere psihedelică pe acoperișul unei fabrici\, are un grav accident de bicicletă. Îi va da acesta curajul să devină adultă?\n\n\n––\n\n\n\nSelecție de scurtmetraje din 𝐒𝐡𝐢𝐟𝐭 𝐚𝐧𝐝 𝐑𝐢𝐬𝐞 transformă corpul într-un teren al experimentului și al descoperirii. De la mișcare mijloc de eliberare\, la explorarea identității\, fiecare film arată cum corpul poate fi martor al experiențelor\, purtător al memoriei și dorințelor\, și instrument de negociere cu lumea. Împreună\, ele creează o simfonie vizuală a curajului și introspecției\, unde dansul devine un mijloc de a ne regăsi și de a înțelege cum să fim mai prezenți.\n\n\n\n\n\n Serile de film fac parte din Festivalul CONNECT\, ediția a 4-a\, organizat de Asociția Delazero\, co-finanțat de AFCN.
URL:https://craiovalive.ro/eveniment/connectfilms-27-flora-anna-buda/
LOCATION:Shhh! Silent Garden\, Str. Olteț\, nr. 1\, Craiova\, Dolj\, România
CATEGORIES:Film
ATTACH;FMTTYPE=image/jpeg:https://craiovalive.ro/wp-content/uploads/2025/09/27.jpg
GEO:44.317802098137;23.797564215092
X-APPLE-STRUCTURED-LOCATION;VALUE=URI;X-ADDRESS=Shhh! Silent Garden Str. Olteț nr. 1 Craiova Dolj România;X-APPLE-RADIUS=500;X-TITLE=Str. Olteț\, nr. 1:geo:23.797564215092,44.317802098137
END:VEVENT
BEGIN:VEVENT
DTSTART;TZID=Europe/Bucharest:20250916T210000
DTEND;TZID=Europe/Bucharest:20250916T220000
DTSTAMP:20260424T112631
CREATED:20250915T070529Z
LAST-MODIFIED:20250915T073813Z
UID:10009745-1758056400-1758060000@craiovalive.ro
SUMMARY:#ConnectFilms - Shift and Rise: HIEROGLYPH WOMAN (Victoria Donnet\, Alice Cathelineau)
DESCRIPTION:#ConnectFilms  aduce în fața publicului două proiecții de filme de dans realizate în parteneriat cu Bucharest International Dance Film Festival.\n\n\nHIEROGLYPH WOMAN (Victoria Donnet\, Alice Cathelineau)\n\n\n 06’53’’\, FR\n Se vede marți\, 16 septembrie\, la Silent Garden\, de la 21.00.\n Scurtmetraj din secțiunea „Shift and Rise”.\n\n\nCe este o femeie\, ce sunt eu? Hieroglyph Woman pune sub semnul întrebării misterul de a fi viu\, viu\, viu. Stereotipuri\, arhetipuri\, distrugere a formelor. Scuturați materia și lăsați-o să vorbească.\n\n\n––\n\n\n\nSelecție de scurtmetraje din 𝐒𝐡𝐢𝐟𝐭 𝐚𝐧𝐝 𝐑𝐢𝐬𝐞 transformă corpul într-un teren al experimentului și al descoperirii. De la mișcare mijloc de eliberare\, la explorarea identității\, fiecare film arată cum corpul poate fi martor al experiențelor\, purtător al memoriei și dorințelor\, și instrument de negociere cu lumea. Împreună\, ele creează o simfonie vizuală a curajului și introspecției\, unde dansul devine un mijloc de a ne regăsi și de a înțelege cum să fim mai prezenți.\n\n\n\n\n\n Serile de film fac parte din Festivalul CONNECT\, ediția a 4-a\, organizat de Asociția Delazero\, co-finanțat de AFCN.
URL:https://craiovalive.ro/eveniment/connectfilms-hieroglyph-woman-victoria-donnet-alice-cathelineau/
LOCATION:Shhh! Silent Garden\, Str. Olteț\, nr. 1\, Craiova\, Dolj\, România
CATEGORIES:Film
ATTACH;FMTTYPE=image/jpeg:https://craiovalive.ro/wp-content/uploads/2025/09/ConnectFilms-0653-FR.jpg
GEO:44.317802098137;23.797564215092
X-APPLE-STRUCTURED-LOCATION;VALUE=URI;X-ADDRESS=Shhh! Silent Garden Str. Olteț nr. 1 Craiova Dolj România;X-APPLE-RADIUS=500;X-TITLE=Str. Olteț\, nr. 1:geo:23.797564215092,44.317802098137
END:VEVENT
BEGIN:VEVENT
DTSTART;TZID=Europe/Bucharest:20250916T210000
DTEND;TZID=Europe/Bucharest:20250916T220000
DTSTAMP:20260424T112631
CREATED:20250915T070834Z
LAST-MODIFIED:20250915T072053Z
UID:10009746-1758056400-1758060000@craiovalive.ro
SUMMARY:#ConnectFilms - Shift and Rise: NOORA (Anna Kekkonen)
DESCRIPTION:#ConnectFilms Prima seară de filme din festival are loc marți\, 16 septembrie\, la Silent Garden! De la 21:00. \n\n\nNOORA (Anna Kekkonen)\n\n\n 07’40’’\, FI\n Se vede marți\, 16 septembrie\n Scurtmetraj din secțiunea „Shift and Rise”\, prezentată în parteneriat cu Bucharest International Dance Film Festival\n\n\nNoora este dansatoare. Impulsurile corpului ei se nasc spontan din contactul cu diferite medii. Noora suferă de fragilitate osoasă congenitală\, Osteogenesis Imperfecta. Folosește un scaun cu rotile ca ajutor pentru dans și\, deși în acesta se poate mișca liber\, se simte izolată de mediul înconjurător. Ea caută noi modalități de mișcare\, concentrându-se mai degrabă pe posibilități decât pe limitări. Pe pământ\, simte cum solul îi opune rezistență. În apă\, poate renunța la scaunul cu rotile. Degetele Noorei se afundă în nămolul de pe fundul apei\, care pulsează cu fiecare pas. Apa îi susține corpul fragil și\, în mijlocul său\, îndrăznește să se miște mai liber\, corpul ei este mai elastic\, iar expresiile și gama de mișcări sunt mai largi.\n\n\n––\n\n\n\nSelecție de scurtmetraje din 𝐒𝐡𝐢𝐟𝐭 𝐚𝐧𝐝 𝐑𝐢𝐬𝐞 transformă corpul într-un teren al experimentului și al descoperirii. De la mișcare mijloc de eliberare\, la explorarea identității\, fiecare film arată cum corpul poate fi martor al experiențelor\, purtător al memoriei și dorințelor\, și instrument de negociere cu lumea. Împreună\, ele creează o simfonie vizuală a curajului și introspecției\, unde dansul devine un mijloc de a ne regăsi și de a înțelege cum să fim mai prezenți.\n\n\n\n\n\n Serile de film fac parte din Festivalul CONNECT\, ediția a 4-a\, organizat de Asociția Delazero\, co-finanțat de AFCN.
URL:https://craiovalive.ro/eveniment/connectfilms-noora-anna-kekkonen/
LOCATION:Shhh! Silent Garden\, Str. Olteț\, nr. 1\, Craiova\, Dolj\, România
CATEGORIES:Film
ATTACH;FMTTYPE=image/jpeg:https://craiovalive.ro/wp-content/uploads/2025/09/ConnectFilms-NOORA-Anna-Kekkonen.jpg
GEO:44.317802098137;23.797564215092
X-APPLE-STRUCTURED-LOCATION;VALUE=URI;X-ADDRESS=Shhh! Silent Garden Str. Olteț nr. 1 Craiova Dolj România;X-APPLE-RADIUS=500;X-TITLE=Str. Olteț\, nr. 1:geo:23.797564215092,44.317802098137
END:VEVENT
BEGIN:VEVENT
DTSTART;TZID=Europe/Bucharest:20250916T210000
DTEND;TZID=Europe/Bucharest:20250916T220000
DTSTAMP:20260424T112631
CREATED:20250915T071008Z
LAST-MODIFIED:20250915T072048Z
UID:10009747-1758056400-1758060000@craiovalive.ro
SUMMARY:#ConnectFilms - Shift and Rise: CARMEN (Carla Forte)
DESCRIPTION:#ConnectFilms Prima seară de filme din festival are loc marți\, 16 septembrie\, la Silent Garden! De la 21:00. \n\n\nCARMEN (Carla Forte)\n\n\n 04’35’’\, SUA\n Se vede marți\, 16 septembrie\n Scurtmetraj din secțiunea „Shift and Rise”\, prezentată în parteneriat cu Bucharest International Dance Film Festival.\n\n\nCarmen este un scurtmetraj experimental în care personajul își spune povestea prin intermediul propriului corp\, creând un nou limbaj.\n––\n\n\n\nSelecție de scurtmetraje din 𝐒𝐡𝐢𝐟𝐭 𝐚𝐧𝐝 𝐑𝐢𝐬𝐞 transformă corpul într-un teren al experimentului și al descoperirii. De la mișcare mijloc de eliberare\, la explorarea identității\, fiecare film arată cum corpul poate fi martor al experiențelor\, purtător al memoriei și dorințelor\, și instrument de negociere cu lumea. Împreună\, ele creează o simfonie vizuală a curajului și introspecției\, unde dansul devine un mijloc de a ne regăsi și de a înțelege cum să fim mai prezenți.\n\n\n\n\n\n Serile de film fac parte din Festivalul CONNECT\, ediția a 4-a\, organizat de Asociția Delazero\, co-finanțat de AFCN.
URL:https://craiovalive.ro/eveniment/connectfilms-carmen-carla-forte/
LOCATION:Shhh! Silent Garden\, Str. Olteț\, nr. 1\, Craiova\, Dolj\, România
CATEGORIES:Film
ATTACH;FMTTYPE=image/jpeg:https://craiovalive.ro/wp-content/uploads/2025/09/ConnectFilms-CARMEN-Carla-Forte.jpg
GEO:44.317802098137;23.797564215092
X-APPLE-STRUCTURED-LOCATION;VALUE=URI;X-ADDRESS=Shhh! Silent Garden Str. Olteț nr. 1 Craiova Dolj România;X-APPLE-RADIUS=500;X-TITLE=Str. Olteț\, nr. 1:geo:23.797564215092,44.317802098137
END:VEVENT
END:VCALENDAR