BEGIN:VCALENDAR
VERSION:2.0
PRODID:-//Craiova Live - ECPv6.15.18//NONSGML v1.0//EN
CALSCALE:GREGORIAN
METHOD:PUBLISH
X-ORIGINAL-URL:https://craiovalive.ro
X-WR-CALDESC:Evenimente pentru Craiova Live
REFRESH-INTERVAL;VALUE=DURATION:PT1H
X-Robots-Tag:noindex
X-PUBLISHED-TTL:PT1H
BEGIN:VTIMEZONE
TZID:Europe/Bucharest
BEGIN:DAYLIGHT
TZOFFSETFROM:+0200
TZOFFSETTO:+0300
TZNAME:EEST
DTSTART:20240331T010000
END:DAYLIGHT
BEGIN:STANDARD
TZOFFSETFROM:+0300
TZOFFSETTO:+0200
TZNAME:EET
DTSTART:20241027T010000
END:STANDARD
BEGIN:DAYLIGHT
TZOFFSETFROM:+0200
TZOFFSETTO:+0300
TZNAME:EEST
DTSTART:20250330T010000
END:DAYLIGHT
BEGIN:STANDARD
TZOFFSETFROM:+0300
TZOFFSETTO:+0200
TZNAME:EET
DTSTART:20251026T010000
END:STANDARD
BEGIN:DAYLIGHT
TZOFFSETFROM:+0200
TZOFFSETTO:+0300
TZNAME:EEST
DTSTART:20260329T010000
END:DAYLIGHT
BEGIN:STANDARD
TZOFFSETFROM:+0300
TZOFFSETTO:+0200
TZNAME:EET
DTSTART:20261025T010000
END:STANDARD
END:VTIMEZONE
BEGIN:VEVENT
DTSTART;TZID=Europe/Bucharest:20250514T140000
DTEND;TZID=Europe/Bucharest:20250514T190000
DTSTAMP:20260424T151106
CREATED:20250505T091631Z
LAST-MODIFIED:20250505T092317Z
UID:10006337-1747231200-1747249200@craiovalive.ro
SUMMARY:Dinozaurii: O călătorie imersivă în lumea preistorică @MINA Pop-Up Craiova
DESCRIPTION:Din 10 mai\, la  MINA Pop-up Craiova este disponibil un nou spectacol educațional: „Dinozaurii – O călătorie imersivă în Lumea Preistorică”. Show-ul reprezintă o incursiune în universul preistoric\, ce cuprinde întreaga perioadă mezozoică oferind astfel publicului o experiență în habitatul de acum sute de milioane de ani. Accesul se face cu cel puțin o oră înainte de închidere. Intervalele se adresează tuturor categoriilor de vârstă\, cu excepția celor de la 19:00 și 20:00\, care sunt dedicate exclusiv adulților și copiilor cu vârsta de peste 10 ani. În cadrul MINA Pop-Up Craiova\, sunt disponibile și alte show-uri multimedia:Van Gogh – The Immersive ShowCei mai faimosi pictori români – o călătorie imersivă în arta româneascăLumea Subacvatica – O călătorie imersivă a apei……………………………….Spațiul MINA Pop-Up este un cort de 450 mp\, cu proiecții 360\, pe Bulevardul Ilie Balaci\, nr. 6\, lângă Sala Polivalentă. MINA Pop Up are loc la Craiova până pe 15 iunie 2025\, perioadă în care vor fi prezentate mai multe spectacole imersive.MINA Pop-Up Craiova va fi deschis:Luni – vineri: 12:00 – 21:00Sâmbătă: 10:00 – 21:00Duminică: 10:00 – 20:00Accesul se face cu cel puțin o oră înainte de închidere. Intervalele se adresează tuturor categoriilor de vârstă\, cu excepția celor de la 19:00 și 20:00\, care sunt dedicate exclusiv adulților și copiilor cu vârsta de peste 10 ani. MINA\, Museum of Immersive New Art\, este un concept unic în România care aduce împreună arta și tehnologia într-un mod inovator.Fiecare spațiu MINA este echipat cu tehnologie de ultimă generație și oferă o varietate de show-uri imersive\, de la proiecții spectaculoase de artă clasică și contemporană până la explorări educative ale misterelor naturii și ale universului.
URL:https://craiovalive.ro/eveniment/dinozaurii-o-calatorie-imersiva-in-lumea-preistorica-mina-pop-up-craiova/2025-05-14/
LOCATION:MINA Pop-Up Craiova\, Bulevard Ilie Balaci nr. 6 (lângă Sala Polivalentă)\, Craiova\, Dolj\, 200920\, România
CATEGORIES:Evenimente pentru copii,Expoziție,Film
ATTACH;FMTTYPE=image/jpeg:https://craiovalive.ro/wp-content/uploads/2025/05/Dinozaurii-O-calatorie-imersiva-in-lumea-preistorica-at-MINA-Pop-Up-Craiova.jpg
GEO:44.313128875204;23.787296767497
X-APPLE-STRUCTURED-LOCATION;VALUE=URI;X-ADDRESS=MINA Pop-Up Craiova Bulevard Ilie Balaci nr. 6 (lângă Sala Polivalentă) Craiova Dolj 200920 România;X-APPLE-RADIUS=500;X-TITLE=Bulevard Ilie Balaci nr. 6 (lângă Sala Polivalentă):geo:23.787296767497,44.313128875204
END:VEVENT
BEGIN:VEVENT
DTSTART;TZID=Europe/Bucharest:20250515T140000
DTEND;TZID=Europe/Bucharest:20250515T190000
DTSTAMP:20260424T151106
CREATED:20250505T091631Z
LAST-MODIFIED:20250505T092317Z
UID:10006338-1747317600-1747335600@craiovalive.ro
SUMMARY:Dinozaurii: O călătorie imersivă în lumea preistorică @MINA Pop-Up Craiova
DESCRIPTION:Din 10 mai\, la  MINA Pop-up Craiova este disponibil un nou spectacol educațional: „Dinozaurii – O călătorie imersivă în Lumea Preistorică”. Show-ul reprezintă o incursiune în universul preistoric\, ce cuprinde întreaga perioadă mezozoică oferind astfel publicului o experiență în habitatul de acum sute de milioane de ani. Accesul se face cu cel puțin o oră înainte de închidere. Intervalele se adresează tuturor categoriilor de vârstă\, cu excepția celor de la 19:00 și 20:00\, care sunt dedicate exclusiv adulților și copiilor cu vârsta de peste 10 ani. În cadrul MINA Pop-Up Craiova\, sunt disponibile și alte show-uri multimedia:Van Gogh – The Immersive ShowCei mai faimosi pictori români – o călătorie imersivă în arta româneascăLumea Subacvatica – O călătorie imersivă a apei……………………………….Spațiul MINA Pop-Up este un cort de 450 mp\, cu proiecții 360\, pe Bulevardul Ilie Balaci\, nr. 6\, lângă Sala Polivalentă. MINA Pop Up are loc la Craiova până pe 15 iunie 2025\, perioadă în care vor fi prezentate mai multe spectacole imersive.MINA Pop-Up Craiova va fi deschis:Luni – vineri: 12:00 – 21:00Sâmbătă: 10:00 – 21:00Duminică: 10:00 – 20:00Accesul se face cu cel puțin o oră înainte de închidere. Intervalele se adresează tuturor categoriilor de vârstă\, cu excepția celor de la 19:00 și 20:00\, care sunt dedicate exclusiv adulților și copiilor cu vârsta de peste 10 ani. MINA\, Museum of Immersive New Art\, este un concept unic în România care aduce împreună arta și tehnologia într-un mod inovator.Fiecare spațiu MINA este echipat cu tehnologie de ultimă generație și oferă o varietate de show-uri imersive\, de la proiecții spectaculoase de artă clasică și contemporană până la explorări educative ale misterelor naturii și ale universului.
URL:https://craiovalive.ro/eveniment/dinozaurii-o-calatorie-imersiva-in-lumea-preistorica-mina-pop-up-craiova/2025-05-15/
LOCATION:MINA Pop-Up Craiova\, Bulevard Ilie Balaci nr. 6 (lângă Sala Polivalentă)\, Craiova\, Dolj\, 200920\, România
CATEGORIES:Evenimente pentru copii,Expoziție,Film
ATTACH;FMTTYPE=image/jpeg:https://craiovalive.ro/wp-content/uploads/2025/05/Dinozaurii-O-calatorie-imersiva-in-lumea-preistorica-at-MINA-Pop-Up-Craiova.jpg
GEO:44.313128875204;23.787296767497
X-APPLE-STRUCTURED-LOCATION;VALUE=URI;X-ADDRESS=MINA Pop-Up Craiova Bulevard Ilie Balaci nr. 6 (lângă Sala Polivalentă) Craiova Dolj 200920 România;X-APPLE-RADIUS=500;X-TITLE=Bulevard Ilie Balaci nr. 6 (lângă Sala Polivalentă):geo:23.787296767497,44.313128875204
END:VEVENT
BEGIN:VEVENT
DTSTART;TZID=Europe/Bucharest:20250516T140000
DTEND;TZID=Europe/Bucharest:20250516T190000
DTSTAMP:20260424T151106
CREATED:20250505T091631Z
LAST-MODIFIED:20250505T092317Z
UID:10006339-1747404000-1747422000@craiovalive.ro
SUMMARY:Dinozaurii: O călătorie imersivă în lumea preistorică @MINA Pop-Up Craiova
DESCRIPTION:Din 10 mai\, la  MINA Pop-up Craiova este disponibil un nou spectacol educațional: „Dinozaurii – O călătorie imersivă în Lumea Preistorică”. Show-ul reprezintă o incursiune în universul preistoric\, ce cuprinde întreaga perioadă mezozoică oferind astfel publicului o experiență în habitatul de acum sute de milioane de ani. Accesul se face cu cel puțin o oră înainte de închidere. Intervalele se adresează tuturor categoriilor de vârstă\, cu excepția celor de la 19:00 și 20:00\, care sunt dedicate exclusiv adulților și copiilor cu vârsta de peste 10 ani. În cadrul MINA Pop-Up Craiova\, sunt disponibile și alte show-uri multimedia:Van Gogh – The Immersive ShowCei mai faimosi pictori români – o călătorie imersivă în arta româneascăLumea Subacvatica – O călătorie imersivă a apei……………………………….Spațiul MINA Pop-Up este un cort de 450 mp\, cu proiecții 360\, pe Bulevardul Ilie Balaci\, nr. 6\, lângă Sala Polivalentă. MINA Pop Up are loc la Craiova până pe 15 iunie 2025\, perioadă în care vor fi prezentate mai multe spectacole imersive.MINA Pop-Up Craiova va fi deschis:Luni – vineri: 12:00 – 21:00Sâmbătă: 10:00 – 21:00Duminică: 10:00 – 20:00Accesul se face cu cel puțin o oră înainte de închidere. Intervalele se adresează tuturor categoriilor de vârstă\, cu excepția celor de la 19:00 și 20:00\, care sunt dedicate exclusiv adulților și copiilor cu vârsta de peste 10 ani. MINA\, Museum of Immersive New Art\, este un concept unic în România care aduce împreună arta și tehnologia într-un mod inovator.Fiecare spațiu MINA este echipat cu tehnologie de ultimă generație și oferă o varietate de show-uri imersive\, de la proiecții spectaculoase de artă clasică și contemporană până la explorări educative ale misterelor naturii și ale universului.
URL:https://craiovalive.ro/eveniment/dinozaurii-o-calatorie-imersiva-in-lumea-preistorica-mina-pop-up-craiova/2025-05-16/
LOCATION:MINA Pop-Up Craiova\, Bulevard Ilie Balaci nr. 6 (lângă Sala Polivalentă)\, Craiova\, Dolj\, 200920\, România
CATEGORIES:Evenimente pentru copii,Expoziție,Film
ATTACH;FMTTYPE=image/jpeg:https://craiovalive.ro/wp-content/uploads/2025/05/Dinozaurii-O-calatorie-imersiva-in-lumea-preistorica-at-MINA-Pop-Up-Craiova.jpg
GEO:44.313128875204;23.787296767497
X-APPLE-STRUCTURED-LOCATION;VALUE=URI;X-ADDRESS=MINA Pop-Up Craiova Bulevard Ilie Balaci nr. 6 (lângă Sala Polivalentă) Craiova Dolj 200920 România;X-APPLE-RADIUS=500;X-TITLE=Bulevard Ilie Balaci nr. 6 (lângă Sala Polivalentă):geo:23.787296767497,44.313128875204
END:VEVENT
BEGIN:VEVENT
DTSTART;TZID=Europe/Bucharest:20250517T100000
DTEND;TZID=Europe/Bucharest:20250517T210000
DTSTAMP:20260424T151106
CREATED:20250505T091631Z
LAST-MODIFIED:20250505T092317Z
UID:10006307-1747476000-1747515600@craiovalive.ro
SUMMARY:Dinozaurii: O călătorie imersivă în lumea preistorică @MINA Pop-Up Craiova
DESCRIPTION:Din 10 mai\, la  MINA Pop-up Craiova este disponibil un nou spectacol educațional: „Dinozaurii – O călătorie imersivă în Lumea Preistorică”. Show-ul reprezintă o incursiune în universul preistoric\, ce cuprinde întreaga perioadă mezozoică oferind astfel publicului o experiență în habitatul de acum sute de milioane de ani. Accesul se face cu cel puțin o oră înainte de închidere. Intervalele se adresează tuturor categoriilor de vârstă\, cu excepția celor de la 19:00 și 20:00\, care sunt dedicate exclusiv adulților și copiilor cu vârsta de peste 10 ani. În cadrul MINA Pop-Up Craiova\, sunt disponibile și alte show-uri multimedia:Van Gogh – The Immersive ShowCei mai faimosi pictori români – o călătorie imersivă în arta româneascăLumea Subacvatica – O călătorie imersivă a apei……………………………….Spațiul MINA Pop-Up este un cort de 450 mp\, cu proiecții 360\, pe Bulevardul Ilie Balaci\, nr. 6\, lângă Sala Polivalentă. MINA Pop Up are loc la Craiova până pe 15 iunie 2025\, perioadă în care vor fi prezentate mai multe spectacole imersive.MINA Pop-Up Craiova va fi deschis:Luni – vineri: 12:00 – 21:00Sâmbătă: 10:00 – 21:00Duminică: 10:00 – 20:00Accesul se face cu cel puțin o oră înainte de închidere. Intervalele se adresează tuturor categoriilor de vârstă\, cu excepția celor de la 19:00 și 20:00\, care sunt dedicate exclusiv adulților și copiilor cu vârsta de peste 10 ani. MINA\, Museum of Immersive New Art\, este un concept unic în România care aduce împreună arta și tehnologia într-un mod inovator.Fiecare spațiu MINA este echipat cu tehnologie de ultimă generație și oferă o varietate de show-uri imersive\, de la proiecții spectaculoase de artă clasică și contemporană până la explorări educative ale misterelor naturii și ale universului.
URL:https://craiovalive.ro/eveniment/dinozaurii-o-calatorie-imersiva-in-lumea-preistorica-mina-pop-up-craiova/2025-05-17/
LOCATION:MINA Pop-Up Craiova\, Bulevard Ilie Balaci nr. 6 (lângă Sala Polivalentă)\, Craiova\, Dolj\, 200920\, România
CATEGORIES:Evenimente pentru copii,Expoziție,Film
ATTACH;FMTTYPE=image/jpeg:https://craiovalive.ro/wp-content/uploads/2025/05/Dinozaurii-O-calatorie-imersiva-in-lumea-preistorica-at-MINA-Pop-Up-Craiova.jpg
GEO:44.313128875204;23.787296767497
X-APPLE-STRUCTURED-LOCATION;VALUE=URI;X-ADDRESS=MINA Pop-Up Craiova Bulevard Ilie Balaci nr. 6 (lângă Sala Polivalentă) Craiova Dolj 200920 România;X-APPLE-RADIUS=500;X-TITLE=Bulevard Ilie Balaci nr. 6 (lângă Sala Polivalentă):geo:23.787296767497,44.313128875204
END:VEVENT
BEGIN:VEVENT
DTSTART;TZID=Europe/Bucharest:20250517T100000
DTEND;TZID=Europe/Bucharest:20250517T210000
DTSTAMP:20260424T151106
CREATED:20250506T154332Z
LAST-MODIFIED:20250506T154332Z
UID:10006459-1747476000-1747515600@craiovalive.ro
SUMMARY:COSMOS - Descoperim tainele universului @MINA Pop-Up Craiova
DESCRIPTION:🌌 MINA Pop-Up Craiova te invită într-o călătorie în COSMOS – Descoperim tainele universului. \n🌠 COSMOS este un spectacol imersiv care îți aprinde curiozitatea și imaginația. Vei explora Sistemul Solar\, vei auzi sunetele produse de găurile negre și vei retrăi momente legendare din aventura cosmică a omenirii 🚀. \n🎥 Show-ul include secvențe inedite din documentarul „Opt zile în cosmos”\, despre misiunea istorică a lui Dumitru Prunariu\, primul român ajuns în spațiu. Este o experiență care îmbină spectacolul vizual cu știința\, pentru toate vârstele – captivantă\, educativă și total out of this world 🌌✨ \nShow-ul este prezentat de @kauflandromania \n📍 Craiova\, Bulevardul Ilie Balaci 6 (lângă Sala Polivalentă)\n📅 Începând cu 10 mai\, până pe 15 iunie\n🕛 Program: Luni–Vineri 12:00–21:00 | Weekend 10:00–21:00\n🎟 Bilete: 45 lei adulți | 35 lei copii – sunt disponibile pe site-ul popup.minamuseum.com și pe link-ul din BIO sau la recepția muzeului.
URL:https://craiovalive.ro/eveniment/cosmos-descoperim-tainele-universului-mina-pop-up-craiova/2025-05-17/
LOCATION:MINA Pop-Up Craiova\, Bulevard Ilie Balaci nr. 6 (lângă Sala Polivalentă)\, Craiova\, Dolj\, 200920\, România
CATEGORIES:Evenimente pentru copii,Expoziție,Film
ATTACH;FMTTYPE=image/jpeg:https://craiovalive.ro/wp-content/uploads/2025/05/COSMOS-Descoperim-tainele-universului-@MINA-Pop-Up-Craiova.jpg
GEO:44.313128875204;23.787296767497
X-APPLE-STRUCTURED-LOCATION;VALUE=URI;X-ADDRESS=MINA Pop-Up Craiova Bulevard Ilie Balaci nr. 6 (lângă Sala Polivalentă) Craiova Dolj 200920 România;X-APPLE-RADIUS=500;X-TITLE=Bulevard Ilie Balaci nr. 6 (lângă Sala Polivalentă):geo:23.787296767497,44.313128875204
END:VEVENT
BEGIN:VEVENT
DTSTART;TZID=Europe/Bucharest:20250518T100000
DTEND;TZID=Europe/Bucharest:20250518T200000
DTSTAMP:20260424T151106
CREATED:20250505T091631Z
LAST-MODIFIED:20250505T092317Z
UID:10006308-1747562400-1747598400@craiovalive.ro
SUMMARY:Dinozaurii: O călătorie imersivă în lumea preistorică @MINA Pop-Up Craiova
DESCRIPTION:Din 10 mai\, la  MINA Pop-up Craiova este disponibil un nou spectacol educațional: „Dinozaurii – O călătorie imersivă în Lumea Preistorică”. Show-ul reprezintă o incursiune în universul preistoric\, ce cuprinde întreaga perioadă mezozoică oferind astfel publicului o experiență în habitatul de acum sute de milioane de ani. Accesul se face cu cel puțin o oră înainte de închidere. Intervalele se adresează tuturor categoriilor de vârstă\, cu excepția celor de la 19:00 și 20:00\, care sunt dedicate exclusiv adulților și copiilor cu vârsta de peste 10 ani. În cadrul MINA Pop-Up Craiova\, sunt disponibile și alte show-uri multimedia:Van Gogh – The Immersive ShowCei mai faimosi pictori români – o călătorie imersivă în arta româneascăLumea Subacvatica – O călătorie imersivă a apei……………………………….Spațiul MINA Pop-Up este un cort de 450 mp\, cu proiecții 360\, pe Bulevardul Ilie Balaci\, nr. 6\, lângă Sala Polivalentă. MINA Pop Up are loc la Craiova până pe 15 iunie 2025\, perioadă în care vor fi prezentate mai multe spectacole imersive.MINA Pop-Up Craiova va fi deschis:Luni – vineri: 12:00 – 21:00Sâmbătă: 10:00 – 21:00Duminică: 10:00 – 20:00Accesul se face cu cel puțin o oră înainte de închidere. Intervalele se adresează tuturor categoriilor de vârstă\, cu excepția celor de la 19:00 și 20:00\, care sunt dedicate exclusiv adulților și copiilor cu vârsta de peste 10 ani. MINA\, Museum of Immersive New Art\, este un concept unic în România care aduce împreună arta și tehnologia într-un mod inovator.Fiecare spațiu MINA este echipat cu tehnologie de ultimă generație și oferă o varietate de show-uri imersive\, de la proiecții spectaculoase de artă clasică și contemporană până la explorări educative ale misterelor naturii și ale universului.
URL:https://craiovalive.ro/eveniment/dinozaurii-o-calatorie-imersiva-in-lumea-preistorica-mina-pop-up-craiova/2025-05-18/
LOCATION:MINA Pop-Up Craiova\, Bulevard Ilie Balaci nr. 6 (lângă Sala Polivalentă)\, Craiova\, Dolj\, 200920\, România
CATEGORIES:Evenimente pentru copii,Expoziție,Film
ATTACH;FMTTYPE=image/jpeg:https://craiovalive.ro/wp-content/uploads/2025/05/Dinozaurii-O-calatorie-imersiva-in-lumea-preistorica-at-MINA-Pop-Up-Craiova.jpg
GEO:44.313128875204;23.787296767497
X-APPLE-STRUCTURED-LOCATION;VALUE=URI;X-ADDRESS=MINA Pop-Up Craiova Bulevard Ilie Balaci nr. 6 (lângă Sala Polivalentă) Craiova Dolj 200920 România;X-APPLE-RADIUS=500;X-TITLE=Bulevard Ilie Balaci nr. 6 (lângă Sala Polivalentă):geo:23.787296767497,44.313128875204
END:VEVENT
BEGIN:VEVENT
DTSTART;TZID=Europe/Bucharest:20250518T100000
DTEND;TZID=Europe/Bucharest:20250518T210000
DTSTAMP:20260424T151106
CREATED:20250506T154332Z
LAST-MODIFIED:20250506T154332Z
UID:10006460-1747562400-1747602000@craiovalive.ro
SUMMARY:COSMOS - Descoperim tainele universului @MINA Pop-Up Craiova
DESCRIPTION:🌌 MINA Pop-Up Craiova te invită într-o călătorie în COSMOS – Descoperim tainele universului. \n🌠 COSMOS este un spectacol imersiv care îți aprinde curiozitatea și imaginația. Vei explora Sistemul Solar\, vei auzi sunetele produse de găurile negre și vei retrăi momente legendare din aventura cosmică a omenirii 🚀. \n🎥 Show-ul include secvențe inedite din documentarul „Opt zile în cosmos”\, despre misiunea istorică a lui Dumitru Prunariu\, primul român ajuns în spațiu. Este o experiență care îmbină spectacolul vizual cu știința\, pentru toate vârstele – captivantă\, educativă și total out of this world 🌌✨ \nShow-ul este prezentat de @kauflandromania \n📍 Craiova\, Bulevardul Ilie Balaci 6 (lângă Sala Polivalentă)\n📅 Începând cu 10 mai\, până pe 15 iunie\n🕛 Program: Luni–Vineri 12:00–21:00 | Weekend 10:00–21:00\n🎟 Bilete: 45 lei adulți | 35 lei copii – sunt disponibile pe site-ul popup.minamuseum.com și pe link-ul din BIO sau la recepția muzeului.
URL:https://craiovalive.ro/eveniment/cosmos-descoperim-tainele-universului-mina-pop-up-craiova/2025-05-18/1/
LOCATION:MINA Pop-Up Craiova\, Bulevard Ilie Balaci nr. 6 (lângă Sala Polivalentă)\, Craiova\, Dolj\, 200920\, România
CATEGORIES:Evenimente pentru copii,Expoziție,Film
ATTACH;FMTTYPE=image/jpeg:https://craiovalive.ro/wp-content/uploads/2025/05/COSMOS-Descoperim-tainele-universului-@MINA-Pop-Up-Craiova.jpg
GEO:44.313128875204;23.787296767497
X-APPLE-STRUCTURED-LOCATION;VALUE=URI;X-ADDRESS=MINA Pop-Up Craiova Bulevard Ilie Balaci nr. 6 (lângă Sala Polivalentă) Craiova Dolj 200920 România;X-APPLE-RADIUS=500;X-TITLE=Bulevard Ilie Balaci nr. 6 (lângă Sala Polivalentă):geo:23.787296767497,44.313128875204
END:VEVENT
BEGIN:VEVENT
DTSTART;TZID=Europe/Bucharest:20250518T160000
DTEND;TZID=Europe/Bucharest:20250518T190000
DTSTAMP:20260424T151106
CREATED:20250506T154332Z
LAST-MODIFIED:20250506T154332Z
UID:10006489-1747584000-1747594800@craiovalive.ro
SUMMARY:COSMOS - Descoperim tainele universului @MINA Pop-Up Craiova
DESCRIPTION:🌌 MINA Pop-Up Craiova te invită într-o călătorie în COSMOS – Descoperim tainele universului. \n🌠 COSMOS este un spectacol imersiv care îți aprinde curiozitatea și imaginația. Vei explora Sistemul Solar\, vei auzi sunetele produse de găurile negre și vei retrăi momente legendare din aventura cosmică a omenirii 🚀. \n🎥 Show-ul include secvențe inedite din documentarul „Opt zile în cosmos”\, despre misiunea istorică a lui Dumitru Prunariu\, primul român ajuns în spațiu. Este o experiență care îmbină spectacolul vizual cu știința\, pentru toate vârstele – captivantă\, educativă și total out of this world 🌌✨ \nShow-ul este prezentat de @kauflandromania \n📍 Craiova\, Bulevardul Ilie Balaci 6 (lângă Sala Polivalentă)\n📅 Începând cu 10 mai\, până pe 15 iunie\n🕛 Program: Luni–Vineri 12:00–21:00 | Weekend 10:00–21:00\n🎟 Bilete: 45 lei adulți | 35 lei copii – sunt disponibile pe site-ul popup.minamuseum.com și pe link-ul din BIO sau la recepția muzeului.
URL:https://craiovalive.ro/eveniment/cosmos-descoperim-tainele-universului-mina-pop-up-craiova/2025-05-18/2/
LOCATION:MINA Pop-Up Craiova\, Bulevard Ilie Balaci nr. 6 (lângă Sala Polivalentă)\, Craiova\, Dolj\, 200920\, România
CATEGORIES:Evenimente pentru copii,Expoziție,Film
ATTACH;FMTTYPE=image/jpeg:https://craiovalive.ro/wp-content/uploads/2025/05/COSMOS-Descoperim-tainele-universului-@MINA-Pop-Up-Craiova.jpg
GEO:44.313128875204;23.787296767497
X-APPLE-STRUCTURED-LOCATION;VALUE=URI;X-ADDRESS=MINA Pop-Up Craiova Bulevard Ilie Balaci nr. 6 (lângă Sala Polivalentă) Craiova Dolj 200920 România;X-APPLE-RADIUS=500;X-TITLE=Bulevard Ilie Balaci nr. 6 (lângă Sala Polivalentă):geo:23.787296767497,44.313128875204
END:VEVENT
END:VCALENDAR