BEGIN:VCALENDAR
VERSION:2.0
PRODID:-//Craiova Live - ECPv6.15.18//NONSGML v1.0//EN
CALSCALE:GREGORIAN
METHOD:PUBLISH
X-ORIGINAL-URL:https://craiovalive.ro
X-WR-CALDESC:Evenimente pentru Craiova Live
REFRESH-INTERVAL;VALUE=DURATION:PT1H
X-Robots-Tag:noindex
X-PUBLISHED-TTL:PT1H
BEGIN:VTIMEZONE
TZID:Europe/Bucharest
BEGIN:DAYLIGHT
TZOFFSETFROM:+0200
TZOFFSETTO:+0300
TZNAME:EEST
DTSTART:20240331T010000
END:DAYLIGHT
BEGIN:STANDARD
TZOFFSETFROM:+0300
TZOFFSETTO:+0200
TZNAME:EET
DTSTART:20241027T010000
END:STANDARD
BEGIN:DAYLIGHT
TZOFFSETFROM:+0200
TZOFFSETTO:+0300
TZNAME:EEST
DTSTART:20250330T010000
END:DAYLIGHT
BEGIN:STANDARD
TZOFFSETFROM:+0300
TZOFFSETTO:+0200
TZNAME:EET
DTSTART:20251026T010000
END:STANDARD
BEGIN:DAYLIGHT
TZOFFSETFROM:+0200
TZOFFSETTO:+0300
TZNAME:EEST
DTSTART:20260329T010000
END:DAYLIGHT
BEGIN:STANDARD
TZOFFSETFROM:+0300
TZOFFSETTO:+0200
TZNAME:EET
DTSTART:20261025T010000
END:STANDARD
END:VTIMEZONE
BEGIN:VEVENT
DTSTART;TZID=Europe/Bucharest:20250613T193000
DTEND;TZID=Europe/Bucharest:20250613T220000
DTSTAMP:20260424T001806
CREATED:20250519T092137Z
LAST-MODIFIED:20250519T092137Z
UID:10006586-1749843000-1749852000@craiovalive.ro
SUMMARY:Cinemateca: The Sound of Music
DESCRIPTION:𝗖𝗜𝗡𝗘𝗠𝗔𝗧𝗘𝗖𝗔 se incheie cu stil… si muzica!\nDupa ce ne-a fermecat la inceput de sezon\, Julie Andrews revine pe marele ecran in capodopera atemporala: „𝗧𝗵𝗲 𝗦𝗼𝘂𝗻𝗱 𝗼𝗳 𝗠𝘂𝘀𝗶𝗰”.\n\n\n In 13 iunie ne reintalnim pentru a inchide impreuna sezonul 3 de Cinemateca\, cu unul dintre cele mai iubite musicaluri din toate timpurile.\n Dragoste\, curaj si cantece nemuritoare\, pe fundalul spectaculos al Alpilor austrieci.\n\n\n Traditia spune ca orice sezon de CINEMATECA incepe si se incheie cu un musical. Sa pastram traditiile frumoase!\n\n\n Hai sa celebram filmul clasic si emotia cinemaului adevarat\, pe 13 iunie\, la Inspire Cinema.
URL:https://craiovalive.ro/eveniment/cinemateca-the-sound-of-music/
LOCATION:Dolj
CATEGORIES:Film
ATTACH;FMTTYPE=image/jpeg:https://craiovalive.ro/wp-content/uploads/2025/05/Cinemateca-The-Sound-of-Music.jpg
END:VEVENT
BEGIN:VEVENT
DTSTART;TZID=Europe/Bucharest:20250509T200000
DTEND;TZID=Europe/Bucharest:20250509T223000
DTSTAMP:20260424T001806
CREATED:20250417T202220Z
LAST-MODIFIED:20250504T220311Z
UID:10006280-1746820800-1746829800@craiovalive.ro
SUMMARY:Cinemateca: Șoimul maltez
DESCRIPTION:Luna mai aduce umbre\, mister si suspans la 𝗖𝗜𝗡𝗘𝗠𝗔𝗧𝗘𝗖𝗔. 𝗩𝗶𝗻𝗲𝗿𝗶\, 𝟵 𝗺𝗮𝗶 𝟮𝟬𝟮𝟱\, te invitam la un clasic absolut al filmului noir: „𝗦𝗼𝗶𝗺𝘂𝗹 𝗺𝗮𝗹𝘁𝗲𝘇”.Regizat de John Huston si avandu-l in rol principal pe inconfundabilul Humphrey Bogart\, filmul spune o poveste despre lacomie\, integritate si amagire – toate impachetate intr-o atmosfera plina de tensiune si replici legendare. Un simbol al cinematografiei noir si o capodopera care a influentat generatii de cineasti.Vino sa descoperi „the stuff that dreams are made of”\, pe marele ecran\, la CINEMATECA. Inspire Cinema Mercur Craiova Nu rata aceasta calatorie in inima filmului clasic! Cumpara-ti biletul chiar acum!
URL:https://craiovalive.ro/eveniment/cinemateca-soimul-maltez/2025-05-09/2/
LOCATION:Dolj
CATEGORIES:Film
ATTACH;FMTTYPE=image/jpeg:https://craiovalive.ro/wp-content/uploads/2025/04/Cinemateca-Soimul-Maltez.jpg
END:VEVENT
END:VCALENDAR