BEGIN:VCALENDAR
VERSION:2.0
PRODID:-//Craiova Live - ECPv6.15.18//NONSGML v1.0//EN
CALSCALE:GREGORIAN
METHOD:PUBLISH
X-WR-CALNAME:Craiova Live
X-ORIGINAL-URL:https://craiovalive.ro
X-WR-CALDESC:Evenimente pentru Craiova Live
REFRESH-INTERVAL;VALUE=DURATION:PT1H
X-Robots-Tag:noindex
X-PUBLISHED-TTL:PT1H
BEGIN:VTIMEZONE
TZID:Europe/Bucharest
BEGIN:DAYLIGHT
TZOFFSETFROM:+0200
TZOFFSETTO:+0300
TZNAME:EEST
DTSTART:20250330T010000
END:DAYLIGHT
BEGIN:STANDARD
TZOFFSETFROM:+0300
TZOFFSETTO:+0200
TZNAME:EET
DTSTART:20251026T010000
END:STANDARD
BEGIN:DAYLIGHT
TZOFFSETFROM:+0200
TZOFFSETTO:+0300
TZNAME:EEST
DTSTART:20260329T010000
END:DAYLIGHT
BEGIN:STANDARD
TZOFFSETFROM:+0300
TZOFFSETTO:+0200
TZNAME:EET
DTSTART:20261025T010000
END:STANDARD
BEGIN:DAYLIGHT
TZOFFSETFROM:+0200
TZOFFSETTO:+0300
TZNAME:EEST
DTSTART:20270328T010000
END:DAYLIGHT
BEGIN:STANDARD
TZOFFSETFROM:+0300
TZOFFSETTO:+0200
TZNAME:EET
DTSTART:20271031T010000
END:STANDARD
END:VTIMEZONE
BEGIN:VEVENT
DTSTART;TZID=Europe/Bucharest:20260213T193000
DTEND;TZID=Europe/Bucharest:20260213T213000
DTSTAMP:20260423T212100
CREATED:20260113T093021Z
LAST-MODIFIED:20260113T093021Z
UID:10012776-1771011000-1771018200@craiovalive.ro
SUMMARY:Cinemateca: Spellbound
DESCRIPTION:CINEMATECA Spellbound \nVineri\, 13 februarie 2026\, la Inspire Cinema Mercur \nSâmbătă\, 14 februarie 2026\, la Inspire Cinema VIP Electroputere \nCunoscutul doctor psihiatru Edwards este numit directorul unui spital de psihiatrie. Edwards este atras de frumoasa\, dar aparent indiferenta\, doctorita Constance Petersen. Aceasta descopera ca Edwards sufera de amnezie si este urmarit de cosmaruri inexplicabile. Pentru ca nu-si poate aminti ce i s-a intamplat\, Edwards este acuzat de crima. Vor fi destul de puternice dragostea si perseverenta Constancei pentru a-si salva iubitul? \nRegizor: Alfred Hitchcock \nDistribuție: Ingrid Bergman\, Gregory Peck \nGenul Filmului: Drama\, Mister\, Romantic \nDurată: 111 minute
URL:https://craiovalive.ro/eveniment/cinemateca-spellbound/2026-02-13/
LOCATION:Dolj
CATEGORIES:Film
ATTACH;FMTTYPE=image/jpeg:https://craiovalive.ro/wp-content/uploads/2026/01/Cinemateca-Spellbound.jpg
END:VEVENT
BEGIN:VEVENT
DTSTART;TZID=Europe/Bucharest:20260214T200000
DTEND;TZID=Europe/Bucharest:20260214T220000
DTSTAMP:20260423T212100
CREATED:20260113T093021Z
LAST-MODIFIED:20260113T093021Z
UID:10012777-1771099200-1771106400@craiovalive.ro
SUMMARY:Cinemateca: Spellbound
DESCRIPTION:CINEMATECA Spellbound \nVineri\, 13 februarie 2026\, la Inspire Cinema Mercur \nSâmbătă\, 14 februarie 2026\, la Inspire Cinema VIP Electroputere \nCunoscutul doctor psihiatru Edwards este numit directorul unui spital de psihiatrie. Edwards este atras de frumoasa\, dar aparent indiferenta\, doctorita Constance Petersen. Aceasta descopera ca Edwards sufera de amnezie si este urmarit de cosmaruri inexplicabile. Pentru ca nu-si poate aminti ce i s-a intamplat\, Edwards este acuzat de crima. Vor fi destul de puternice dragostea si perseverenta Constancei pentru a-si salva iubitul? \nRegizor: Alfred Hitchcock \nDistribuție: Ingrid Bergman\, Gregory Peck \nGenul Filmului: Drama\, Mister\, Romantic \nDurată: 111 minute
URL:https://craiovalive.ro/eveniment/cinemateca-spellbound/2026-02-14/
LOCATION:Dolj
CATEGORIES:Film
ATTACH;FMTTYPE=image/jpeg:https://craiovalive.ro/wp-content/uploads/2026/01/Cinemateca-Spellbound.jpg
END:VEVENT
BEGIN:VEVENT
DTSTART;TZID=Europe/Bucharest:20260223T164500
DTEND;TZID=Europe/Bucharest:20260223T184000
DTSTAMP:20260423T212100
CREATED:20260222T220044Z
LAST-MODIFIED:20260222T220044Z
UID:10014059-1771865100-1771872000@craiovalive.ro
SUMMARY:Cineplexx Classics: Jurnalul
DESCRIPTION:Cineplexx Classics prezintă: Jurnalul \nPe 23 februarie la Cineplexx se vede pe marile ecrane filmul Jurnalul la un preț special de doar 12 lei/biletul!\nAllie Hamilton și Noah Calhoun s-au întâlnit într-o seară la carnaval și se îndrăgostesc. Părinții ei nu consimt legătura fiicei lor\, deoarece familia lui Noah nu este suficient de bogată și cunoscută\, și hotărăsc să se mute departe\, cât mai departe de Noah. Allie a așteptat mult timp ca Noah să îi răspundă la scrisori\, dar după mai mulți ani hotărăște să se logodească cu Lon\, un chipeș soldat american. Măcinată încă de dragostea pe care o nutrește față de Noah\, Allie decide să îi facă o vizită acestuia și constată că sentimentele lor sunt încă vii. Acum este momentul ca Allie să aleagă între Noah și proaspătul ei logodnic. \n2D SUBTITRAT ÎN LIMBA ROMÂNĂ:
URL:https://craiovalive.ro/eveniment/cineplexx-classics-jurnalul/
LOCATION:Promenada Mall\, Calea Severinului 61\, Craiova\, Dolj\, România
CATEGORIES:Film
ATTACH;FMTTYPE=image/jpeg:https://craiovalive.ro/wp-content/uploads/2026/02/Cineplexx-Classics-Craiova-The-Notebook-Jurnalul.jpg
GEO:44.3487242;23.7559265
X-APPLE-STRUCTURED-LOCATION;VALUE=URI;X-ADDRESS=Promenada Mall Calea Severinului 61 Craiova Dolj România;X-APPLE-RADIUS=500;X-TITLE=Calea Severinului 61:geo:23.7559265,44.3487242
END:VEVENT
BEGIN:VEVENT
DTSTART;TZID=Europe/Bucharest:20260228T150000
DTEND;TZID=Europe/Bucharest:20260302T190000
DTSTAMP:20260423T212100
CREATED:20260224T094128Z
LAST-MODIFIED:20260224T094531Z
UID:10014060-1772290800-1772478000@craiovalive.ro
SUMMARY:SORESCU 90
DESCRIPTION:SORESCU 90\, la Național \n Videoproiecții | Lansare volum de poezii | Expoziție\n\n\nTeatrul Național „Marin Sorescu” Craiova își omagiază patronul spiritual\, Marin Sorescu\, la 90 de ani de la naștere\, printr-o serie de evenimente speciale care vor avea loc în perioada 28 februarie – 2 martie 2026.\n\n\n\n Programul evenimentelor:\n\n\n\n 28 februarie | ora 17:00 | Sala Atelier\n Videoproiecția spectacolului Matca\nRegia: Daniela Peleanu\nScenografia: Viorel Penișoară-Stegaru\nCu: Anca Dragomir și Vasile Cosma\n\n\n\n 1 martie | ora 17.00 | Sala Atelier\n Videoproiecția spectacolului-eveniment Vărul Shakespeare\nRegia: Mircea Cornișteanu\nDin distribuția premierei din 1990 fac parte\, printre alții: Natașa Raab\, Ilie Gheorghe\, Tudor Gheorghe\n\n\n\n 2 martie | ora 17:00 | Sala Atelier\n Videoproiecția spectacolului IONA (2016)\nCu Ilie Gheorghe\n\n\nDupă premiera monodramei din stagiunea 1994-1995\, Marin Sorescu declara:\n „Sunt un vechi admirator al actorului Ilie Gheorghe. În Iona el a făcut un spectacol extraordinar. Cred că-i cel mai frumos spectacol cu Iona care s-a realizat până acum.”\n\n\n\n Sâmbătă | 28 februarie | ora 15.00\nVa avea loc lansarea volumului de poezii „TRUNCHIATE”\, care reunește texte nepublicate\, descoperite de familie după moartea scriitorului – facsimile ale foilor dactilografiate de poet\, însoțite de desene realizate de acesta.\n\n\n Expoziție în foaierul teatrului\nPublicul va putea vizita o expoziție de afișe ale spectacolelor puse în scenă după textele dramatice ale lui Marin Sorescu.\n\n\n Reamintim că\, în anul 2005\, Marin Sorescu a devenit patronul spiritual al Teatrului Național din Craiova\, la inițiativa directorului de atunci\, Mircea Cornișteanu.\n\n\n Vă așteptăm să celebrăm împreună moștenirea unui mare creator al culturii române!
URL:https://craiovalive.ro/eveniment/sorescu-90/
LOCATION:Teatrul Național Marin Sorescu Craiova\, Str. A. I. Cuza\, nr. 11\, Craiova\, Dolj\, 200585\, România
CATEGORIES:Conferință,Expoziție,Film,Teatru
ATTACH;FMTTYPE=image/jpeg:https://craiovalive.ro/wp-content/uploads/2024/03/Teatrul-National-Craiova-evenimente.jpg
ORGANIZER;CN="Teatrul Na%C8%9Bional Marin Sorescu Craiova":MAILTO:secretariat@tncms.ro
GEO:44.318967618949;23.799117766692
X-APPLE-STRUCTURED-LOCATION;VALUE=URI;X-ADDRESS=Teatrul Național Marin Sorescu Craiova Str. A. I. Cuza nr. 11 Craiova Dolj 200585 România;X-APPLE-RADIUS=500;X-TITLE=Str. A. I. Cuza\, nr. 11:geo:23.799117766692,44.318967618949
END:VEVENT
BEGIN:VEVENT
DTSTART;TZID=Europe/Bucharest:20260228T170000
DTEND;TZID=Europe/Bucharest:20260228T190000
DTSTAMP:20260423T212100
CREATED:20260220T211733Z
LAST-MODIFIED:20260224T094320Z
UID:10014040-1772298000-1772305200@craiovalive.ro
SUMMARY:Matca
DESCRIPTION:28 februarie | ora 17:00 | Sala Atelier\n Videoproiecția spectacolului Matca\nRegia: Daniela Peleanu\nScenografia: Viorel Penișoară-Stegaru\nCu: Anca Dragomir și Vasile Cosma\n\n\n\n Videoproiecția face parte din evenimentul  SORESCU 90\, la Național . Teatrul Național „Marin Sorescu” Craiova își omagiază patronul spiritual\, Marin Sorescu\, la 90 de ani de la naștere\, printr-o serie de evenimente speciale care vor avea loc în perioada 28 februarie – 2 martie 2026.
URL:https://craiovalive.ro/eveniment/matca/
LOCATION:Teatrul Național Craiova – Sala Atelier\, Str. A. I. Cuza\, nr. 11\, Craiova\, Dolj\, 200585\, România
CATEGORIES:Film
ATTACH;FMTTYPE=image/webp:https://craiovalive.ro/wp-content/uploads/2026/02/Matca.webp
ORGANIZER;CN="Teatrul Na%C8%9Bional Marin Sorescu Craiova":MAILTO:secretariat@tncms.ro
GEO:44.3186661;23.8003743
X-APPLE-STRUCTURED-LOCATION;VALUE=URI;X-ADDRESS=Teatrul Național Craiova – Sala Atelier Str. A. I. Cuza nr. 11 Craiova Dolj 200585 România;X-APPLE-RADIUS=500;X-TITLE=Str. A. I. Cuza\, nr. 11:geo:23.8003743,44.3186661
END:VEVENT
END:VCALENDAR