BEGIN:VCALENDAR
VERSION:2.0
PRODID:-//Craiova Live - ECPv6.15.18//NONSGML v1.0//EN
CALSCALE:GREGORIAN
METHOD:PUBLISH
X-WR-CALNAME:Craiova Live
X-ORIGINAL-URL:https://craiovalive.ro
X-WR-CALDESC:Evenimente pentru Craiova Live
REFRESH-INTERVAL;VALUE=DURATION:PT1H
X-Robots-Tag:noindex
X-PUBLISHED-TTL:PT1H
BEGIN:VTIMEZONE
TZID:Europe/Bucharest
BEGIN:DAYLIGHT
TZOFFSETFROM:+0200
TZOFFSETTO:+0300
TZNAME:EEST
DTSTART:20240331T010000
END:DAYLIGHT
BEGIN:STANDARD
TZOFFSETFROM:+0300
TZOFFSETTO:+0200
TZNAME:EET
DTSTART:20241027T010000
END:STANDARD
BEGIN:DAYLIGHT
TZOFFSETFROM:+0200
TZOFFSETTO:+0300
TZNAME:EEST
DTSTART:20250330T010000
END:DAYLIGHT
BEGIN:STANDARD
TZOFFSETFROM:+0300
TZOFFSETTO:+0200
TZNAME:EET
DTSTART:20251026T010000
END:STANDARD
BEGIN:DAYLIGHT
TZOFFSETFROM:+0200
TZOFFSETTO:+0300
TZNAME:EEST
DTSTART:20260329T010000
END:DAYLIGHT
BEGIN:STANDARD
TZOFFSETFROM:+0300
TZOFFSETTO:+0200
TZNAME:EET
DTSTART:20261025T010000
END:STANDARD
END:VTIMEZONE
BEGIN:VEVENT
DTSTART;TZID=Europe/Bucharest:20251114T193000
DTEND;TZID=Europe/Bucharest:20251114T213000
DTSTAMP:20260424T015243
CREATED:20251016T205834Z
LAST-MODIFIED:20251102T173046Z
UID:10010848-1763148600-1763155800@craiovalive.ro
SUMMARY:Cinemateca: Gandhi
DESCRIPTION:„𝘍𝘪𝘪 𝘴𝘤𝘩𝘪𝘮𝘣𝘢𝘳𝘦𝘢 𝘱𝘦 𝘤𝘢𝘳𝘦 𝘷𝘳𝘦𝘪 𝘴𝘢 𝘰 𝘷𝘦𝘻𝘪 𝘪𝘯 𝘭𝘶𝘮𝘦” – Mahatma Gandhi.\n\n\nClasicul film”𝗚𝗔𝗡𝗗𝗛𝗜” te asteapta in cadrul Cinemateca vineri\, 𝟭𝟰 𝗻𝗼𝗶𝗲𝗺𝗯𝗿𝗶𝗲\, 𝗹𝗮 𝗜𝗻𝘀𝗽𝗶𝗿𝗲 𝗖𝗶𝗻𝗲𝗺𝗮 𝗠𝗲𝗿𝗰𝘂𝗿!\n\n\nMahatma Gandhi\, una dintre cele mai importante personalitati ale secolului XX si protagonistul filmului cu acelasi nume\, recompensat cu 8 premii Oscar.\nFilmul a fost regizat dupa eforturi titanice de Sir Richard Attenborough\, cu un Ben Kingsley care pare a fi intruparea vie a personajului real\, „Gandhi” este o productie monumentala\, care merita vazuta pe marele ecran.\n\n\nCumpara-ti 𝗔𝗖𝗨𝗠 bilet si pregateste-te sa vizionezi un film mare despre un suflet mare!
URL:https://craiovalive.ro/eveniment/cinemateca-gandhi/2025-11-14/1/
LOCATION:Dolj
CATEGORIES:Film
ATTACH;FMTTYPE=image/jpeg:https://craiovalive.ro/wp-content/uploads/2025/10/Cinemateca-Gandhi.jpg
END:VEVENT
BEGIN:VEVENT
DTSTART;TZID=Europe/Bucharest:20251114T200000
DTEND;TZID=Europe/Bucharest:20251114T220000
DTSTAMP:20260424T015243
CREATED:20251016T205834Z
LAST-MODIFIED:20251102T173046Z
UID:10012324-1763150400-1763157600@craiovalive.ro
SUMMARY:Cinemateca: Gandhi
DESCRIPTION:„𝘍𝘪𝘪 𝘴𝘤𝘩𝘪𝘮𝘣𝘢𝘳𝘦𝘢 𝘱𝘦 𝘤𝘢𝘳𝘦 𝘷𝘳𝘦𝘪 𝘴𝘢 𝘰 𝘷𝘦𝘻𝘪 𝘪𝘯 𝘭𝘶𝘮𝘦” – Mahatma Gandhi.\n\n\nClasicul film”𝗚𝗔𝗡𝗗𝗛𝗜” te asteapta in cadrul Cinemateca vineri\, 𝟭𝟰 𝗻𝗼𝗶𝗲𝗺𝗯𝗿𝗶𝗲\, 𝗹𝗮 𝗜𝗻𝘀𝗽𝗶𝗿𝗲 𝗖𝗶𝗻𝗲𝗺𝗮 𝗠𝗲𝗿𝗰𝘂𝗿!\n\n\nMahatma Gandhi\, una dintre cele mai importante personalitati ale secolului XX si protagonistul filmului cu acelasi nume\, recompensat cu 8 premii Oscar.\nFilmul a fost regizat dupa eforturi titanice de Sir Richard Attenborough\, cu un Ben Kingsley care pare a fi intruparea vie a personajului real\, „Gandhi” este o productie monumentala\, care merita vazuta pe marele ecran.\n\n\nCumpara-ti 𝗔𝗖𝗨𝗠 bilet si pregateste-te sa vizionezi un film mare despre un suflet mare!
URL:https://craiovalive.ro/eveniment/cinemateca-gandhi/2025-11-14/2/
LOCATION:Dolj
CATEGORIES:Film
ATTACH;FMTTYPE=image/jpeg:https://craiovalive.ro/wp-content/uploads/2025/10/Cinemateca-Gandhi.jpg
END:VEVENT
END:VCALENDAR