BEGIN:VCALENDAR
VERSION:2.0
PRODID:-//Craiova Live - ECPv6.15.18//NONSGML v1.0//EN
CALSCALE:GREGORIAN
METHOD:PUBLISH
X-WR-CALNAME:Craiova Live
X-ORIGINAL-URL:https://craiovalive.ro
X-WR-CALDESC:Evenimente pentru Craiova Live
REFRESH-INTERVAL;VALUE=DURATION:PT1H
X-Robots-Tag:noindex
X-PUBLISHED-TTL:PT1H
BEGIN:VTIMEZONE
TZID:Europe/Bucharest
BEGIN:DAYLIGHT
TZOFFSETFROM:+0200
TZOFFSETTO:+0300
TZNAME:EEST
DTSTART:20240331T010000
END:DAYLIGHT
BEGIN:STANDARD
TZOFFSETFROM:+0300
TZOFFSETTO:+0200
TZNAME:EET
DTSTART:20241027T010000
END:STANDARD
BEGIN:DAYLIGHT
TZOFFSETFROM:+0200
TZOFFSETTO:+0300
TZNAME:EEST
DTSTART:20250330T010000
END:DAYLIGHT
BEGIN:STANDARD
TZOFFSETFROM:+0300
TZOFFSETTO:+0200
TZNAME:EET
DTSTART:20251026T010000
END:STANDARD
BEGIN:DAYLIGHT
TZOFFSETFROM:+0200
TZOFFSETTO:+0300
TZNAME:EEST
DTSTART:20260329T010000
END:DAYLIGHT
BEGIN:STANDARD
TZOFFSETFROM:+0300
TZOFFSETTO:+0200
TZNAME:EET
DTSTART:20261025T010000
END:STANDARD
END:VTIMEZONE
BEGIN:VEVENT
DTSTART;TZID=Europe/Bucharest:20251002T190000
DTEND;TZID=Europe/Bucharest:20251002T210000
DTSTAMP:20260424T031218
CREATED:20250926T110208Z
LAST-MODIFIED:20250926T110208Z
UID:10010258-1759431600-1759438800@craiovalive.ro
SUMMARY:Zilele Comediei Cehe la Craiova
DESCRIPTION: Începem toamna în afara Bucureștiului cu o serie de filme de comedie cehoslovace la Craiova! Asociația Divina Comedie Umană plănuiește să înveselească comunitatea\, iar Zilele Filmului de Comedie este un segment din activitatea lor prin care vor prezenta trimestrial comedii europene. \nDetalii despre program și filme:\n02.10 – Balul pompierilor (Hoří\, má panenko\, Miloš Forman\, 1967\, 1h11’)\nÎn centrul poveștii „Balului Pompierilor” se află un mic departament de pompieri voluntari dintr-un orășel ceh\, care încearcă să organizeze un bal în onoarea fostului lor președinte. Ceea ce trebuia să fie un eveniment festiv se transformă rapid într-o succesiune de gafe și neînțelegeri: concursul de frumusețe devine o adevărată farsă – mamele fetelor fac presiuni asupra comitetului balului\, tații beau\, fetele se simt jenate\, tombola dispare de sub ochii tuturor\, iar încercarea unui gest demn sfârșește ca un fiasco. Miloš Forman\, împreună cu Jaroslav Papoušek și Ivan Passer\, au creat această tragicomedie prin implicarea cu măiestrie a unor actori neprofesioniști care\, cu un umor cotidian reușesc să transmită și să arate micimea\, stângăcia și ridicolul situațiilor de zi cu zi. Fără a recurge la trucuri spectaculoase sau artificii inutile\, ei conturează imaginea unei societăți în care sărbătorile oficiale și „moralitatea” nu fac adesea decât să mascheze egoismul\, ipocrizia și neputința.\nFilmul a reușit să ofenseze atât autoritățile comuniste\, cât și partenerii săi capitaliști\, care l-au văzut ca pe o batjocură la adresa oamenilor de rând. Pompierii cehi chiar au protestat oficial împotriva acestui film. În cele din urmă\, filmul a fost nominalizat la Oscar la categoria „cel mai bun film străin”.\n\n03.10 – Adela nu a luat încă cina (Adéla ještě nevečeřela\, Oldřich Lipský\, 1978\, 1h45’)\nO parodie cehă legendară a poveștilor polițiste\, care se joacă cu regulile genului detectiv și chiar cu spectatorul înșiși. Celebrul detectiv Nick Carter sosește la Praga\, înarmat cu cele mai noi instrumente de investigație și cu o sănătoasă încredere în sine\, pentru a rezolva dispariția misterioasă a unui câine. Este asistat de corpolentul comisar de poliție ceh (mare amator de bere și de mâncare) Ledvina\, iar adversarul său diabolic este baronul von Kratzmar\, un botanist malefic acompaniat de planta lui carnivoră\, Adéla.\nFilmul este unic prin combinația dintre intriga polițistă și comedia grotescă. Regizorul Oldřich Lipský îmbină cu măiestrie umorul de situație\, gagurile vizuale\, replicile spirituale și referințele la cultura pop cu stilizarea artistică și atmosfera de epocă. Rezultatul este un film accesibil tuturor spectatorilor\, dar care servește și o declarație de dragoste pentru Praga\, berării\, bere\, carne afumată\, și un omagiu unic adus literaturii polițiste de consum. Numeroase personalități marcante au colaborat la realizarea filmului. Regizorul a distribuit actori faimoși chiar și în roluri mici\, iar faimosul Jan Švankmajer a contribuit cu animații.\n\n04.10 – Sătucul meu drag (Vesničko má středisková\, Jiří Menzel\, 1985\, 1h28’)\nUn film esențial al cinematografiei cehe\, povestea din „Sătucul meu drag” se petrece în zona rurală a Cehiei\, în anii 1980. Într-un sat mic\, urmărim viața de zi cu zi a locuitorilor săi\, în special a unui duo de prieteni – șoferul de camion Pávek și colegul său Otík\, un om bun la suflet\, dar cu dizabilități intelectuale. Relația lor\, plină de conflicte minore\, dar și de solidaritate\, constituie nucleul filmului. Pe lângă această temă principală\, întâlnim și alte personaje: agresivul și gelosul Turek\, soția sa Jana și amantul acesteia\, zootehnicianul Kašpar\, pictorul academician Ryba și o serie de alte personaje distinctive care trăiesc în satul Křečovice. Sorțile lor se întrepătrund într-o serie de episoade comice și oarecum amare care înconjoară tema principală.\nInspirându-se din scenariul lui Zdeněk Svěrák\, Jiří Menzel a realizat un film care îmbină umorul subtil\, poezia rurală și observația sensibilă asupra oamenilor. Accentul nu cade pe întorsături spectaculoase de intrigă\, ci pe atmosferă\, pe ritmul vieții și pe relațiile umane. Spectatorii au văzut în film o oglindă neașteptat de clară a realității cotidiene a societății normalizate. Filmul a avut astfel succes atât în țară\, cât și în străinătate și a fost nominalizat la Oscar pentru cel mai bun film străin.\n\n Intrarea este liberă! Proiecțiile vor avea loc în grădina Muzeului Cărții și Exilului Românesc\, de la ora 19:00. Participanții majori vor primi o bere Budweiser Budvar din partea casei\, în limita stocului disponibil. \n Proiect organizat de Asociația Divina Comedie Umană și Centrul Ceh București\, cu sprijinul Ambasadei Cehiei și al Budweiser Budvar.
URL:https://craiovalive.ro/eveniment/zilele-comediei-cehe-la-craiova/2025-10-02/
LOCATION:Muzeul Cărții și Exilului Românesc\, Str. 24 Ianuarie nr. 4\, Craiova\, Dolj\, România
CATEGORIES:Film
ATTACH;FMTTYPE=image/jpeg:https://craiovalive.ro/wp-content/uploads/2025/09/Zilele-Comediei-Cehe-la-Craiova.jpg
GEO:44.3141881;23.7984041
X-APPLE-STRUCTURED-LOCATION;VALUE=URI;X-ADDRESS=Muzeul Cărții și Exilului Românesc Str. 24 Ianuarie nr. 4 Craiova Dolj România;X-APPLE-RADIUS=500;X-TITLE=Str. 24 Ianuarie nr. 4:geo:23.7984041,44.3141881
END:VEVENT
BEGIN:VEVENT
DTSTART;TZID=Europe/Bucharest:20251003T190000
DTEND;TZID=Europe/Bucharest:20251003T210000
DTSTAMP:20260424T031218
CREATED:20250926T110208Z
LAST-MODIFIED:20250926T110208Z
UID:10010259-1759518000-1759525200@craiovalive.ro
SUMMARY:Zilele Comediei Cehe la Craiova
DESCRIPTION: Începem toamna în afara Bucureștiului cu o serie de filme de comedie cehoslovace la Craiova! Asociația Divina Comedie Umană plănuiește să înveselească comunitatea\, iar Zilele Filmului de Comedie este un segment din activitatea lor prin care vor prezenta trimestrial comedii europene. \nDetalii despre program și filme:\n02.10 – Balul pompierilor (Hoří\, má panenko\, Miloš Forman\, 1967\, 1h11’)\nÎn centrul poveștii „Balului Pompierilor” se află un mic departament de pompieri voluntari dintr-un orășel ceh\, care încearcă să organizeze un bal în onoarea fostului lor președinte. Ceea ce trebuia să fie un eveniment festiv se transformă rapid într-o succesiune de gafe și neînțelegeri: concursul de frumusețe devine o adevărată farsă – mamele fetelor fac presiuni asupra comitetului balului\, tații beau\, fetele se simt jenate\, tombola dispare de sub ochii tuturor\, iar încercarea unui gest demn sfârșește ca un fiasco. Miloš Forman\, împreună cu Jaroslav Papoušek și Ivan Passer\, au creat această tragicomedie prin implicarea cu măiestrie a unor actori neprofesioniști care\, cu un umor cotidian reușesc să transmită și să arate micimea\, stângăcia și ridicolul situațiilor de zi cu zi. Fără a recurge la trucuri spectaculoase sau artificii inutile\, ei conturează imaginea unei societăți în care sărbătorile oficiale și „moralitatea” nu fac adesea decât să mascheze egoismul\, ipocrizia și neputința.\nFilmul a reușit să ofenseze atât autoritățile comuniste\, cât și partenerii săi capitaliști\, care l-au văzut ca pe o batjocură la adresa oamenilor de rând. Pompierii cehi chiar au protestat oficial împotriva acestui film. În cele din urmă\, filmul a fost nominalizat la Oscar la categoria „cel mai bun film străin”.\n\n03.10 – Adela nu a luat încă cina (Adéla ještě nevečeřela\, Oldřich Lipský\, 1978\, 1h45’)\nO parodie cehă legendară a poveștilor polițiste\, care se joacă cu regulile genului detectiv și chiar cu spectatorul înșiși. Celebrul detectiv Nick Carter sosește la Praga\, înarmat cu cele mai noi instrumente de investigație și cu o sănătoasă încredere în sine\, pentru a rezolva dispariția misterioasă a unui câine. Este asistat de corpolentul comisar de poliție ceh (mare amator de bere și de mâncare) Ledvina\, iar adversarul său diabolic este baronul von Kratzmar\, un botanist malefic acompaniat de planta lui carnivoră\, Adéla.\nFilmul este unic prin combinația dintre intriga polițistă și comedia grotescă. Regizorul Oldřich Lipský îmbină cu măiestrie umorul de situație\, gagurile vizuale\, replicile spirituale și referințele la cultura pop cu stilizarea artistică și atmosfera de epocă. Rezultatul este un film accesibil tuturor spectatorilor\, dar care servește și o declarație de dragoste pentru Praga\, berării\, bere\, carne afumată\, și un omagiu unic adus literaturii polițiste de consum. Numeroase personalități marcante au colaborat la realizarea filmului. Regizorul a distribuit actori faimoși chiar și în roluri mici\, iar faimosul Jan Švankmajer a contribuit cu animații.\n\n04.10 – Sătucul meu drag (Vesničko má středisková\, Jiří Menzel\, 1985\, 1h28’)\nUn film esențial al cinematografiei cehe\, povestea din „Sătucul meu drag” se petrece în zona rurală a Cehiei\, în anii 1980. Într-un sat mic\, urmărim viața de zi cu zi a locuitorilor săi\, în special a unui duo de prieteni – șoferul de camion Pávek și colegul său Otík\, un om bun la suflet\, dar cu dizabilități intelectuale. Relația lor\, plină de conflicte minore\, dar și de solidaritate\, constituie nucleul filmului. Pe lângă această temă principală\, întâlnim și alte personaje: agresivul și gelosul Turek\, soția sa Jana și amantul acesteia\, zootehnicianul Kašpar\, pictorul academician Ryba și o serie de alte personaje distinctive care trăiesc în satul Křečovice. Sorțile lor se întrepătrund într-o serie de episoade comice și oarecum amare care înconjoară tema principală.\nInspirându-se din scenariul lui Zdeněk Svěrák\, Jiří Menzel a realizat un film care îmbină umorul subtil\, poezia rurală și observația sensibilă asupra oamenilor. Accentul nu cade pe întorsături spectaculoase de intrigă\, ci pe atmosferă\, pe ritmul vieții și pe relațiile umane. Spectatorii au văzut în film o oglindă neașteptat de clară a realității cotidiene a societății normalizate. Filmul a avut astfel succes atât în țară\, cât și în străinătate și a fost nominalizat la Oscar pentru cel mai bun film străin.\n\n Intrarea este liberă! Proiecțiile vor avea loc în grădina Muzeului Cărții și Exilului Românesc\, de la ora 19:00. Participanții majori vor primi o bere Budweiser Budvar din partea casei\, în limita stocului disponibil. \n Proiect organizat de Asociația Divina Comedie Umană și Centrul Ceh București\, cu sprijinul Ambasadei Cehiei și al Budweiser Budvar.
URL:https://craiovalive.ro/eveniment/zilele-comediei-cehe-la-craiova/2025-10-03/
LOCATION:Muzeul Cărții și Exilului Românesc\, Str. 24 Ianuarie nr. 4\, Craiova\, Dolj\, România
CATEGORIES:Film
ATTACH;FMTTYPE=image/jpeg:https://craiovalive.ro/wp-content/uploads/2025/09/Zilele-Comediei-Cehe-la-Craiova.jpg
GEO:44.3141881;23.7984041
X-APPLE-STRUCTURED-LOCATION;VALUE=URI;X-ADDRESS=Muzeul Cărții și Exilului Românesc Str. 24 Ianuarie nr. 4 Craiova Dolj România;X-APPLE-RADIUS=500;X-TITLE=Str. 24 Ianuarie nr. 4:geo:23.7984041,44.3141881
END:VEVENT
BEGIN:VEVENT
DTSTART;TZID=Europe/Bucharest:20251004T190000
DTEND;TZID=Europe/Bucharest:20251004T210000
DTSTAMP:20260424T031218
CREATED:20250926T110208Z
LAST-MODIFIED:20250926T110208Z
UID:10010260-1759604400-1759611600@craiovalive.ro
SUMMARY:Zilele Comediei Cehe la Craiova
DESCRIPTION: Începem toamna în afara Bucureștiului cu o serie de filme de comedie cehoslovace la Craiova! Asociația Divina Comedie Umană plănuiește să înveselească comunitatea\, iar Zilele Filmului de Comedie este un segment din activitatea lor prin care vor prezenta trimestrial comedii europene. \nDetalii despre program și filme:\n02.10 – Balul pompierilor (Hoří\, má panenko\, Miloš Forman\, 1967\, 1h11’)\nÎn centrul poveștii „Balului Pompierilor” se află un mic departament de pompieri voluntari dintr-un orășel ceh\, care încearcă să organizeze un bal în onoarea fostului lor președinte. Ceea ce trebuia să fie un eveniment festiv se transformă rapid într-o succesiune de gafe și neînțelegeri: concursul de frumusețe devine o adevărată farsă – mamele fetelor fac presiuni asupra comitetului balului\, tații beau\, fetele se simt jenate\, tombola dispare de sub ochii tuturor\, iar încercarea unui gest demn sfârșește ca un fiasco. Miloš Forman\, împreună cu Jaroslav Papoušek și Ivan Passer\, au creat această tragicomedie prin implicarea cu măiestrie a unor actori neprofesioniști care\, cu un umor cotidian reușesc să transmită și să arate micimea\, stângăcia și ridicolul situațiilor de zi cu zi. Fără a recurge la trucuri spectaculoase sau artificii inutile\, ei conturează imaginea unei societăți în care sărbătorile oficiale și „moralitatea” nu fac adesea decât să mascheze egoismul\, ipocrizia și neputința.\nFilmul a reușit să ofenseze atât autoritățile comuniste\, cât și partenerii săi capitaliști\, care l-au văzut ca pe o batjocură la adresa oamenilor de rând. Pompierii cehi chiar au protestat oficial împotriva acestui film. În cele din urmă\, filmul a fost nominalizat la Oscar la categoria „cel mai bun film străin”.\n\n03.10 – Adela nu a luat încă cina (Adéla ještě nevečeřela\, Oldřich Lipský\, 1978\, 1h45’)\nO parodie cehă legendară a poveștilor polițiste\, care se joacă cu regulile genului detectiv și chiar cu spectatorul înșiși. Celebrul detectiv Nick Carter sosește la Praga\, înarmat cu cele mai noi instrumente de investigație și cu o sănătoasă încredere în sine\, pentru a rezolva dispariția misterioasă a unui câine. Este asistat de corpolentul comisar de poliție ceh (mare amator de bere și de mâncare) Ledvina\, iar adversarul său diabolic este baronul von Kratzmar\, un botanist malefic acompaniat de planta lui carnivoră\, Adéla.\nFilmul este unic prin combinația dintre intriga polițistă și comedia grotescă. Regizorul Oldřich Lipský îmbină cu măiestrie umorul de situație\, gagurile vizuale\, replicile spirituale și referințele la cultura pop cu stilizarea artistică și atmosfera de epocă. Rezultatul este un film accesibil tuturor spectatorilor\, dar care servește și o declarație de dragoste pentru Praga\, berării\, bere\, carne afumată\, și un omagiu unic adus literaturii polițiste de consum. Numeroase personalități marcante au colaborat la realizarea filmului. Regizorul a distribuit actori faimoși chiar și în roluri mici\, iar faimosul Jan Švankmajer a contribuit cu animații.\n\n04.10 – Sătucul meu drag (Vesničko má středisková\, Jiří Menzel\, 1985\, 1h28’)\nUn film esențial al cinematografiei cehe\, povestea din „Sătucul meu drag” se petrece în zona rurală a Cehiei\, în anii 1980. Într-un sat mic\, urmărim viața de zi cu zi a locuitorilor săi\, în special a unui duo de prieteni – șoferul de camion Pávek și colegul său Otík\, un om bun la suflet\, dar cu dizabilități intelectuale. Relația lor\, plină de conflicte minore\, dar și de solidaritate\, constituie nucleul filmului. Pe lângă această temă principală\, întâlnim și alte personaje: agresivul și gelosul Turek\, soția sa Jana și amantul acesteia\, zootehnicianul Kašpar\, pictorul academician Ryba și o serie de alte personaje distinctive care trăiesc în satul Křečovice. Sorțile lor se întrepătrund într-o serie de episoade comice și oarecum amare care înconjoară tema principală.\nInspirându-se din scenariul lui Zdeněk Svěrák\, Jiří Menzel a realizat un film care îmbină umorul subtil\, poezia rurală și observația sensibilă asupra oamenilor. Accentul nu cade pe întorsături spectaculoase de intrigă\, ci pe atmosferă\, pe ritmul vieții și pe relațiile umane. Spectatorii au văzut în film o oglindă neașteptat de clară a realității cotidiene a societății normalizate. Filmul a avut astfel succes atât în țară\, cât și în străinătate și a fost nominalizat la Oscar pentru cel mai bun film străin.\n\n Intrarea este liberă! Proiecțiile vor avea loc în grădina Muzeului Cărții și Exilului Românesc\, de la ora 19:00. Participanții majori vor primi o bere Budweiser Budvar din partea casei\, în limita stocului disponibil. \n Proiect organizat de Asociația Divina Comedie Umană și Centrul Ceh București\, cu sprijinul Ambasadei Cehiei și al Budweiser Budvar.
URL:https://craiovalive.ro/eveniment/zilele-comediei-cehe-la-craiova/2025-10-04/
LOCATION:Muzeul Cărții și Exilului Românesc\, Str. 24 Ianuarie nr. 4\, Craiova\, Dolj\, România
CATEGORIES:Film
ATTACH;FMTTYPE=image/jpeg:https://craiovalive.ro/wp-content/uploads/2025/09/Zilele-Comediei-Cehe-la-Craiova.jpg
GEO:44.3141881;23.7984041
X-APPLE-STRUCTURED-LOCATION;VALUE=URI;X-ADDRESS=Muzeul Cărții și Exilului Românesc Str. 24 Ianuarie nr. 4 Craiova Dolj România;X-APPLE-RADIUS=500;X-TITLE=Str. 24 Ianuarie nr. 4:geo:23.7984041,44.3141881
END:VEVENT
BEGIN:VEVENT
DTSTART;TZID=Europe/Bucharest:20251010T193000
DTEND;TZID=Europe/Bucharest:20251010T213000
DTSTAMP:20260424T031218
CREATED:20250911T104534Z
LAST-MODIFIED:20251006T095439Z
UID:10009716-1760124600-1760131800@craiovalive.ro
SUMMARY:Cinemateca: Cabaret
DESCRIPTION:Cabaret \nGenul Filmului: Musical \nRegizor: Bob Fosse \nDistribuție: Liza Minnelli\, Michael York \nDurată: 124 minute \nRating film: AG \nAudio: Engleza \n\n 𝗦𝗲𝘇𝗼𝗻𝘂𝗹 𝟰 𝗱𝗲 𝗖𝗜𝗡𝗘𝗠𝗔𝗧𝗘𝗖𝗔 𝗲𝘀𝘁𝗲 𝗽𝗲 𝗰𝗮𝗹𝗲 𝘀𝗮 𝗶𝗻𝗰𝗲𝗮𝗽𝗮!\n\n\n Ne revedem in sala de cinema pe 10 octombrie. Povestea merge mai departe\, pentru ca filmele clasice nu imbatranesc niciodata\, iar voi\, spectatorii pasionati\, le dati mereu viata in intunericul magic al salii de cinema. \n\n\n Asa cum e traditia\, deschidem sezonul cu un musical legendar: 𝗖𝗔𝗕𝗔𝗥𝗘𝗧 – in regia inconfundabila a lui Bob Fosse si cu o Liza Minnelli absolut memorabila!\nUn film vibrant\, curajos si – da! – mai actual ca oricand.\n\n\nHai cu noi intr-o noua calatorie prin lumea cinematografiei nemuri
URL:https://craiovalive.ro/eveniment/cinemateca-cabaret/2025-10-10/1/
LOCATION:Dolj
CATEGORIES:Film
ATTACH;FMTTYPE=image/jpeg:https://craiovalive.ro/wp-content/uploads/2025/09/Cinemateca-Cabaret.jpg
END:VEVENT
BEGIN:VEVENT
DTSTART;TZID=Europe/Bucharest:20251010T200000
DTEND;TZID=Europe/Bucharest:20251010T220000
DTSTAMP:20260424T031218
CREATED:20250911T104534Z
LAST-MODIFIED:20251006T095439Z
UID:10010281-1760126400-1760133600@craiovalive.ro
SUMMARY:Cinemateca: Cabaret
DESCRIPTION:Cabaret \nGenul Filmului: Musical \nRegizor: Bob Fosse \nDistribuție: Liza Minnelli\, Michael York \nDurată: 124 minute \nRating film: AG \nAudio: Engleza \n\n 𝗦𝗲𝘇𝗼𝗻𝘂𝗹 𝟰 𝗱𝗲 𝗖𝗜𝗡𝗘𝗠𝗔𝗧𝗘𝗖𝗔 𝗲𝘀𝘁𝗲 𝗽𝗲 𝗰𝗮𝗹𝗲 𝘀𝗮 𝗶𝗻𝗰𝗲𝗮𝗽𝗮!\n\n\n Ne revedem in sala de cinema pe 10 octombrie. Povestea merge mai departe\, pentru ca filmele clasice nu imbatranesc niciodata\, iar voi\, spectatorii pasionati\, le dati mereu viata in intunericul magic al salii de cinema. \n\n\n Asa cum e traditia\, deschidem sezonul cu un musical legendar: 𝗖𝗔𝗕𝗔𝗥𝗘𝗧 – in regia inconfundabila a lui Bob Fosse si cu o Liza Minnelli absolut memorabila!\nUn film vibrant\, curajos si – da! – mai actual ca oricand.\n\n\nHai cu noi intr-o noua calatorie prin lumea cinematografiei nemuri
URL:https://craiovalive.ro/eveniment/cinemateca-cabaret/2025-10-10/2/
LOCATION:Dolj
CATEGORIES:Film
ATTACH;FMTTYPE=image/jpeg:https://craiovalive.ro/wp-content/uploads/2025/09/Cinemateca-Cabaret.jpg
END:VEVENT
BEGIN:VEVENT
DTSTART;TZID=Europe/Bucharest:20251026T163000
DTEND;TZID=Europe/Bucharest:20251026T183000
DTSTAMP:20260424T031218
CREATED:20251020T122652Z
LAST-MODIFIED:20251020T122652Z
UID:10010857-1761496200-1761503400@craiovalive.ro
SUMMARY:„Moartea domnului Lăzărescu” - proiecție specială la Craiova
DESCRIPTION:„Moartea domnului Lăzărescu”\, lungmetrajul regizorului Cristi Puiu\, devenit un titlu de patrimoniu cultural\, revine în cinematografe la 20 de ani de la lansare pentru o perioadă limitată. O serie de proiecții speciale dedicate întâlnirilor dintre generații și discuțiilor despre neajunsurile perpetuate ale unui sistem care nu pune preț pe empatie vor avea loc în mai multe orașe din țară\, în prezența unor membri ai echipei. Pe 26 octombrie\, de la 16:30\, în Cinema Inspire Electroputere Craiova\, filmul „Moartea domnului Lăzărescu” va avea parte de o proiecție specială\, iar publicul de toate vârstele poate afla mai multe detalii despre film. \nDOSARUL LĂZĂRESCU: REDESCHIS  –  dialog între generații \nFilmul care a pus România pe harta cinematografiei mondiale vorbește în continuare\, la fel de actual și puternic\, despre umanitate\, fragilitate și societate. \nBILETE: https://linktr.ee/moarteadomnuluilazarescu \nO critică magistrală\, plină de umor negru și tulburătoare a unui sistem medical insensibil și ineficient\, filmul „Moartea domnului Lăzărescu” a fost  descris drept o „odisee puternică” și o „odă crudă la adresa mortalității”\, fiind remarcat pentru realismul său\, interpretările excelente și portretizarea indiferenței umane alături de momente de bunătate. \nCele peste 50 de premii și selecții naționale și internaționale\, sutele de cronici care-i apreciază sensibilitatea\, subtilitatea și importanța artistică\, mărturiile cineaștilor pe care i-a influențat\, dar și ale publicului care l-a descoperit recent\, la TIFF\, SFR sau la proiecția de gală din 23 septembrie din București\, alcătuiesc o bogată și impresionantă carte de vizită. \n„Moartea domnului Lăzărescu” nu este doar „o capodoperă incomodă”\, ci un film actual și puternic\, în care publicul are ocazia să-i (re)descopere actorii care alcătuiesc una dintre cele memorabile distribuții: Ion Fiscuteanu\, Luminița Gheorghiu și Doru Ana\, alături de Florin Zamfirescu\, Adrian Titieni\, Dana Dogaru\, Monica Bârlădeanu\, Dragoș Bucur\, Șerban Pavlu\, Gabriel Spahiu\, Dorian Boguță\, Bogdan Dumitrache\, Rodica Lazăr\, Alina Berzunțeanu\, Mihai Brătilă\, Clara Vodă\, și mulți alții. \n„Moartea domnului Lăzărescu” este un titlu de patrimoniu cinematografic\, prezentat în cinematografe sub înaltul patronaj al Ministerului Culturii. \nImaginea filmului „Moartea domnului Lăzărescu” este semnată de Oleg Mutu și camera de Andrei Butică\,  iar montajul de Dana Bunescu.  Produs de MANDRAGORA prin Alexandru Munteanu\, Anca Puiu și Bobby Păunescu.
URL:https://craiovalive.ro/eveniment/moartea-domnului-lazarescu-proiectie-speciala-la-craiova/
LOCATION:Electroputere Parc Mall\, Calea București\, nr. 80\, Craiova\, Dolj\, România
CATEGORIES:Film
ATTACH;FMTTYPE=image/png:https://craiovalive.ro/wp-content/uploads/2025/10/„Moartea-domnului-Lazarescu-proiectie-speciala-la-Craiova.png
GEO:44.312934978525;23.833569266691
X-APPLE-STRUCTURED-LOCATION;VALUE=URI;X-ADDRESS=Electroputere Parc Mall Calea București nr. 80 Craiova Dolj România;X-APPLE-RADIUS=500;X-TITLE=Calea București\, nr. 80:geo:23.833569266691,44.312934978525
END:VEVENT
END:VCALENDAR