BEGIN:VCALENDAR
VERSION:2.0
PRODID:-//Craiova Live - ECPv6.15.18//NONSGML v1.0//EN
CALSCALE:GREGORIAN
METHOD:PUBLISH
X-WR-CALNAME:Craiova Live
X-ORIGINAL-URL:https://craiovalive.ro
X-WR-CALDESC:Evenimente pentru Craiova Live
REFRESH-INTERVAL;VALUE=DURATION:PT1H
X-Robots-Tag:noindex
X-PUBLISHED-TTL:PT1H
BEGIN:VTIMEZONE
TZID:Europe/Bucharest
BEGIN:DAYLIGHT
TZOFFSETFROM:+0200
TZOFFSETTO:+0300
TZNAME:EEST
DTSTART:20250330T010000
END:DAYLIGHT
BEGIN:STANDARD
TZOFFSETFROM:+0300
TZOFFSETTO:+0200
TZNAME:EET
DTSTART:20251026T010000
END:STANDARD
BEGIN:DAYLIGHT
TZOFFSETFROM:+0200
TZOFFSETTO:+0300
TZNAME:EEST
DTSTART:20260329T010000
END:DAYLIGHT
BEGIN:STANDARD
TZOFFSETFROM:+0300
TZOFFSETTO:+0200
TZNAME:EET
DTSTART:20261025T010000
END:STANDARD
BEGIN:DAYLIGHT
TZOFFSETFROM:+0200
TZOFFSETTO:+0300
TZNAME:EEST
DTSTART:20270328T010000
END:DAYLIGHT
BEGIN:STANDARD
TZOFFSETFROM:+0300
TZOFFSETTO:+0200
TZNAME:EET
DTSTART:20271031T010000
END:STANDARD
END:VTIMEZONE
BEGIN:VEVENT
DTSTART;TZID=Europe/Bucharest:20260509T120000
DTEND;TZID=Europe/Bucharest:20260509T180000
DTSTAMP:20260423T225527
CREATED:20260329T111045Z
LAST-MODIFIED:20260329T111045Z
UID:10014479-1778328000-1778349600@craiovalive.ro
SUMMARY:YARD SALE: MAREA SHOPPINGĂREALĂ #5
DESCRIPTION:YARD SALE: MAREA SHOPPINGĂREALĂ #5\n9–10 mai | 12:00–18:00 Biergarten Craiova\nIntră într-o grădină cu vibe vintage\, unde timpul curge pe ritm de vinyl Te așteaptă comori ascunse\, haine cu poveste\, obiecte unice și acel farmec retro pe care nu-l găsești oriunde.Pentru că\, deși ai mai participat la astfel de evenimente\, al nostru este diferit! Răsfoiește. Descoperă. Ia acasă ceva special. Tombolă cu surprize Intrare liberă pentru vizitatoriVino pentru vibe\, rămâi pentru atmosferă 
URL:https://craiovalive.ro/eveniment/yard-sale-marea-shoppingareala-5/2026-05-09/
LOCATION:Biergarten\, Str. Fraţii Buzeşti nr. 18\, Craiova\, Dolj\, 200381\, România
CATEGORIES:Expoziție
ATTACH;FMTTYPE=image/jpeg:https://craiovalive.ro/wp-content/uploads/2026/03/YARD-SALE-MAREA-SHOPPINGAREALA-5.jpg
GEO:44.314387198457;23.799027336713
X-APPLE-STRUCTURED-LOCATION;VALUE=URI;X-ADDRESS=Biergarten Str. Fraţii Buzeşti nr. 18 Craiova Dolj 200381 România;X-APPLE-RADIUS=500;X-TITLE=Str. Fraţii Buzeşti nr. 18:geo:23.799027336713,44.314387198457
END:VEVENT
END:VCALENDAR