BEGIN:VCALENDAR
VERSION:2.0
PRODID:-//Craiova Live - ECPv6.15.18//NONSGML v1.0//EN
CALSCALE:GREGORIAN
METHOD:PUBLISH
X-ORIGINAL-URL:https://craiovalive.ro
X-WR-CALDESC:Evenimente pentru Craiova Live
REFRESH-INTERVAL;VALUE=DURATION:PT1H
X-Robots-Tag:noindex
X-PUBLISHED-TTL:PT1H
BEGIN:VTIMEZONE
TZID:Europe/Bucharest
BEGIN:DAYLIGHT
TZOFFSETFROM:+0200
TZOFFSETTO:+0300
TZNAME:EEST
DTSTART:20250330T010000
END:DAYLIGHT
BEGIN:STANDARD
TZOFFSETFROM:+0300
TZOFFSETTO:+0200
TZNAME:EET
DTSTART:20251026T010000
END:STANDARD
BEGIN:DAYLIGHT
TZOFFSETFROM:+0200
TZOFFSETTO:+0300
TZNAME:EEST
DTSTART:20260329T010000
END:DAYLIGHT
BEGIN:STANDARD
TZOFFSETFROM:+0300
TZOFFSETTO:+0200
TZNAME:EET
DTSTART:20261025T010000
END:STANDARD
BEGIN:DAYLIGHT
TZOFFSETFROM:+0200
TZOFFSETTO:+0300
TZNAME:EEST
DTSTART:20270328T010000
END:DAYLIGHT
BEGIN:STANDARD
TZOFFSETFROM:+0300
TZOFFSETTO:+0200
TZNAME:EET
DTSTART:20271031T010000
END:STANDARD
END:VTIMEZONE
BEGIN:VEVENT
DTSTART;TZID=Europe/Bucharest:20260330T110000
DTEND;TZID=Europe/Bucharest:20260330T123000
DTSTAMP:20260424T015320
CREATED:20260307T214749Z
LAST-MODIFIED:20260330T115609Z
UID:10014124-1774868400-1774873800@craiovalive.ro
SUMMARY:Zâna păpușilor
DESCRIPTION:Zâna Păpușilor \nBaletul „Zâna Păpușilor” de Josef Bayer\, îndrăgit atât de cei mici\, cât și de iubitorii de frumos de toate vârstele\, revine în fața publicului craiovean într-o montare de o delicatețe aparte\, în care grația dansului clasic se întâlnește cu bucuria copilăriei. Regia artistică și coregrafia poartă semnătura lui Francisc Valkay\, iar scenografia este realizată de Răsvan Drăgănescu. \nAcțiunea se desfășoară în Viena anului 1888\, într-un fermecător magazin de păpuși. Rolul Zânei este interpretat de Olguța Ilie\, distribuția fiind completată de artiștii Anca Țecu\, Robert Vladu\, Loredana Nicola\, Alexandru Chera\, Andreea Segărceanu\, Say Ufuk Gengis\, Amina Almahadin\, Laurențiu Nicu\, Răzvan Segărceanu\, Alina Onofrei\, Ruxandra Andruță\, Raluca Mocanu\, Răzvan Zamfir\, Alexandra Iordache\, Mihai Bălăceanu\, Ansamblul de Balet al Operei Române Craiova și Școala de Balet Attitude. \nPreț: \n\nBilet Adult – 40 RON \nBilet Copil – 20 RON \nInformații suplimentare: \n0351.442.471 \nDistribuția: \nZâna păpușilor – Olguța Ilie \nUcenicul – Anca Țecu \nProprietarul – Robert Vladu \nColombina – Loredana Nicola \nArlechinul – Alexandru Chera \nAristocrata – Andreea Segărceanu \nAristocratul – Say Ufuk Gengis \nȚăranca – Amina Almahadin \nȚăran/General – Laurențiu Nicu \nPăpușa stricată – Răzvan Segărceanu \nPăpușa chinezească – Alina Onofrei \nPăpușa japoneză – Ruxandra Andruță \nPerechea de tiroleză – Raluca Mocanu și Răzvan Zamfir \nDans spaniol – Alexandra Iordache și Mihai Bălăceanu \nAnsamblul de Balet al Operei Române Craiova \nȘcoala de Balet Attitude \nRegia artistică și coregrafia: Francisc Valkay \nAsistent regie artistică și coregrafie: Erna Marin \nScenografia: Răsvan Drăgănescu \nTABLOUL I \nAcțiunea se petrece în anul 1888 la Viena\, într-un magazin de păpuși „Kärntnerstrasse”. Proprietarul acestui magazin\, un negustor tipic\, oferea păpuși rare\, cu calități artistice. În magazin avea ca ajutor o calfă plină de servilism și un tânăr ucenic. Un factor aduce corespondența\, un comisar marfă\, iar printre aceștia se strecoară și o fetiță cu păpușa ei stricată\, rugându-l pe proprietar să i-o repare. Dar patronul refuză cererea fetiței\, pe motiv că ea nu are bani. Întristată\, fetița vrea să plece\, dar ucenicul se apropie pe ascuns și ii promite că va repara el păpușa după închiderea magazinului. \nÎn magazin intră o pereche de țărani\, care vin pentru prima dată în oraș și\, privind în vitrină\, rămân uimiți de luxul păpușilor expuse. \nDar iată că proprietarul face plecăciuni. Cui? Desigur\, unei familii bogate de englezi\, care intră în magazin. Patronul și calfa speră la o afacere bună\, oferă serviabili păpușile spre vânzare\, în timp ce ucenicul râde de figurile caraghioase ale englezilor. Păpușa prezentată de patron nu funcționează. Supărat\, acesta aruncă vina pe ucenic. \nDecepționați\, englezii vor să părăsească magazinul\, dar proprietarul\, insistent\, îi roagă să mai rămână\, pentru a-i determina să cumpere o păpușă foarte scumpă. În tot acest timp\, țăranii care au asistat la scena de mai sus\, numărându-și puținii bani\, se mulțumesc să cumpere doar o păpușă mică. \nProprietarul închide magazinul\, ucenicul însă se furișează din nou înăuntru și repară pe ascuns păpușa fetiței. \nTABLOUL II \nUcenicul lucrează noaptea\, pentru a repara păpușa. Obosit\, adoarme… În visul său\, păpușile care pentru el nu înseamnă marfă\, ci opere de artă și știință\, îl trezesc la viață. \nPe favorita sa – Zâna păpușilor – o vede ca pe stăpâna păpușilor. Din toate colțurile apar cele mai frumoase păpuși\, care dansează. Bucuria acestei serbări este întreruptă de apariția păpușii care a dat greș când a fost oferită familiei de englezi și din cauza căreia tânărul ucenic a fost pedepsit\, păpușă care se arată cu o figură amenințătoare. \nUcenicul vrea să fugă\, dar cum se întâmplă întotdeauna în vis…abia poate să se miște din loc. Păpușile îi vin în ajutor\, închizând păpușa stricată în cutia ei\, iar serbarea continuă. Deodată se face întuneric\, iar tânărul se trezește șezând pe podea. Dezamăgit\, își dă seama că totul a fost numai un vis. Între timp s-a făcut ziuă și fetița bate la fereastra magazinului. \nVesel\, tânărul ucenic îi arată că și-a ținut promisiunea\, reparându-i păpușa. \n* Francisc Valkay – coregraf
URL:https://craiovalive.ro/eveniment/zana-papusilor/2026-03-30/
LOCATION:Cercul Militar Craiova\, Str. Marin Sorescu\, nr. 2\, Craiova\, Dolj\, 200642\, România
CATEGORIES:Evenimente pentru copii
ATTACH;FMTTYPE=image/webp:https://craiovalive.ro/wp-content/uploads/2026/03/Zana-Papusilor-aprilie-2026.webp
ORGANIZER;CN="Opera Rom%C3%A2n%C4%83 Craiova":MAILTO:rezervari@operacraiova.ro
GEO:44.308454;23.7956757
X-APPLE-STRUCTURED-LOCATION;VALUE=URI;X-ADDRESS=Cercul Militar Craiova Str. Marin Sorescu nr. 2 Craiova Dolj 200642 România;X-APPLE-RADIUS=500;X-TITLE=Str. Marin Sorescu\, nr. 2:geo:23.7956757,44.308454
END:VEVENT
BEGIN:VEVENT
DTSTART;TZID=Europe/Bucharest:20260331T110000
DTEND;TZID=Europe/Bucharest:20260331T123000
DTSTAMP:20260424T015320
CREATED:20260307T214749Z
LAST-MODIFIED:20260330T115609Z
UID:10014125-1774954800-1774960200@craiovalive.ro
SUMMARY:Zâna păpușilor
DESCRIPTION:Zâna Păpușilor \nBaletul „Zâna Păpușilor” de Josef Bayer\, îndrăgit atât de cei mici\, cât și de iubitorii de frumos de toate vârstele\, revine în fața publicului craiovean într-o montare de o delicatețe aparte\, în care grația dansului clasic se întâlnește cu bucuria copilăriei. Regia artistică și coregrafia poartă semnătura lui Francisc Valkay\, iar scenografia este realizată de Răsvan Drăgănescu. \nAcțiunea se desfășoară în Viena anului 1888\, într-un fermecător magazin de păpuși. Rolul Zânei este interpretat de Olguța Ilie\, distribuția fiind completată de artiștii Anca Țecu\, Robert Vladu\, Loredana Nicola\, Alexandru Chera\, Andreea Segărceanu\, Say Ufuk Gengis\, Amina Almahadin\, Laurențiu Nicu\, Răzvan Segărceanu\, Alina Onofrei\, Ruxandra Andruță\, Raluca Mocanu\, Răzvan Zamfir\, Alexandra Iordache\, Mihai Bălăceanu\, Ansamblul de Balet al Operei Române Craiova și Școala de Balet Attitude. \nPreț: \n\nBilet Adult – 40 RON \nBilet Copil – 20 RON \nInformații suplimentare: \n0351.442.471 \nDistribuția: \nZâna păpușilor – Olguța Ilie \nUcenicul – Anca Țecu \nProprietarul – Robert Vladu \nColombina – Loredana Nicola \nArlechinul – Alexandru Chera \nAristocrata – Andreea Segărceanu \nAristocratul – Say Ufuk Gengis \nȚăranca – Amina Almahadin \nȚăran/General – Laurențiu Nicu \nPăpușa stricată – Răzvan Segărceanu \nPăpușa chinezească – Alina Onofrei \nPăpușa japoneză – Ruxandra Andruță \nPerechea de tiroleză – Raluca Mocanu și Răzvan Zamfir \nDans spaniol – Alexandra Iordache și Mihai Bălăceanu \nAnsamblul de Balet al Operei Române Craiova \nȘcoala de Balet Attitude \nRegia artistică și coregrafia: Francisc Valkay \nAsistent regie artistică și coregrafie: Erna Marin \nScenografia: Răsvan Drăgănescu \nTABLOUL I \nAcțiunea se petrece în anul 1888 la Viena\, într-un magazin de păpuși „Kärntnerstrasse”. Proprietarul acestui magazin\, un negustor tipic\, oferea păpuși rare\, cu calități artistice. În magazin avea ca ajutor o calfă plină de servilism și un tânăr ucenic. Un factor aduce corespondența\, un comisar marfă\, iar printre aceștia se strecoară și o fetiță cu păpușa ei stricată\, rugându-l pe proprietar să i-o repare. Dar patronul refuză cererea fetiței\, pe motiv că ea nu are bani. Întristată\, fetița vrea să plece\, dar ucenicul se apropie pe ascuns și ii promite că va repara el păpușa după închiderea magazinului. \nÎn magazin intră o pereche de țărani\, care vin pentru prima dată în oraș și\, privind în vitrină\, rămân uimiți de luxul păpușilor expuse. \nDar iată că proprietarul face plecăciuni. Cui? Desigur\, unei familii bogate de englezi\, care intră în magazin. Patronul și calfa speră la o afacere bună\, oferă serviabili păpușile spre vânzare\, în timp ce ucenicul râde de figurile caraghioase ale englezilor. Păpușa prezentată de patron nu funcționează. Supărat\, acesta aruncă vina pe ucenic. \nDecepționați\, englezii vor să părăsească magazinul\, dar proprietarul\, insistent\, îi roagă să mai rămână\, pentru a-i determina să cumpere o păpușă foarte scumpă. În tot acest timp\, țăranii care au asistat la scena de mai sus\, numărându-și puținii bani\, se mulțumesc să cumpere doar o păpușă mică. \nProprietarul închide magazinul\, ucenicul însă se furișează din nou înăuntru și repară pe ascuns păpușa fetiței. \nTABLOUL II \nUcenicul lucrează noaptea\, pentru a repara păpușa. Obosit\, adoarme… În visul său\, păpușile care pentru el nu înseamnă marfă\, ci opere de artă și știință\, îl trezesc la viață. \nPe favorita sa – Zâna păpușilor – o vede ca pe stăpâna păpușilor. Din toate colțurile apar cele mai frumoase păpuși\, care dansează. Bucuria acestei serbări este întreruptă de apariția păpușii care a dat greș când a fost oferită familiei de englezi și din cauza căreia tânărul ucenic a fost pedepsit\, păpușă care se arată cu o figură amenințătoare. \nUcenicul vrea să fugă\, dar cum se întâmplă întotdeauna în vis…abia poate să se miște din loc. Păpușile îi vin în ajutor\, închizând păpușa stricată în cutia ei\, iar serbarea continuă. Deodată se face întuneric\, iar tânărul se trezește șezând pe podea. Dezamăgit\, își dă seama că totul a fost numai un vis. Între timp s-a făcut ziuă și fetița bate la fereastra magazinului. \nVesel\, tânărul ucenic îi arată că și-a ținut promisiunea\, reparându-i păpușa. \n* Francisc Valkay – coregraf
URL:https://craiovalive.ro/eveniment/zana-papusilor/2026-03-31/
LOCATION:Cercul Militar Craiova\, Str. Marin Sorescu\, nr. 2\, Craiova\, Dolj\, 200642\, România
CATEGORIES:Evenimente pentru copii
ATTACH;FMTTYPE=image/webp:https://craiovalive.ro/wp-content/uploads/2026/03/Zana-Papusilor-aprilie-2026.webp
ORGANIZER;CN="Opera Rom%C3%A2n%C4%83 Craiova":MAILTO:rezervari@operacraiova.ro
GEO:44.308454;23.7956757
X-APPLE-STRUCTURED-LOCATION;VALUE=URI;X-ADDRESS=Cercul Militar Craiova Str. Marin Sorescu nr. 2 Craiova Dolj 200642 România;X-APPLE-RADIUS=500;X-TITLE=Str. Marin Sorescu\, nr. 2:geo:23.7956757,44.308454
END:VEVENT
BEGIN:VEVENT
DTSTART;TZID=Europe/Bucharest:20260402T180000
DTEND;TZID=Europe/Bucharest:20260402T200000
DTSTAMP:20260424T015320
CREATED:20260327T120033Z
LAST-MODIFIED:20260327T122246Z
UID:10014407-1775152800-1775160000@craiovalive.ro
SUMMARY:Atelier Scrapbooking de Paște
DESCRIPTION:Atelier Scrapbooking de Paște – Ateliere de scrapbooking pentru tine si familia/prietenii tai – pentru conectare si exprimare prin creativitate. N-ai nevoie de experienta – doar de curiozitate si prezenta. \n2 aprilie 2026\, ora 18:00\,  Cafeneaua 12Doispe – la etaj \nParticipare: 199 lei (1 părinte + 1 copil) \nCum se desfasoara atelierul\n Durata: 1\,5 – 2 ore\n Ce cream: felicitari\, pagini de scrapbooking\, mini-albume\, folio-uri\n Materiale incluse: carton\, hartie de scrapbooking si decoratiuni premium\, atent alese\n Aduceti voi: creion\, rigla\, foarfeca\, banda dublu-adeziva si…mult entuziasm\n Format: ateliere fizice\, grupuri restranse (8–20 persoane)\n Varsta: 6+ ani \n–– \nIn ritmul alert al vietii de azi\, copiii si parintii traiesc unii in prezenta celorlalti\, dar din ce in ce mai rar unii cu ceilalti\, cu adevarat prezenti. Aceste ateliere au fost create tocmai pentru a oferi o ocazie\, un spatiu sigur\, creativ si calm in care timpul incetineste\, presiunea dispare\, iar conexiunea se mentine natural. \nAtelierele de scrapbooking imbina creatia handmade cu mindfulness-ul informal\, oferind copiilor si parintilor o experienta profunda de prezenta\, bucurie si apropiere emotionala. Nu este vorba despre talent artistic sau rezultate perfecte\, ci despre proces\, despre a fi impreuna\, a crea impreuna si a construi amintiri care raman. \nCreativitatea devine aici o forma de calm. O invitatie de a atinge hartia\, de a simti texturile si a savura culorile\, pe de o parte\, si de a respira\, a ne lasa gandurile sa se aseze\, a fi prezent\, de alta parte.
URL:https://craiovalive.ro/eveniment/atelier-scrapbooking-de-paste/
LOCATION:Dolj
CATEGORIES:Ateliere,Evenimente pentru copii
ATTACH;FMTTYPE=image/jpeg:https://craiovalive.ro/wp-content/uploads/2026/03/Ateliere-Scrapbooking-Craiova.jpg
END:VEVENT
BEGIN:VEVENT
DTSTART;TZID=Europe/Bucharest:20260404T180000
DTEND;TZID=Europe/Bucharest:20260404T190000
DTSTAMP:20260424T015320
CREATED:20241205T165832Z
LAST-MODIFIED:20260330T114750Z
UID:10002548-1775325600-1775329200@craiovalive.ro
SUMMARY:Albă ca Zăpada
DESCRIPTION:Albă ca Zăpada (3+)\nDupă Frații Grimm\nScenariul și regia: Cristian Pepino\nScenografia: Remus Gabor și Raluca Aionițoaie\nMuzica: Marin Fagu\nDistribuția: Andreea Ionescu\, Geo Dinescu\, Oana Stancu\, Marin Fagu\, Cosmin Dolea\, Daniel Mirea\, Ionica Dobrescu\, Adriana Ioncu\, Robert Iovan\, Emanuel Popescu\, Alis Ianoș.\n\n\nSpectacolul Albă ca Zăpada își propune să fie o versiune contemporană a celebrului basm\, fiindu-i acordată o atenție deosebita motivațiilor personajelor. Astfel\, Maștera este preocupata de faptul ca îmbătrânește\, și va apela ca remediu la inima frumoasei Alba ca Zăpadă. Vânătorul\, care va fi vrăjit ca să execute acest act sinistru\, va scapă de vraja în mod întâmplător și o va ajuta pe protagonista să se salveze. Diferitele ipostaze în care Maștera va încerca să îi răpească viată frumoasei protagoniste vor fi bine diferențiate cu ajutorul efectelor scenice specifice teatrului de animație. Va fi un spectacol care îi va bucura pe micii spectatori prin cântece\, muzica și situații scenice și rezolvări interesante cu ajutorul proiecțiilor video.\n\n\n Preț bilet: 13 lei / pers.\n Biletele se pot procura de la Agenţia Teatrului Colibri\, astfel: luni în intervalul orar 09:00 – 17:00\, joi și vineri între 08:00 – 12:00 / 16:00 – 20:00\, sâmbătă între 09:00 – 13:00 / 15:00 – 19:00\, iar duminică între 10:00 – 13:00. Marți și miercuri agenția este închisă!\nMai multe informații se pot obține la tel.: 0251.412.473.\nDupă începerea spectacolelor\, accesul în sală nu mai este permis! Persoanele care au bilete și întârzie le pot reprograma la următoarele spectacole.
URL:https://craiovalive.ro/eveniment/alba-ca-zapada/
LOCATION:Teatrul pentru copii și tineret Colibri\, Calea București\, nr. 56\, Craiova\, Dolj\, România
CATEGORIES:Evenimente pentru copii
ATTACH;FMTTYPE=image/jpeg:https://craiovalive.ro/wp-content/uploads/2024/12/Alba-ca-Zapada-Teatrul-Colibri-Craiova.jpg
ORGANIZER;CN="Teatrul pentru copii si tineret Colibri":MAILTO:contact@teatrulcolibri.ro
GEO:44.3151148;23.8215842
X-APPLE-STRUCTURED-LOCATION;VALUE=URI;X-ADDRESS=Teatrul pentru copii și tineret Colibri Calea București nr. 56 Craiova Dolj România;X-APPLE-RADIUS=500;X-TITLE=Calea București\, nr. 56:geo:23.8215842,44.3151148
END:VEVENT
BEGIN:VEVENT
DTSTART;TZID=Europe/Bucharest:20260405T110000
DTEND;TZID=Europe/Bucharest:20260405T120000
DTSTAMP:20260424T015320
CREATED:20231220T232906Z
LAST-MODIFIED:20260330T114845Z
UID:10003383-1775386800-1775390400@craiovalive.ro
SUMMARY:Pupăza din tei
DESCRIPTION:Pupăza din Tei (3+)\nScenariul și regia Cristian Mitescu\nScenografia Eugenia Tărășescu-Jianu\nOrchestrația muzicală Viorel Andrinoiu\nAsistent de regie și coregrafia Ionuț Sergiu Anghel\nDistribuția: Marin Fagu\, Andreea Ionescu\, Adriana Ioncu\, Oana Stancu\nPreț bilet: 13 lei / pers.\nBiletele se pot procura de la Agenţia Teatrului Colibri\, astfel: luni în intervalul orar 09:00 – 17:00\, joi și vineri între 08:00 – 12:00 / 16:00 – 20:00\, sâmbătă între 09:00 – 13:00 / 15:00 – 19:00\, iar duminică între 10:00 – 13:00. Marți și miercuri agenția este închisă! Mai multe informații se pot obține la tel: 0251.412.473.\n După începerea spectacolului\, accesul în sală nu mai este permis! Persoanele care au bilete și întârzie le pot reprograma la următoarele spectacole.
URL:https://craiovalive.ro/eveniment/pupaza-din-tei/
LOCATION:Teatrul pentru copii și tineret Colibri\, Calea București\, nr. 56\, Craiova\, Dolj\, România
CATEGORIES:Evenimente pentru copii,Teatru
ATTACH;FMTTYPE=image/jpeg:https://craiovalive.ro/wp-content/uploads/2023/12/Pupaza-din-tei.jpg
ORGANIZER;CN="Teatrul pentru copii si tineret Colibri":MAILTO:contact@teatrulcolibri.ro
GEO:44.3151148;23.8215842
X-APPLE-STRUCTURED-LOCATION;VALUE=URI;X-ADDRESS=Teatrul pentru copii și tineret Colibri Calea București nr. 56 Craiova Dolj România;X-APPLE-RADIUS=500;X-TITLE=Calea București\, nr. 56:geo:23.8215842,44.3151148
END:VEVENT
END:VCALENDAR