BEGIN:VCALENDAR
VERSION:2.0
PRODID:-//Craiova Live - ECPv6.15.18//NONSGML v1.0//EN
CALSCALE:GREGORIAN
METHOD:PUBLISH
X-WR-CALNAME:Craiova Live
X-ORIGINAL-URL:https://craiovalive.ro
X-WR-CALDESC:Evenimente pentru Craiova Live
REFRESH-INTERVAL;VALUE=DURATION:PT1H
X-Robots-Tag:noindex
X-PUBLISHED-TTL:PT1H
BEGIN:VTIMEZONE
TZID:Europe/Bucharest
BEGIN:DAYLIGHT
TZOFFSETFROM:+0200
TZOFFSETTO:+0300
TZNAME:EEST
DTSTART:20250330T010000
END:DAYLIGHT
BEGIN:STANDARD
TZOFFSETFROM:+0300
TZOFFSETTO:+0200
TZNAME:EET
DTSTART:20251026T010000
END:STANDARD
BEGIN:DAYLIGHT
TZOFFSETFROM:+0200
TZOFFSETTO:+0300
TZNAME:EEST
DTSTART:20260329T010000
END:DAYLIGHT
BEGIN:STANDARD
TZOFFSETFROM:+0300
TZOFFSETTO:+0200
TZNAME:EET
DTSTART:20261025T010000
END:STANDARD
BEGIN:DAYLIGHT
TZOFFSETFROM:+0200
TZOFFSETTO:+0300
TZNAME:EEST
DTSTART:20270328T010000
END:DAYLIGHT
BEGIN:STANDARD
TZOFFSETFROM:+0300
TZOFFSETTO:+0200
TZNAME:EET
DTSTART:20271031T010000
END:STANDARD
END:VTIMEZONE
BEGIN:VEVENT
DTSTART;VALUE=DATE:20260320
DTEND;VALUE=DATE:20260328
DTSTAMP:20260424T031636
CREATED:20260317T163329Z
LAST-MODIFIED:20260317T163329Z
UID:10014363-1773964800-1774655999@craiovalive.ro
SUMMARY:Săptămâna Teatrului – ediția a XIII-a
DESCRIPTION:Teatrul Colibri\, în sărbătoare în perioada 20-27 martie \n Teatrul pentru copii și tineret Colibri vă invită\, în perioada 20-27 martie 2026\, la spectacole de teatru\, folclor\, expoziții de fotografie\, păpuși și holograme\, în cadrul proiectului Săptămâna Teatrului – ediția a XIII-a. Derulate pe parcursul a opt zile\, evenimentele marchează patru mari sărbători: Ziua Internațională a Teatrului pentru Copii și Tineret (20 martie)\, Ziua Internațională a Marionetiștilor și Păpușarilor (21 martie)\, Ziua Mondială a Teatrului (27 martie) și Ziua Olteniei. \nSăptămâna Teatrului se sărbătorește la Teatrul Colibri încă din anul 2014. \nÎn 2017\, organizațiile Asociația Internațională a Teatrelor pentru Copii și Tineret (ASSITEJ)\, Uniunea Internațională a Marionetiștilor (UNIMA) și Institutul Internațional de Teatru (ITI) au reunit cele trei sărbători sub genericul Săptămâna Mondială a Teatrului. \nSăptămâna Teatrului va debuta la Colibri vineri\, 20 martie\, ora 10:30\, chiar de Ziua Internațională a Teatrului pentru Copii și Tineret\, cu spectacolul „Aladin”\, scenariul reinterpretat în versuri de Andreea Radu\, regia și muzica originală – Apostolache Kiss Zeno\, scenografia și păpușile – Tomos Tünde\, sand-art Alice Bratu\, cu actorii: Marin Fagu\, Emanuel Popescu\, Oana Stancu\, Alis Ianoș\, Cosmin Dolea\, Adriana Ioncu\, Ionica Dobrescu\, Daniel Mirea. \nSpectacolul este o poveste amuzantă\, educativă\, muzicală\, foarte atractivă\, o metodă artistică de descoperire a poveștilor universale. \nPROGRAM Săptămâna Teatrului – ediția a XIII-a:\n19-22 martie\, orele 10:00 – 18:00\, foaierul Teatrului Național „Marin Sorescu” \n– Expoziția holografică „Oltenia în oglindă” \n  \n19-26 martie: luni\, joi\, vineri și sâmbătă – orele 09:00 – 13:00 / 15:00 – 19:00; duminică – orele 10:00 – 13:00\, foaierul Teatrului Colibri \n– Expoziția „Femeia – poezia universului”\, Asociația Artiștilor Fotografi Dacia Malvensis – Oltenia \n  \nVineri\, 20 martie – ZIUA INTERNAȚIONALĂ A TEATRULUI PENTRU COPII ȘI TINERET\, ora 10:30\, sala mare a Teatrului pentru copii și tineret Colibri \n– Spectacolul „Aladin” (3+)\, regia Apostolache Kiss Zeno \n  \n20-27 martie: luni\, joi\, vineri și sâmbătă – orele 09:00 – 13:00 / 15:00 – 19:00; duminică – orele 10:00 – 13:00\, foaierul Teatrului Colibri \n– Expoziția „Memoria Păpușilor: Retrospectiva Cristian Pepino” \n  \nSâmbătă\, 21 martie – ZIUA INTERNAȚIONALĂ A MARIONETIȘTILOR ȘI PĂPUȘARILOR\, ora 18:00\, sala studio a Teatrului pentru copii și tineret Colibri \n– Spectacolul interactiv „Piticul Picior Șchiop” (3+)\, regia Adriana Ioncu \n  \nSâmbătă\, 21 martie – ZIUA OLTENIEI\, ora 19:00\, sala mare a Teatrului Național „Marin Sorescu” \n– Spectacolul „Craiova interbelică”\, regia Gabriela Păsărin \n  \nDuminică\, 22 martie\, ora 11:00\, sala mare a Teatrului pentru copii și tineret Colibri \n– Spectacolul „Dănilă Prepeleac” (5+)\, regia Valentin Dobrescu \n  \nMiercuri\, 25 martie\, ora 10:30\, sala mare a Teatrului pentru copii și tineret Colibri \n– Spectacolul „Prințul Broască” (3+)\, regia Todor Valov \n  \nJoi\, 26 martie\, ora 10:30\, sala mare a Teatrului pentru copii și tineret Colibri \n– Spectacolul „Aladin” (3+)\, regia Apostolache Kiss Zeno \n  \nVineri\, 27 martie – ZIUA MONDIALĂ A TEATRULUI\, ora 10:30\, sala mare a Teatrului pentru copii și tineret Colibri \n– Spectacolul „Aladin” (3+)\, regia Apostolache Kiss Zeno \n  \nBiletele se pot procura de la Agenţia Teatrului Colibri\, astfel: luni în intervalul orar 09:00 – 17:00\, joi și vineri între 08:00 – 12:00 / 16:00 – 20:00\, sâmbătă între 09:00 – 13:00 / 15:00 – 19:00\, iar duminică între 10:00 – 13:00. Marți și miercuri\, între orele 09:00 – 16:00\, biletele se pot procura de la casieria Teatrului Colibri (etajul 1).  \nMai multe informații se pot obține la tel.: 0251.412.473. \nDupă începerea spectacolelor\, accesul în sală nu mai este permis! Persoanele care au bilete și întârzie le pot reprograma la următoarele spectacole.
URL:https://craiovalive.ro/eveniment/saptamana-teatrului-editia-a-xiii-a/
LOCATION:Locații multiple\, Craiova\, Dolj\, România
CATEGORIES:Evenimente pentru copii,Expoziție,Muzică,Teatru
ATTACH;FMTTYPE=image/jpeg:https://craiovalive.ro/wp-content/uploads/2026/03/Saptamana-Teatrului-mic.jpg
ORGANIZER;CN="Teatrul pentru copii si tineret Colibri":MAILTO:contact@teatrulcolibri.ro
GEO:44.3301785;23.7948808
END:VEVENT
BEGIN:VEVENT
DTSTART;TZID=Europe/Bucharest:20260320T130000
DTEND;TZID=Europe/Bucharest:20260320T140000
DTSTAMP:20260424T031636
CREATED:20260316T171515Z
LAST-MODIFIED:20260316T171810Z
UID:10014347-1774011600-1774015200@craiovalive.ro
SUMMARY:Șezătoare Oltenească
DESCRIPTION:Ziua Olteniei 2026 \n VINERI\, 20 MARTIE \nCasa Băniei\n 13:00\n– Șezătoare Oltenească: ateliere interactive pentru copii cu tehnici tradiționale de cusut\, brodat\, încondeiat ouă\, olărit și realizarea obiectelor din lemn și paie\n\nCentrul Județean de Cultură și Artă Dolj – Școala Populară de Artă și Meserii „Cornetti” și Muzeul Olteniei
URL:https://craiovalive.ro/eveniment/sezatoare-olteneasca/
LOCATION:Muzeul Olteniei – Secția de Etnografie – Casa Băniei\, Str. Matei Basarab\, nr. 16\, Craiova\, Dolj\, România
CATEGORIES:Ateliere,Evenimente pentru copii
ATTACH;FMTTYPE=image/jpeg:https://craiovalive.ro/wp-content/uploads/2026/03/Sezatoare-Olteneasca.jpg
ORGANIZER;CN="Muzeul Olteniei Craiova":MAILTO:muzeulolteniei@yahoo.com
GEO:44.314586;23.7922682
X-APPLE-STRUCTURED-LOCATION;VALUE=URI;X-ADDRESS=Muzeul Olteniei – Secția de Etnografie – Casa Băniei Str. Matei Basarab nr. 16 Craiova Dolj România;X-APPLE-RADIUS=500;X-TITLE=Str. Matei Basarab\, nr. 16:geo:23.7922682,44.314586
END:VEVENT
BEGIN:VEVENT
DTSTART;TZID=Europe/Bucharest:20260320T130000
DTEND;TZID=Europe/Bucharest:20260320T140000
DTSTAMP:20260424T031636
CREATED:20260316T172238Z
LAST-MODIFIED:20260316T172238Z
UID:10014349-1774011600-1774015200@craiovalive.ro
SUMMARY:Tradiție pe podium - Mini-prezentare de modă cu costume tradiționale oltenești
DESCRIPTION:Ziua Olteniei 2026 \n VINERI\, 20 MARTIE \nCasa Băniei\n 13:00\n– Tradiție pe podium – Mini-prezentare de modă cu costume tradiționale oltenești\, pusă în scenă de elevii clasei de modeling \nCentrul Județean de Cultură și Artă Dolj – Școala Populară de Artă și Meserii „Cornetti” și Muzeul Olteniei
URL:https://craiovalive.ro/eveniment/traditie-pe-podium-mini-prezentare-de-moda-cu-costume-traditionale-oltenesti/
LOCATION:Muzeul Olteniei – Secția de Etnografie – Casa Băniei\, Str. Matei Basarab\, nr. 16\, Craiova\, Dolj\, România
CATEGORIES:Evenimente pentru copii
ATTACH;FMTTYPE=image/jpeg:https://craiovalive.ro/wp-content/uploads/2026/03/Traditie-pe-podium-Mini-prezentare-de-moda-cu-costume-traditionale-oltenesti.jpg
ORGANIZER;CN="Centrul Jude%C8%9Bean de Cultur%C4%83 %C8%99i Art%C4%83 Dolj":MAILTO:cjcadolj@yahoo.com
GEO:44.314586;23.7922682
X-APPLE-STRUCTURED-LOCATION;VALUE=URI;X-ADDRESS=Muzeul Olteniei – Secția de Etnografie – Casa Băniei Str. Matei Basarab nr. 16 Craiova Dolj România;X-APPLE-RADIUS=500;X-TITLE=Str. Matei Basarab\, nr. 16:geo:23.7922682,44.314586
END:VEVENT
BEGIN:VEVENT
DTSTART;TZID=Europe/Bucharest:20260321T170000
DTEND;TZID=Europe/Bucharest:20260321T183000
DTSTAMP:20260424T031636
CREATED:20260307T214749Z
LAST-MODIFIED:20260330T115609Z
UID:10014123-1774112400-1774117800@craiovalive.ro
SUMMARY:Zâna păpușilor
DESCRIPTION:Zâna Păpușilor \nBaletul „Zâna Păpușilor” de Josef Bayer\, îndrăgit atât de cei mici\, cât și de iubitorii de frumos de toate vârstele\, revine în fața publicului craiovean într-o montare de o delicatețe aparte\, în care grația dansului clasic se întâlnește cu bucuria copilăriei. Regia artistică și coregrafia poartă semnătura lui Francisc Valkay\, iar scenografia este realizată de Răsvan Drăgănescu. \nAcțiunea se desfășoară în Viena anului 1888\, într-un fermecător magazin de păpuși. Rolul Zânei este interpretat de Olguța Ilie\, distribuția fiind completată de artiștii Anca Țecu\, Robert Vladu\, Loredana Nicola\, Alexandru Chera\, Andreea Segărceanu\, Say Ufuk Gengis\, Amina Almahadin\, Laurențiu Nicu\, Răzvan Segărceanu\, Alina Onofrei\, Ruxandra Andruță\, Raluca Mocanu\, Răzvan Zamfir\, Alexandra Iordache\, Mihai Bălăceanu\, Ansamblul de Balet al Operei Române Craiova și Școala de Balet Attitude. \nPreț: \n\nBilet Adult – 40 RON \nBilet Copil – 20 RON \nInformații suplimentare: \n0351.442.471 \nDistribuția: \nZâna păpușilor – Olguța Ilie \nUcenicul – Anca Țecu \nProprietarul – Robert Vladu \nColombina – Loredana Nicola \nArlechinul – Alexandru Chera \nAristocrata – Andreea Segărceanu \nAristocratul – Say Ufuk Gengis \nȚăranca – Amina Almahadin \nȚăran/General – Laurențiu Nicu \nPăpușa stricată – Răzvan Segărceanu \nPăpușa chinezească – Alina Onofrei \nPăpușa japoneză – Ruxandra Andruță \nPerechea de tiroleză – Raluca Mocanu și Răzvan Zamfir \nDans spaniol – Alexandra Iordache și Mihai Bălăceanu \nAnsamblul de Balet al Operei Române Craiova \nȘcoala de Balet Attitude \nRegia artistică și coregrafia: Francisc Valkay \nAsistent regie artistică și coregrafie: Erna Marin \nScenografia: Răsvan Drăgănescu \nTABLOUL I \nAcțiunea se petrece în anul 1888 la Viena\, într-un magazin de păpuși „Kärntnerstrasse”. Proprietarul acestui magazin\, un negustor tipic\, oferea păpuși rare\, cu calități artistice. În magazin avea ca ajutor o calfă plină de servilism și un tânăr ucenic. Un factor aduce corespondența\, un comisar marfă\, iar printre aceștia se strecoară și o fetiță cu păpușa ei stricată\, rugându-l pe proprietar să i-o repare. Dar patronul refuză cererea fetiței\, pe motiv că ea nu are bani. Întristată\, fetița vrea să plece\, dar ucenicul se apropie pe ascuns și ii promite că va repara el păpușa după închiderea magazinului. \nÎn magazin intră o pereche de țărani\, care vin pentru prima dată în oraș și\, privind în vitrină\, rămân uimiți de luxul păpușilor expuse. \nDar iată că proprietarul face plecăciuni. Cui? Desigur\, unei familii bogate de englezi\, care intră în magazin. Patronul și calfa speră la o afacere bună\, oferă serviabili păpușile spre vânzare\, în timp ce ucenicul râde de figurile caraghioase ale englezilor. Păpușa prezentată de patron nu funcționează. Supărat\, acesta aruncă vina pe ucenic. \nDecepționați\, englezii vor să părăsească magazinul\, dar proprietarul\, insistent\, îi roagă să mai rămână\, pentru a-i determina să cumpere o păpușă foarte scumpă. În tot acest timp\, țăranii care au asistat la scena de mai sus\, numărându-și puținii bani\, se mulțumesc să cumpere doar o păpușă mică. \nProprietarul închide magazinul\, ucenicul însă se furișează din nou înăuntru și repară pe ascuns păpușa fetiței. \nTABLOUL II \nUcenicul lucrează noaptea\, pentru a repara păpușa. Obosit\, adoarme… În visul său\, păpușile care pentru el nu înseamnă marfă\, ci opere de artă și știință\, îl trezesc la viață. \nPe favorita sa – Zâna păpușilor – o vede ca pe stăpâna păpușilor. Din toate colțurile apar cele mai frumoase păpuși\, care dansează. Bucuria acestei serbări este întreruptă de apariția păpușii care a dat greș când a fost oferită familiei de englezi și din cauza căreia tânărul ucenic a fost pedepsit\, păpușă care se arată cu o figură amenințătoare. \nUcenicul vrea să fugă\, dar cum se întâmplă întotdeauna în vis…abia poate să se miște din loc. Păpușile îi vin în ajutor\, închizând păpușa stricată în cutia ei\, iar serbarea continuă. Deodată se face întuneric\, iar tânărul se trezește șezând pe podea. Dezamăgit\, își dă seama că totul a fost numai un vis. Între timp s-a făcut ziuă și fetița bate la fereastra magazinului. \nVesel\, tânărul ucenic îi arată că și-a ținut promisiunea\, reparându-i păpușa. \n* Francisc Valkay – coregraf
URL:https://craiovalive.ro/eveniment/zana-papusilor/2026-03-21/
LOCATION:Cercul Militar Craiova\, Str. Marin Sorescu\, nr. 2\, Craiova\, Dolj\, 200642\, România
CATEGORIES:Evenimente pentru copii
ATTACH;FMTTYPE=image/webp:https://craiovalive.ro/wp-content/uploads/2026/03/Zana-Papusilor-aprilie-2026.webp
ORGANIZER;CN="Opera Rom%C3%A2n%C4%83 Craiova":MAILTO:rezervari@operacraiova.ro
GEO:44.308454;23.7956757
X-APPLE-STRUCTURED-LOCATION;VALUE=URI;X-ADDRESS=Cercul Militar Craiova Str. Marin Sorescu nr. 2 Craiova Dolj 200642 România;X-APPLE-RADIUS=500;X-TITLE=Str. Marin Sorescu\, nr. 2:geo:23.7956757,44.308454
END:VEVENT
BEGIN:VEVENT
DTSTART;TZID=Europe/Bucharest:20260321T180000
DTEND;TZID=Europe/Bucharest:20260321T190000
DTSTAMP:20260424T031636
CREATED:20260307T220316Z
LAST-MODIFIED:20260307T220316Z
UID:10014147-1774116000-1774119600@craiovalive.ro
SUMMARY:Piticul Picior-Șchiop
DESCRIPTION:Piticul Picior-Șchiop (3+) \nTeatru interactiv la Sala Studio\, cu actorii: Adriana Ioncu și Emanuel Popescu
URL:https://craiovalive.ro/eveniment/piticul-picior-schiop/
LOCATION:Teatrul pentru copii și tineret Colibri\, Calea București\, nr. 56\, Craiova\, Dolj\, România
CATEGORIES:Evenimente pentru copii
ATTACH;FMTTYPE=image/jpeg:https://craiovalive.ro/wp-content/uploads/2025/04/Teatrul-Colibri-Craiova-Program-spectacole-martie-2026.jpg
ORGANIZER;CN="Teatrul pentru copii si tineret Colibri":MAILTO:contact@teatrulcolibri.ro
GEO:44.3151148;23.8215842
X-APPLE-STRUCTURED-LOCATION;VALUE=URI;X-ADDRESS=Teatrul pentru copii și tineret Colibri Calea București nr. 56 Craiova Dolj România;X-APPLE-RADIUS=500;X-TITLE=Calea București\, nr. 56:geo:23.8215842,44.3151148
END:VEVENT
BEGIN:VEVENT
DTSTART;TZID=Europe/Bucharest:20260322T110000
DTEND;TZID=Europe/Bucharest:20260322T120000
DTSTAMP:20260424T031636
CREATED:20231210T205247Z
LAST-MODIFIED:20260301T230505Z
UID:10003322-1774177200-1774180800@craiovalive.ro
SUMMARY:Dănilă Prepeleac
DESCRIPTION:DĂNILĂ PREPELEAC\nde Ion Creangă\nAdaptare\, dramatizare și regie: Valentin Dobrescu\nScenografia: Mihai Pastramagiu\nMuzica: Alin Macovei – Moraru\nDistribuția: Marin Fagu\, Ionica Dobrescu\, Alla Cebotari\, Oana Stancu\, Daniel Mirea\, Cosmin Dolea\n Biletele se pot procura de la Agenţia Teatrului Colibri\, tel.: 0251.412.473. Preț bilet: 13 lei / pers.\n\n După ora începerii spectacolelor\, accesul în sală nu mai este permis! Persoanele care au bilete și întârzie le pot reprograma la următoarele spectacole.
URL:https://craiovalive.ro/eveniment/danila-prepeleac/
LOCATION:Teatrul pentru copii și tineret Colibri\, Calea București\, nr. 56\, Craiova\, Dolj\, România
CATEGORIES:Evenimente pentru copii,Teatru
ATTACH;FMTTYPE=image/png:https://craiovalive.ro/wp-content/uploads/2023/12/Danila-Prepeleac-Teatrul-Colibri-Craiova.png
ORGANIZER;CN="Teatrul pentru copii si tineret Colibri":MAILTO:contact@teatrulcolibri.ro
GEO:44.3151148;23.8215842
X-APPLE-STRUCTURED-LOCATION;VALUE=URI;X-ADDRESS=Teatrul pentru copii și tineret Colibri Calea București nr. 56 Craiova Dolj România;X-APPLE-RADIUS=500;X-TITLE=Calea București\, nr. 56:geo:23.8215842,44.3151148
END:VEVENT
END:VCALENDAR