BEGIN:VCALENDAR
VERSION:2.0
PRODID:-//Craiova Live - ECPv6.15.18//NONSGML v1.0//EN
CALSCALE:GREGORIAN
METHOD:PUBLISH
X-ORIGINAL-URL:https://craiovalive.ro
X-WR-CALDESC:Evenimente pentru Craiova Live
REFRESH-INTERVAL;VALUE=DURATION:PT1H
X-Robots-Tag:noindex
X-PUBLISHED-TTL:PT1H
BEGIN:VTIMEZONE
TZID:Europe/Bucharest
BEGIN:DAYLIGHT
TZOFFSETFROM:+0200
TZOFFSETTO:+0300
TZNAME:EEST
DTSTART:20250330T010000
END:DAYLIGHT
BEGIN:STANDARD
TZOFFSETFROM:+0300
TZOFFSETTO:+0200
TZNAME:EET
DTSTART:20251026T010000
END:STANDARD
BEGIN:DAYLIGHT
TZOFFSETFROM:+0200
TZOFFSETTO:+0300
TZNAME:EEST
DTSTART:20260329T010000
END:DAYLIGHT
BEGIN:STANDARD
TZOFFSETFROM:+0300
TZOFFSETTO:+0200
TZNAME:EET
DTSTART:20261025T010000
END:STANDARD
BEGIN:DAYLIGHT
TZOFFSETFROM:+0200
TZOFFSETTO:+0300
TZNAME:EEST
DTSTART:20270328T010000
END:DAYLIGHT
BEGIN:STANDARD
TZOFFSETFROM:+0300
TZOFFSETTO:+0200
TZNAME:EET
DTSTART:20271031T010000
END:STANDARD
END:VTIMEZONE
BEGIN:VEVENT
DTSTART;TZID=Europe/Bucharest:20260313T183000
DTEND;TZID=Europe/Bucharest:20260313T203000
DTSTAMP:20260424T031718
CREATED:20260307T221218Z
LAST-MODIFIED:20260307T221218Z
UID:10014148-1773426600-1773433800@craiovalive.ro
SUMMARY:Cineplexx Classics Kids: Luca
DESCRIPTION:Cineplexx Classics prezintă: Luca \n Pe 13 martie de la ora 18:30 se vede pe marile ecrane filmul Luca la un preț special de doar 12 lei/biletul! \n Luca\, un băiețel simpatic\, trăiește o vară de neuitat pe Riviera italiană\, plină de gelato\, paste și nenumărate plimbări pe scuter. \nLuca împărtășește aceste aventuri cu noul său cel mai bun prieten\, dar toată distracția este amenințată de un secret profund ținut: el este un monstru marin dintr-o altă lume\, chiar de sub suprafața oceanului. \n 2D DUBLAT ÎN LIMBA ROMÂNĂ \nMagia revine pe marele ecran: animația dublată „Luca” se vede pe 13 martie la Cineplexx Classics Kids \n\nCe se întâmplă atunci când trecutul își face din nou auzită vocea? Pe 13 martie\, de la ora 18:30\, Cineplexx Classics Kids îți propune să revizitezi Riviera italiană\, într-o proiecție specială a filmului Luca\, o poveste despre prieteni de nedespărțit\, acceptare și aventurile copilăriei.\n\nPe 13 martie\, de la ora 18:30\, Cineplexx Classics Kids invită copiii și părinții la o reîntâlnire cu una dintre cele mai îndrăgite animații produse de renumitele studiouri Disney-Pixar. Luca poate fi văzut din nou la cinema\, într-o proiecție specială dedicată întregii familii\, cu filmul dublat în limba română\, la prețul unic de doar 12 lei/bilet. \nLuca Paguro\, un băiețel simpatic\, trăiește o vară de neuitat într-un orășel de pe Riviera Italiană și împărtășește toate aventurile cu noul său cel mai bun prieten Alberto Scorfano. Dar toată distracția este amenințată de un secret profund ținut: el este un monstru marin dintr-o altă lume\, chiar de sub suprafața oceanului. \nRegizorul Enrico Casarosa a descris povestea filmului ca fiind una profund personală\, care celebrează prieteniile din copilărie care ne influențează personalitatea pe măsură ce creștem. Mai mult de atât\, filmul animat Luca este despre identitate\, prejudecăți și acceptare. \nGelato\, paste\, întreceri pe scutere Vespa\, plajă…orașul fictiv Portorosso imbină cu nostalgie și ingeniozitate artistică cele mai frumoase atracții alte unui oraș de pe coasta Italiei și ne duce cu gândul la verile lungi din copilărie. Cadrele sunt pline de culori vibrante\, astfel încât scenele de la suprafață cât și cele de la fundul mării îi poartă pe spectatori într-o călătorie deopotrivă familiară și plină de descoperiri inedite. \n\nȘtiai că….\nEnrico Casarosa\, regizorul\, a fost inspirat de cinematografia italiană din anii ’50 și ’60\, cu precădere filmele lui Federico Fellini?\nAspectul monștrilor marini este inspirat din sculpturile de pe fântânile\, băncile sau mozaicurile pe care le poți vedea și astăzi în Italia?\nAtunci când Luca se află în apă și este monstru marin\, are în total 3\,436 solzi desenați de animatorii Pixar?\nPentru înotul monștrilor\, echipa de producție a studiat cum se deplasează iguanele prin apă pentru a conferi animației realism?\nDacă transformarea lui Luca din monstru marin în om și invers îți aduce aminte de Mystique din filmele X-Men\, nu e o coincidență – efectul special respectiv a fost studiat ca referință.\n\nCineplexx Classics Kids propune o experiență de cinema accesibilă și de calitate\, gândită special pentru familii. Vizionarea pe marele ecran amplifică emoția poveștii\, muzica și detaliile vizuale\, transformând filmul într-un moment de conectare între generații. \nProiecția specială din 13 martie\, ora 18:30\, reprezintă o oportunitate ideală de a vedea sau revedea Luca pe marele ecran\, într-o experiență de cinema care pune accent pe timpul petrecut împreună. Iar prețul este imbatabil – doar 12 lei/bilet!
URL:https://craiovalive.ro/eveniment/cineplexx-classics-kids-luca/
LOCATION:Promenada Mall\, Calea Severinului 61\, Craiova\, Dolj\, România
CATEGORIES:Evenimente pentru copii,Film
ATTACH;FMTTYPE=image/jpeg:https://craiovalive.ro/wp-content/uploads/2026/03/Cineplexx-Classic-Kids-Luca.jpg
GEO:44.3487242;23.7559265
X-APPLE-STRUCTURED-LOCATION;VALUE=URI;X-ADDRESS=Promenada Mall Calea Severinului 61 Craiova Dolj România;X-APPLE-RADIUS=500;X-TITLE=Calea Severinului 61:geo:23.7559265,44.3487242
END:VEVENT
BEGIN:VEVENT
DTSTART;TZID=Europe/Bucharest:20260314T110000
DTEND;TZID=Europe/Bucharest:20260314T123000
DTSTAMP:20260424T031718
CREATED:20260115T141050Z
LAST-MODIFIED:20260115T141050Z
UID:10012891-1773486000-1773491400@craiovalive.ro
SUMMARY:Muzicanții din Bremen
DESCRIPTION:MUZICANTII DIN BREMEN    \n\nCasa de Cultura a Studentilor Craiova \n14 Martie 2026 ora 11:00 \n\nUn măgăruș\, o pisicuță\, un câine și un cocoș aflați în pragul bătrâneții\, se lovesc de răutatea stăpânilor lor care\, considerându-i inutili\, îi alungă din ogradă. Astfel\, nevoit să își câștige cumva existența\, măgărușul hotărăște să plece la Bremen pentru a deveni muzicant. În drumul său îi întâlnește pe ceilalți trei și îi convinge să îl însoțească și să își încerce împreună norocul formând o trupa de muzicanți.\nÎn calea lor spre destinul artistic mult visat întâlnesc o casă părăsită dar locuită fără drept de niște hoți. Oare ce vor face în această situatie? Ce se va întâmpla cu muzicanții noștri? Și oare ce se va întampla cu hoții?  Ce mister… ce  aventură …ce distracție …!!!!
URL:https://craiovalive.ro/eveniment/muzicantii-din-bremen/
LOCATION:Casa de Cultură a Studenților Craiova\, Str. Eugeniu Carada\, nr. 10\, Craiova\, Dolj\, 200390\, România
CATEGORIES:Evenimente pentru copii
ATTACH;FMTTYPE=image/png:https://craiovalive.ro/wp-content/uploads/2026/01/Muzicantii-din-Bremen.png
GEO:44.3158109;23.8003284
X-APPLE-STRUCTURED-LOCATION;VALUE=URI;X-ADDRESS=Casa de Cultură a Studenților Craiova Str. Eugeniu Carada nr. 10 Craiova Dolj 200390 România;X-APPLE-RADIUS=500;X-TITLE=Str. Eugeniu Carada\, nr. 10:geo:23.8003284,44.3158109
END:VEVENT
BEGIN:VEVENT
DTSTART;TZID=Europe/Bucharest:20260314T180000
DTEND;TZID=Europe/Bucharest:20260314T193000
DTSTAMP:20260424T031718
CREATED:20231026T184713Z
LAST-MODIFIED:20260301T230253Z
UID:10001078-1773511200-1773516600@craiovalive.ro
SUMMARY:Elefănțelul curios
DESCRIPTION:ELEFĂNȚELUL CURIOS (3+) \ndupă Rudyard Kipling\nScenariul și regia: Geo Balint\nScenografia: Tomos Tunde\nMuzica și versurile: Marin Fagu\nDistribuția: Oana Stancu\, Geo Dinescu\, Robert Iovan\, Adriana Ioncu\, Daniel Mirea\, Alla Cebotari\, Marin Fagu\, Ionica Dobrescu\, Cosmin Dolea\n\n\n Biletele se pot procura de la Agenția Teatrului Colibri\, tel.: 0251.412.473.\nPreț bilet: 13 lei / pers.\n După începerea spectacolului\, accesul în sală nu mai este permis! Persoanele care au bilete și întârzie le pot reprograma.
URL:https://craiovalive.ro/eveniment/elefantelul-curios/
LOCATION:Teatrul pentru copii și tineret Colibri\, Calea București\, nr. 56\, Craiova\, Dolj\, România
CATEGORIES:Evenimente pentru copii,Teatru
ATTACH;FMTTYPE=image/jpeg:https://craiovalive.ro/wp-content/uploads/2023/10/Elefantelul-curios.jpg
ORGANIZER;CN="Teatrul pentru copii si tineret Colibri":MAILTO:contact@teatrulcolibri.ro
GEO:44.3151148;23.8215842
X-APPLE-STRUCTURED-LOCATION;VALUE=URI;X-ADDRESS=Teatrul pentru copii și tineret Colibri Calea București nr. 56 Craiova Dolj România;X-APPLE-RADIUS=500;X-TITLE=Calea București\, nr. 56:geo:23.8215842,44.3151148
END:VEVENT
BEGIN:VEVENT
DTSTART;TZID=Europe/Bucharest:20260315T110000
DTEND;TZID=Europe/Bucharest:20260315T120000
DTSTAMP:20260424T031718
CREATED:20250414T151323Z
LAST-MODIFIED:20260312T131850Z
UID:10006131-1773572400-1773576000@craiovalive.ro
SUMMARY:Bună dimineața\, noapte bună
DESCRIPTION:Bună dimineața\, noapte bună (3+) \nRegia: Jora Ivanov \nBiletele se pot procura de la Agenția teatrului\, în zilele de luni\, joi\, vineri\, sâmbătă între orele 09:00 – 13:00 / 15:00 – 19:00\, iar duminica în intervalul 10:00 – 13:00. Preț bilet: 13lei / pers.
URL:https://craiovalive.ro/eveniment/buna-dimineata-noapte-buna/
LOCATION:Teatrul pentru copii și tineret Colibri\, Calea București\, nr. 56\, Craiova\, Dolj\, România
CATEGORIES:Evenimente pentru copii
ATTACH;FMTTYPE=image/jpeg:https://craiovalive.ro/wp-content/uploads/2025/04/Buna-dimineata-noapte-buna.jpg
ORGANIZER;CN="Teatrul pentru copii si tineret Colibri":MAILTO:contact@teatrulcolibri.ro
GEO:44.3151148;23.8215842
X-APPLE-STRUCTURED-LOCATION;VALUE=URI;X-ADDRESS=Teatrul pentru copii și tineret Colibri Calea București nr. 56 Craiova Dolj România;X-APPLE-RADIUS=500;X-TITLE=Calea București\, nr. 56:geo:23.8215842,44.3151148
END:VEVENT
END:VCALENDAR