BEGIN:VCALENDAR
VERSION:2.0
PRODID:-//Craiova Live - ECPv6.15.18//NONSGML v1.0//EN
CALSCALE:GREGORIAN
METHOD:PUBLISH
X-WR-CALNAME:Craiova Live
X-ORIGINAL-URL:https://craiovalive.ro
X-WR-CALDESC:Evenimente pentru Craiova Live
REFRESH-INTERVAL;VALUE=DURATION:PT1H
X-Robots-Tag:noindex
X-PUBLISHED-TTL:PT1H
BEGIN:VTIMEZONE
TZID:Europe/Bucharest
BEGIN:DAYLIGHT
TZOFFSETFROM:+0200
TZOFFSETTO:+0300
TZNAME:EEST
DTSTART:20250330T010000
END:DAYLIGHT
BEGIN:STANDARD
TZOFFSETFROM:+0300
TZOFFSETTO:+0200
TZNAME:EET
DTSTART:20251026T010000
END:STANDARD
BEGIN:DAYLIGHT
TZOFFSETFROM:+0200
TZOFFSETTO:+0300
TZNAME:EEST
DTSTART:20260329T010000
END:DAYLIGHT
BEGIN:STANDARD
TZOFFSETFROM:+0300
TZOFFSETTO:+0200
TZNAME:EET
DTSTART:20261025T010000
END:STANDARD
BEGIN:DAYLIGHT
TZOFFSETFROM:+0200
TZOFFSETTO:+0300
TZNAME:EEST
DTSTART:20270328T010000
END:DAYLIGHT
BEGIN:STANDARD
TZOFFSETFROM:+0300
TZOFFSETTO:+0200
TZNAME:EET
DTSTART:20271031T010000
END:STANDARD
END:VTIMEZONE
BEGIN:VEVENT
DTSTART;TZID=Europe/Bucharest:20260308T110000
DTEND;TZID=Europe/Bucharest:20260308T120000
DTSTAMP:20260424T031548
CREATED:20231101T120929Z
LAST-MODIFIED:20260301T230218Z
UID:10003280-1772967600-1772971200@craiovalive.ro
SUMMARY:Povestea celor trei purceluși
DESCRIPTION:POVESTEA CELOR TREI PURCELUȘI (2+)\nRegia: Geo Dinescu și Marin Fagu\n\n„Povestea celor trei purceluși“ – spectacol de teatru interactiv\, de și cu Geo Dinescu / Andreea Ionescu și Marin Fagu\, pictură Iulia Goanță\, desen afiș Ioana și Andrei Popescu. Vârstă recomandată: 2+. \n„Povestea celor trei purceluși“ este un pretext pentru a-i învăța pe cei mici\, într-o manieră dinamică și amuzantă\, să fie harnici\, ordonați\, să mănânce sănătos\, să fie prietenoși cu natura. \n\n Preț: 13 lei / pers.\n\n\n Biletele se pot procura de la Agenţia Teatrului Colibri\, info la tel.: 0251.412.473.\n După ora începerii spectacolului\, accesul în sală nu mai este permis! Persoanele care au bilete și întârzie le pot reprograma la următoarele spectacole.
URL:https://craiovalive.ro/eveniment/povestea-celor-trei-purcelusi/
LOCATION:Teatrul pentru copii și tineret Colibri\, Calea București\, nr. 56\, Craiova\, Dolj\, România
CATEGORIES:Evenimente pentru copii,Teatru
ATTACH;FMTTYPE=image/png:https://craiovalive.ro/wp-content/uploads/2023/11/Povestea-celor-trei-purcelusi-Teatrul-Colibri-Craiova.png
ORGANIZER;CN="Teatrul pentru copii si tineret Colibri":MAILTO:contact@teatrulcolibri.ro
GEO:44.3151148;23.8215842
X-APPLE-STRUCTURED-LOCATION;VALUE=URI;X-ADDRESS=Teatrul pentru copii și tineret Colibri Calea București nr. 56 Craiova Dolj România;X-APPLE-RADIUS=500;X-TITLE=Calea București\, nr. 56:geo:23.8215842,44.3151148
END:VEVENT
END:VCALENDAR