BEGIN:VCALENDAR
VERSION:2.0
PRODID:-//Craiova Live - ECPv6.15.18//NONSGML v1.0//EN
CALSCALE:GREGORIAN
METHOD:PUBLISH
X-WR-CALNAME:Craiova Live
X-ORIGINAL-URL:https://craiovalive.ro
X-WR-CALDESC:Evenimente pentru Craiova Live
REFRESH-INTERVAL;VALUE=DURATION:PT1H
X-Robots-Tag:noindex
X-PUBLISHED-TTL:PT1H
BEGIN:VTIMEZONE
TZID:Europe/Bucharest
BEGIN:DAYLIGHT
TZOFFSETFROM:+0200
TZOFFSETTO:+0300
TZNAME:EEST
DTSTART:20250330T010000
END:DAYLIGHT
BEGIN:STANDARD
TZOFFSETFROM:+0300
TZOFFSETTO:+0200
TZNAME:EET
DTSTART:20251026T010000
END:STANDARD
BEGIN:DAYLIGHT
TZOFFSETFROM:+0200
TZOFFSETTO:+0300
TZNAME:EEST
DTSTART:20260329T010000
END:DAYLIGHT
BEGIN:STANDARD
TZOFFSETFROM:+0300
TZOFFSETTO:+0200
TZNAME:EET
DTSTART:20261025T010000
END:STANDARD
BEGIN:DAYLIGHT
TZOFFSETFROM:+0200
TZOFFSETTO:+0300
TZNAME:EEST
DTSTART:20270328T010000
END:DAYLIGHT
BEGIN:STANDARD
TZOFFSETFROM:+0300
TZOFFSETTO:+0200
TZNAME:EET
DTSTART:20271031T010000
END:STANDARD
END:VTIMEZONE
BEGIN:VEVENT
DTSTART;TZID=Europe/Bucharest:20260213T180000
DTEND;TZID=Europe/Bucharest:20260213T193000
DTSTAMP:20260424T100132
CREATED:20260202T210939Z
LAST-MODIFIED:20260202T210939Z
UID:10012982-1771005600-1771011000@craiovalive.ro
SUMMARY:Circo Bellucci
DESCRIPTION:#Craiova\, vino să trăim magia #CircoBellucci împreună!🎪\n📆 13 Februarie – 1 Martie\n📍CRAIOVA (Promenada Mall)\n🎟️BILETE pe entertix.ro SAU direct de la casieria circului\, deschisă cu 2h înaintea fiecărui spectacol!\nPregătiți-vă pentru un #ViaggioNelTempo plin de magie\, acrobații incredibile și momente care vă taie respirația!✨\n__\nZilnic – orele 18:00\nSâmbăta – orele 15:00 și 18:00\nDuminică – orele 11:30 și 15:00\n*PRIMA ZI și MIERCURI- preț unic 40 lei (la tribună)\n**Marți NU sunt spectacole.\n***Cort încălzit.\n__ \nFamilia Bellucci provine din cinci generații de circari italieni\, care și-au dedicat întreaga viața unei arte recunoscute la nivel internațional. Pasionați de a descoperi noi orizonturi\, am ajuns în România în 2009 pentru a putea evolua în fața publicului român și de atunci nu am mai plecat! \nÎn 2012 am avut prima colaborare cu emisiunea „Poftiți la Nea Mărin”\, urmând ca în 2019 să luăm parte la showul “Poftiți la Circ”\, care a avut un succes neașteptat. Multumită acestui program\, viața de circ a ajuns să fie cunoscută dincolo de ceea ce se întâmplă pe scenă\, dezvăluind și momentele din spatele unui spectacol de circ. \nCu numeroase participări la emisiuni TV precum: „Românii au talent”\, „IUmor”\, „Splash! Vedete la apă”\, „Revelionul”\, „Poftiți prin țară”\, am captat atenția publicului român ca circari\, atleți\, acrobați\, actori dar și simpli oameni cu o mare pasiune pentru ceea ce fac. \nCalitatea spectacolelor a fost întotdeauna pe primul loc și ne bucurăm că am reușit să aducem râsete\, zâmbete și bucurie pe fețele românilor din toată țara\, deplasându-ne cu entuziasm către orașele care ne-au primit călduros și ne-au făcut să ne simțim ca acasă. \nVă invităm la spectacolele noastre\, în centrul unei familii adevărate\, acolo unde visele prind viață\, locul unde lumea poate vedea lucruri nemaivăzute\, acolo unde sub lumina reflectoarelor este pusă viața plină de magie! Indiferent de vârstă nu trebuie să ratați reprezentațiile Circo Bellucci\, să simțiți emoția și să vedeți toate lucrurile frumoase care se întâmplă pe scenă. La circ suntem toți copii! \nȚinem minte fiecare om fericit\, fiecare oraș\, fiecare mesaj de susținere\, fiecare show și ne-am dat seama ce înseamnă România pentru noi și cu siguranță reflectă foarte mult din sentimentul de a fi „acasă“. \n  \n-Invităm publicul să vină cu 40 de minute înainte de spectacol. \n-Durata spectacolului este de 1 oră și 30 de minute cu pauză de 15 minute. \n-Copii sub 3 ani beneficiaza de accesul gratuit la spectacol. \n-Persoanele cu varstele cuprinse intre 3-14 ani pot folosi biletul cu discount de Copil. \n-Avem Refreshments și SnackBar înăuntru. \n-Puteți face fotografii cu grupul și găsiți o multime de gadgeturi (tricouri\, lumini\, jucarii). \n-Circul este încălzit și confortabil. \n  \n“Circul este o casă pe care o muți dintr-un colț în altul al lumii\, o familie\, care la finalul zilei trebuie să aibă parte de grijă\, iubire și empatie! Nimeni nu rămâne în urmă!” Sonny Medini.
URL:https://craiovalive.ro/eveniment/circo-bellucci/2026-02-13/
LOCATION:Promenada Mall\, Calea Severinului 61\, Craiova\, Dolj\, România
CATEGORIES:Evenimente pentru copii
ATTACH;FMTTYPE=image/jpeg:https://craiovalive.ro/wp-content/uploads/2026/02/Circo-Bellucci-la-Craiova.jpg
GEO:44.3487242;23.7559265
X-APPLE-STRUCTURED-LOCATION;VALUE=URI;X-ADDRESS=Promenada Mall Calea Severinului 61 Craiova Dolj România;X-APPLE-RADIUS=500;X-TITLE=Calea Severinului 61:geo:23.7559265,44.3487242
END:VEVENT
BEGIN:VEVENT
DTSTART;TZID=Europe/Bucharest:20260214T150000
DTEND;TZID=Europe/Bucharest:20260214T163000
DTSTAMP:20260424T100132
CREATED:20260202T210939Z
LAST-MODIFIED:20260202T210939Z
UID:10012983-1771081200-1771086600@craiovalive.ro
SUMMARY:Circo Bellucci
DESCRIPTION:#Craiova\, vino să trăim magia #CircoBellucci împreună!🎪\n📆 13 Februarie – 1 Martie\n📍CRAIOVA (Promenada Mall)\n🎟️BILETE pe entertix.ro SAU direct de la casieria circului\, deschisă cu 2h înaintea fiecărui spectacol!\nPregătiți-vă pentru un #ViaggioNelTempo plin de magie\, acrobații incredibile și momente care vă taie respirația!✨\n__\nZilnic – orele 18:00\nSâmbăta – orele 15:00 și 18:00\nDuminică – orele 11:30 și 15:00\n*PRIMA ZI și MIERCURI- preț unic 40 lei (la tribună)\n**Marți NU sunt spectacole.\n***Cort încălzit.\n__ \nFamilia Bellucci provine din cinci generații de circari italieni\, care și-au dedicat întreaga viața unei arte recunoscute la nivel internațional. Pasionați de a descoperi noi orizonturi\, am ajuns în România în 2009 pentru a putea evolua în fața publicului român și de atunci nu am mai plecat! \nÎn 2012 am avut prima colaborare cu emisiunea „Poftiți la Nea Mărin”\, urmând ca în 2019 să luăm parte la showul “Poftiți la Circ”\, care a avut un succes neașteptat. Multumită acestui program\, viața de circ a ajuns să fie cunoscută dincolo de ceea ce se întâmplă pe scenă\, dezvăluind și momentele din spatele unui spectacol de circ. \nCu numeroase participări la emisiuni TV precum: „Românii au talent”\, „IUmor”\, „Splash! Vedete la apă”\, „Revelionul”\, „Poftiți prin țară”\, am captat atenția publicului român ca circari\, atleți\, acrobați\, actori dar și simpli oameni cu o mare pasiune pentru ceea ce fac. \nCalitatea spectacolelor a fost întotdeauna pe primul loc și ne bucurăm că am reușit să aducem râsete\, zâmbete și bucurie pe fețele românilor din toată țara\, deplasându-ne cu entuziasm către orașele care ne-au primit călduros și ne-au făcut să ne simțim ca acasă. \nVă invităm la spectacolele noastre\, în centrul unei familii adevărate\, acolo unde visele prind viață\, locul unde lumea poate vedea lucruri nemaivăzute\, acolo unde sub lumina reflectoarelor este pusă viața plină de magie! Indiferent de vârstă nu trebuie să ratați reprezentațiile Circo Bellucci\, să simțiți emoția și să vedeți toate lucrurile frumoase care se întâmplă pe scenă. La circ suntem toți copii! \nȚinem minte fiecare om fericit\, fiecare oraș\, fiecare mesaj de susținere\, fiecare show și ne-am dat seama ce înseamnă România pentru noi și cu siguranță reflectă foarte mult din sentimentul de a fi „acasă“. \n  \n-Invităm publicul să vină cu 40 de minute înainte de spectacol. \n-Durata spectacolului este de 1 oră și 30 de minute cu pauză de 15 minute. \n-Copii sub 3 ani beneficiaza de accesul gratuit la spectacol. \n-Persoanele cu varstele cuprinse intre 3-14 ani pot folosi biletul cu discount de Copil. \n-Avem Refreshments și SnackBar înăuntru. \n-Puteți face fotografii cu grupul și găsiți o multime de gadgeturi (tricouri\, lumini\, jucarii). \n-Circul este încălzit și confortabil. \n  \n“Circul este o casă pe care o muți dintr-un colț în altul al lumii\, o familie\, care la finalul zilei trebuie să aibă parte de grijă\, iubire și empatie! Nimeni nu rămâne în urmă!” Sonny Medini.
URL:https://craiovalive.ro/eveniment/circo-bellucci/2026-02-14/1/
LOCATION:Promenada Mall\, Calea Severinului 61\, Craiova\, Dolj\, România
CATEGORIES:Evenimente pentru copii
ATTACH;FMTTYPE=image/jpeg:https://craiovalive.ro/wp-content/uploads/2026/02/Circo-Bellucci-la-Craiova.jpg
GEO:44.3487242;23.7559265
X-APPLE-STRUCTURED-LOCATION;VALUE=URI;X-ADDRESS=Promenada Mall Calea Severinului 61 Craiova Dolj România;X-APPLE-RADIUS=500;X-TITLE=Calea Severinului 61:geo:23.7559265,44.3487242
END:VEVENT
BEGIN:VEVENT
DTSTART;TZID=Europe/Bucharest:20260214T180000
DTEND;TZID=Europe/Bucharest:20260214T193000
DTSTAMP:20260424T100132
CREATED:20231003T202523Z
LAST-MODIFIED:20260129T182157Z
UID:10001092-1771092000-1771097400@craiovalive.ro
SUMMARY:Puiul de om din Cartea Junglei
DESCRIPTION:Spectacolul „Puiul de Om din Cartea Junglei“\, adaptare după Rudyard Kipling\, cu scenariul\, regia și scenografia semnate de Geo Dinescu și Marin Fagu\, muzica și video proiecția Marin Fagu\, pictură păpuși Mihai Birtu\, pictură decoruri Iulia Goanță\, cu actorii: Geo Dinescu\, Marin Fagu\, Emanuel Popescu și Robert Iovan\, voci: Radu Popa\, Ioana Popescu\, Andrei Popescu\, Laura Pumnea. \nUn pui de om deschide ochii în sălbăticie\, în îndepărtata junglă africană\, îi învață legile\, leagă prietenii cu vietăți și animale blânde\, ce-i sunt pentru o vreme mamă și tată\, cuib și casă. În haita lupilor sau lângă pantera cea înțeleaptă își trăiește frumos copilăria\, cu năzdrăvănii și peripeții\, învățând ce e bine și ce e rău\, fără să știe că toate acestea aveau să-i fie de folos în viață\, printre oameni. Scenă cu scenă\, spectacolul povestește dinamic și ritmat\, cu emoție și curiozitate\, aventurile lui Mowgli în junglă. \n\n Biletele se pot procura de la Agenţia Teatrului Colibri\, de luni până sâmbătă\, între orele 10:00 – 13:00 / 16:00 – 19:00\, iar duminica\, între 10:00 – 13:00. Preț bilet: 13 lei / pers.\nMai multe informații se pot obține la tel.: 0251.412.473.\n După ora începerii spectacolelor\, accesul în sală nu mai este permis! Persoanele care au bilete și întârzie le pot reprograma la următoarele spectacole.
URL:https://craiovalive.ro/eveniment/puiul-de-om-din-cartea-junglei/
LOCATION:Teatrul pentru copii și tineret Colibri\, Calea București\, nr. 56\, Craiova\, Dolj\, România
CATEGORIES:Evenimente pentru copii,Teatru
ATTACH;FMTTYPE=image/jpeg:https://craiovalive.ro/wp-content/uploads/2023/10/Teatrul-Colibri-Craiova-Puiul-de-om-din-Cartea-Junglei.jpg
ORGANIZER;CN="Teatrul pentru copii si tineret Colibri":MAILTO:contact@teatrulcolibri.ro
GEO:44.3151148;23.8215842
X-APPLE-STRUCTURED-LOCATION;VALUE=URI;X-ADDRESS=Teatrul pentru copii și tineret Colibri Calea București nr. 56 Craiova Dolj România;X-APPLE-RADIUS=500;X-TITLE=Calea București\, nr. 56:geo:23.8215842,44.3151148
END:VEVENT
BEGIN:VEVENT
DTSTART;TZID=Europe/Bucharest:20260214T180000
DTEND;TZID=Europe/Bucharest:20260214T193000
DTSTAMP:20260424T100132
CREATED:20260202T210939Z
LAST-MODIFIED:20260202T210939Z
UID:10012984-1771092000-1771097400@craiovalive.ro
SUMMARY:Circo Bellucci
DESCRIPTION:#Craiova\, vino să trăim magia #CircoBellucci împreună!🎪\n📆 13 Februarie – 1 Martie\n📍CRAIOVA (Promenada Mall)\n🎟️BILETE pe entertix.ro SAU direct de la casieria circului\, deschisă cu 2h înaintea fiecărui spectacol!\nPregătiți-vă pentru un #ViaggioNelTempo plin de magie\, acrobații incredibile și momente care vă taie respirația!✨\n__\nZilnic – orele 18:00\nSâmbăta – orele 15:00 și 18:00\nDuminică – orele 11:30 și 15:00\n*PRIMA ZI și MIERCURI- preț unic 40 lei (la tribună)\n**Marți NU sunt spectacole.\n***Cort încălzit.\n__ \nFamilia Bellucci provine din cinci generații de circari italieni\, care și-au dedicat întreaga viața unei arte recunoscute la nivel internațional. Pasionați de a descoperi noi orizonturi\, am ajuns în România în 2009 pentru a putea evolua în fața publicului român și de atunci nu am mai plecat! \nÎn 2012 am avut prima colaborare cu emisiunea „Poftiți la Nea Mărin”\, urmând ca în 2019 să luăm parte la showul “Poftiți la Circ”\, care a avut un succes neașteptat. Multumită acestui program\, viața de circ a ajuns să fie cunoscută dincolo de ceea ce se întâmplă pe scenă\, dezvăluind și momentele din spatele unui spectacol de circ. \nCu numeroase participări la emisiuni TV precum: „Românii au talent”\, „IUmor”\, „Splash! Vedete la apă”\, „Revelionul”\, „Poftiți prin țară”\, am captat atenția publicului român ca circari\, atleți\, acrobați\, actori dar și simpli oameni cu o mare pasiune pentru ceea ce fac. \nCalitatea spectacolelor a fost întotdeauna pe primul loc și ne bucurăm că am reușit să aducem râsete\, zâmbete și bucurie pe fețele românilor din toată țara\, deplasându-ne cu entuziasm către orașele care ne-au primit călduros și ne-au făcut să ne simțim ca acasă. \nVă invităm la spectacolele noastre\, în centrul unei familii adevărate\, acolo unde visele prind viață\, locul unde lumea poate vedea lucruri nemaivăzute\, acolo unde sub lumina reflectoarelor este pusă viața plină de magie! Indiferent de vârstă nu trebuie să ratați reprezentațiile Circo Bellucci\, să simțiți emoția și să vedeți toate lucrurile frumoase care se întâmplă pe scenă. La circ suntem toți copii! \nȚinem minte fiecare om fericit\, fiecare oraș\, fiecare mesaj de susținere\, fiecare show și ne-am dat seama ce înseamnă România pentru noi și cu siguranță reflectă foarte mult din sentimentul de a fi „acasă“. \n  \n-Invităm publicul să vină cu 40 de minute înainte de spectacol. \n-Durata spectacolului este de 1 oră și 30 de minute cu pauză de 15 minute. \n-Copii sub 3 ani beneficiaza de accesul gratuit la spectacol. \n-Persoanele cu varstele cuprinse intre 3-14 ani pot folosi biletul cu discount de Copil. \n-Avem Refreshments și SnackBar înăuntru. \n-Puteți face fotografii cu grupul și găsiți o multime de gadgeturi (tricouri\, lumini\, jucarii). \n-Circul este încălzit și confortabil. \n  \n“Circul este o casă pe care o muți dintr-un colț în altul al lumii\, o familie\, care la finalul zilei trebuie să aibă parte de grijă\, iubire și empatie! Nimeni nu rămâne în urmă!” Sonny Medini.
URL:https://craiovalive.ro/eveniment/circo-bellucci/2026-02-14/2/
LOCATION:Promenada Mall\, Calea Severinului 61\, Craiova\, Dolj\, România
CATEGORIES:Evenimente pentru copii
ATTACH;FMTTYPE=image/jpeg:https://craiovalive.ro/wp-content/uploads/2026/02/Circo-Bellucci-la-Craiova.jpg
GEO:44.3487242;23.7559265
X-APPLE-STRUCTURED-LOCATION;VALUE=URI;X-ADDRESS=Promenada Mall Calea Severinului 61 Craiova Dolj România;X-APPLE-RADIUS=500;X-TITLE=Calea Severinului 61:geo:23.7559265,44.3487242
END:VEVENT
BEGIN:VEVENT
DTSTART;TZID=Europe/Bucharest:20260215T113000
DTEND;TZID=Europe/Bucharest:20260215T130000
DTSTAMP:20260424T100132
CREATED:20260202T210939Z
LAST-MODIFIED:20260202T210939Z
UID:10012985-1771155000-1771160400@craiovalive.ro
SUMMARY:Circo Bellucci
DESCRIPTION:#Craiova\, vino să trăim magia #CircoBellucci împreună!🎪\n📆 13 Februarie – 1 Martie\n📍CRAIOVA (Promenada Mall)\n🎟️BILETE pe entertix.ro SAU direct de la casieria circului\, deschisă cu 2h înaintea fiecărui spectacol!\nPregătiți-vă pentru un #ViaggioNelTempo plin de magie\, acrobații incredibile și momente care vă taie respirația!✨\n__\nZilnic – orele 18:00\nSâmbăta – orele 15:00 și 18:00\nDuminică – orele 11:30 și 15:00\n*PRIMA ZI și MIERCURI- preț unic 40 lei (la tribună)\n**Marți NU sunt spectacole.\n***Cort încălzit.\n__ \nFamilia Bellucci provine din cinci generații de circari italieni\, care și-au dedicat întreaga viața unei arte recunoscute la nivel internațional. Pasionați de a descoperi noi orizonturi\, am ajuns în România în 2009 pentru a putea evolua în fața publicului român și de atunci nu am mai plecat! \nÎn 2012 am avut prima colaborare cu emisiunea „Poftiți la Nea Mărin”\, urmând ca în 2019 să luăm parte la showul “Poftiți la Circ”\, care a avut un succes neașteptat. Multumită acestui program\, viața de circ a ajuns să fie cunoscută dincolo de ceea ce se întâmplă pe scenă\, dezvăluind și momentele din spatele unui spectacol de circ. \nCu numeroase participări la emisiuni TV precum: „Românii au talent”\, „IUmor”\, „Splash! Vedete la apă”\, „Revelionul”\, „Poftiți prin țară”\, am captat atenția publicului român ca circari\, atleți\, acrobați\, actori dar și simpli oameni cu o mare pasiune pentru ceea ce fac. \nCalitatea spectacolelor a fost întotdeauna pe primul loc și ne bucurăm că am reușit să aducem râsete\, zâmbete și bucurie pe fețele românilor din toată țara\, deplasându-ne cu entuziasm către orașele care ne-au primit călduros și ne-au făcut să ne simțim ca acasă. \nVă invităm la spectacolele noastre\, în centrul unei familii adevărate\, acolo unde visele prind viață\, locul unde lumea poate vedea lucruri nemaivăzute\, acolo unde sub lumina reflectoarelor este pusă viața plină de magie! Indiferent de vârstă nu trebuie să ratați reprezentațiile Circo Bellucci\, să simțiți emoția și să vedeți toate lucrurile frumoase care se întâmplă pe scenă. La circ suntem toți copii! \nȚinem minte fiecare om fericit\, fiecare oraș\, fiecare mesaj de susținere\, fiecare show și ne-am dat seama ce înseamnă România pentru noi și cu siguranță reflectă foarte mult din sentimentul de a fi „acasă“. \n  \n-Invităm publicul să vină cu 40 de minute înainte de spectacol. \n-Durata spectacolului este de 1 oră și 30 de minute cu pauză de 15 minute. \n-Copii sub 3 ani beneficiaza de accesul gratuit la spectacol. \n-Persoanele cu varstele cuprinse intre 3-14 ani pot folosi biletul cu discount de Copil. \n-Avem Refreshments și SnackBar înăuntru. \n-Puteți face fotografii cu grupul și găsiți o multime de gadgeturi (tricouri\, lumini\, jucarii). \n-Circul este încălzit și confortabil. \n  \n“Circul este o casă pe care o muți dintr-un colț în altul al lumii\, o familie\, care la finalul zilei trebuie să aibă parte de grijă\, iubire și empatie! Nimeni nu rămâne în urmă!” Sonny Medini.
URL:https://craiovalive.ro/eveniment/circo-bellucci/2026-02-15/1/
LOCATION:Promenada Mall\, Calea Severinului 61\, Craiova\, Dolj\, România
CATEGORIES:Evenimente pentru copii
ATTACH;FMTTYPE=image/jpeg:https://craiovalive.ro/wp-content/uploads/2026/02/Circo-Bellucci-la-Craiova.jpg
GEO:44.3487242;23.7559265
X-APPLE-STRUCTURED-LOCATION;VALUE=URI;X-ADDRESS=Promenada Mall Calea Severinului 61 Craiova Dolj România;X-APPLE-RADIUS=500;X-TITLE=Calea Severinului 61:geo:23.7559265,44.3487242
END:VEVENT
BEGIN:VEVENT
DTSTART;TZID=Europe/Bucharest:20260215T150000
DTEND;TZID=Europe/Bucharest:20260215T163000
DTSTAMP:20260424T100132
CREATED:20260202T210939Z
LAST-MODIFIED:20260202T210939Z
UID:10012986-1771167600-1771173000@craiovalive.ro
SUMMARY:Circo Bellucci
DESCRIPTION:#Craiova\, vino să trăim magia #CircoBellucci împreună!🎪\n📆 13 Februarie – 1 Martie\n📍CRAIOVA (Promenada Mall)\n🎟️BILETE pe entertix.ro SAU direct de la casieria circului\, deschisă cu 2h înaintea fiecărui spectacol!\nPregătiți-vă pentru un #ViaggioNelTempo plin de magie\, acrobații incredibile și momente care vă taie respirația!✨\n__\nZilnic – orele 18:00\nSâmbăta – orele 15:00 și 18:00\nDuminică – orele 11:30 și 15:00\n*PRIMA ZI și MIERCURI- preț unic 40 lei (la tribună)\n**Marți NU sunt spectacole.\n***Cort încălzit.\n__ \nFamilia Bellucci provine din cinci generații de circari italieni\, care și-au dedicat întreaga viața unei arte recunoscute la nivel internațional. Pasionați de a descoperi noi orizonturi\, am ajuns în România în 2009 pentru a putea evolua în fața publicului român și de atunci nu am mai plecat! \nÎn 2012 am avut prima colaborare cu emisiunea „Poftiți la Nea Mărin”\, urmând ca în 2019 să luăm parte la showul “Poftiți la Circ”\, care a avut un succes neașteptat. Multumită acestui program\, viața de circ a ajuns să fie cunoscută dincolo de ceea ce se întâmplă pe scenă\, dezvăluind și momentele din spatele unui spectacol de circ. \nCu numeroase participări la emisiuni TV precum: „Românii au talent”\, „IUmor”\, „Splash! Vedete la apă”\, „Revelionul”\, „Poftiți prin țară”\, am captat atenția publicului român ca circari\, atleți\, acrobați\, actori dar și simpli oameni cu o mare pasiune pentru ceea ce fac. \nCalitatea spectacolelor a fost întotdeauna pe primul loc și ne bucurăm că am reușit să aducem râsete\, zâmbete și bucurie pe fețele românilor din toată țara\, deplasându-ne cu entuziasm către orașele care ne-au primit călduros și ne-au făcut să ne simțim ca acasă. \nVă invităm la spectacolele noastre\, în centrul unei familii adevărate\, acolo unde visele prind viață\, locul unde lumea poate vedea lucruri nemaivăzute\, acolo unde sub lumina reflectoarelor este pusă viața plină de magie! Indiferent de vârstă nu trebuie să ratați reprezentațiile Circo Bellucci\, să simțiți emoția și să vedeți toate lucrurile frumoase care se întâmplă pe scenă. La circ suntem toți copii! \nȚinem minte fiecare om fericit\, fiecare oraș\, fiecare mesaj de susținere\, fiecare show și ne-am dat seama ce înseamnă România pentru noi și cu siguranță reflectă foarte mult din sentimentul de a fi „acasă“. \n  \n-Invităm publicul să vină cu 40 de minute înainte de spectacol. \n-Durata spectacolului este de 1 oră și 30 de minute cu pauză de 15 minute. \n-Copii sub 3 ani beneficiaza de accesul gratuit la spectacol. \n-Persoanele cu varstele cuprinse intre 3-14 ani pot folosi biletul cu discount de Copil. \n-Avem Refreshments și SnackBar înăuntru. \n-Puteți face fotografii cu grupul și găsiți o multime de gadgeturi (tricouri\, lumini\, jucarii). \n-Circul este încălzit și confortabil. \n  \n“Circul este o casă pe care o muți dintr-un colț în altul al lumii\, o familie\, care la finalul zilei trebuie să aibă parte de grijă\, iubire și empatie! Nimeni nu rămâne în urmă!” Sonny Medini.
URL:https://craiovalive.ro/eveniment/circo-bellucci/2026-02-15/2/
LOCATION:Promenada Mall\, Calea Severinului 61\, Craiova\, Dolj\, România
CATEGORIES:Evenimente pentru copii
ATTACH;FMTTYPE=image/jpeg:https://craiovalive.ro/wp-content/uploads/2026/02/Circo-Bellucci-la-Craiova.jpg
GEO:44.3487242;23.7559265
X-APPLE-STRUCTURED-LOCATION;VALUE=URI;X-ADDRESS=Promenada Mall Calea Severinului 61 Craiova Dolj România;X-APPLE-RADIUS=500;X-TITLE=Calea Severinului 61:geo:23.7559265,44.3487242
END:VEVENT
END:VCALENDAR