BEGIN:VCALENDAR
VERSION:2.0
PRODID:-//Craiova Live - ECPv6.15.18//NONSGML v1.0//EN
CALSCALE:GREGORIAN
METHOD:PUBLISH
X-ORIGINAL-URL:https://craiovalive.ro
X-WR-CALDESC:Evenimente pentru Craiova Live
REFRESH-INTERVAL;VALUE=DURATION:PT1H
X-Robots-Tag:noindex
X-PUBLISHED-TTL:PT1H
BEGIN:VTIMEZONE
TZID:Europe/Bucharest
BEGIN:DAYLIGHT
TZOFFSETFROM:+0200
TZOFFSETTO:+0300
TZNAME:EEST
DTSTART:20240331T010000
END:DAYLIGHT
BEGIN:STANDARD
TZOFFSETFROM:+0300
TZOFFSETTO:+0200
TZNAME:EET
DTSTART:20241027T010000
END:STANDARD
BEGIN:DAYLIGHT
TZOFFSETFROM:+0200
TZOFFSETTO:+0300
TZNAME:EEST
DTSTART:20250330T010000
END:DAYLIGHT
BEGIN:STANDARD
TZOFFSETFROM:+0300
TZOFFSETTO:+0200
TZNAME:EET
DTSTART:20251026T010000
END:STANDARD
BEGIN:DAYLIGHT
TZOFFSETFROM:+0200
TZOFFSETTO:+0300
TZNAME:EEST
DTSTART:20260329T010000
END:DAYLIGHT
BEGIN:STANDARD
TZOFFSETFROM:+0300
TZOFFSETTO:+0200
TZNAME:EET
DTSTART:20261025T010000
END:STANDARD
END:VTIMEZONE
BEGIN:VEVENT
DTSTART;TZID=Europe/Bucharest:20250926T180000
DTEND;TZID=Europe/Bucharest:20250926T235900
DTSTAMP:20260424T154827
CREATED:20250924T140437Z
LAST-MODIFIED:20250924T140553Z
UID:10010255-1758909600-1758931140@craiovalive.ro
SUMMARY:Nocturna bibliotecilor 2025 – O noapte în bibliotecă
DESCRIPTION:Biblioteca Județeană „Alexandru și Aristia Aman” organizează vineri\, 26 septembrie\, începând cu ora 18.00\, a XVI-a ediție a evenimentului „Nocturna bibliotecilor 2025 – O noapte în bibliotecă”\, desfășurat anul acesta sub genericul „Destine și personaje célèbre din literatură”. \nBiblioteca își va deschide larg porțile pentru cititorii de toate vârstele\, care sunt invitați să ia parte la numeroasele evenimente organizate cu scopul de a cunoaște mai bine biblioteca\, serviciile și spațiile în care își desfășoară activitatea. \nPrintre surprizele pregătite se află: expoziții de carte\, expoziții de pictură\, ateliere de creație\, spectacole de muzică și dans\, pictură pe față\, desene pe asfalt\, vizite si prezentări ale secțiilor bibliotecii\, vizionări de filme\, și multe alte surprise. \nProgramul activităților pregătite pentru „ Nocturna bibliotecilor 2025 – O noapte în bibliotecă” și   spațiile în care se desfășoară: \nCURTEA BIBLIOTECII ALEXANDRU ȘI ARISTIA AMAN \n\n18.00 – 24.00 Expoziție de tablouri\, Cenaclul Artiștilor Plastici Constantin Brâncuși\n18.00 – 21.00 – Craiova citește! – Biblioteca Aman împarte bucuria lecturii și oferă participanților la O noapte în bibliotecă cărți din donații.\n18.30 – 19.00 – Dansăm cu personaje de poveste – program artistic oferit de Școala de Dans Dance Beat în parteneriat cu Școala Gimnazială Traian\, prof. coord. Ana Maria Trașcă și Liana Crăciunoiu Duță\n18.30 – 20.30 –Delicii din povești – surprize dulci oferite de Evenimente ideale\n18.30 – 21.00 –Culori magice – pictură pe față\n19.00 – 20.00 –Joaca eroilor mari și mici – atelier de jocuri interactive pentru copii\n19.30 – 20.00 – Povestea dansului – atelier de dansuri latino\n20.00 – 21.00 – Note muzicale de poveste – Moment muzical oferit de elevii Natalia Împușcatu\, Rareș Împușcatu\, Andrei Badea și Mihai-Alexandru Băileșteanu\n\n18.00 – 21.00 – Poveste în pași de dans – DJ. Răzvan Guina. \n  \nCLĂDIREA AMAN \n\n18.00 – 00.00 – Personaje și destine între pagini de carte – expoziție de carte\n18.00 – 22.00 – Voices Unlocked – interviuri în direct\, realizate de studenți internaționali Erasmus+\, Asociația Explorator\n18.00 – 19.30 –Destinul sănătății – capitolul tău – Parteneriat Prima Clinic\n18.00 – 18.30 -Cufărul cu comori: povești despre bani – atelier de educație financiară derulat în parteneriat cu Atelierele Gabrielei\, (Sala Mediatecă/American Corner Craiova)\n19.00 – 20.00 –Scrie destinul personajului tău – atelier scriere creativă (Sala Mediatecă/American Corner Craiova)\n20.00 – 21.00 – Upcycling – atelier realizat de studenți internaționali Erasmus+\, Asociația Explorator\n\n(Sala Mediatecă/American Corner Craiova) \n\n21.00 – 22.30 – Călători prin lume – atelier ochelari virtuali\, (Sala Mediatecă/American Corner Craiova)\n18.00 – 19.00 – Destine cu umor – Cenaclul Epigramiștilor Olteni (Sala de lectura „Ștefan Ciuceanu”)\n18.00 – 20.00 – Întâlnire cu personaje celebre din literatură – club de lectură\, Asociația Forum Apullum (Sala acad. „Dinu C.Giurescu”)\n18.30 – 21.00 –Treasure Hunt: Comoara eroilor din biblioteca – vânătoare de comori (Sala „Basarab Nicolescu”)\n22.30 – Comoara din spatele cărților – vizionare de film (Sala Mediatecă/American Corner Craiova)\n20.30 – 22.00 – Detectivii destinului: povești misterioase\, Atelier derulat în parteneriat cu Asociația pentru Copii și Tineri Pro Reziliența (Sala acad. „Dinu C. Giurescu”)\n\n  \nSECȚIA ÎMPRUMUT CARTE PENTRU ADULȚI \n\n18.00 – 00.00 – Destine și personaje celebre din literatură – expoziție de carte\n18.00 – 00.00 – Desene de toamnă – expoziție de desene. Expun elevi ai Școlii Gimnaziale „Gheorghe Țițeica”\, prof. coord. Liliana Cojocaru\n19.00 – Literatura și inteligența artificială : dezbatere (Sala de lectură „Ștefan Ciuceanu”)\n20.00 – Azi impertinent\, mâine violent – școala fără bullying. În parteneriat cu Compartimentul de Analiză și Prevenire a Criminalității din cadrul Inspectoratului Județean de Poliție Dolj (Sala de lectură „Ștefan Ciuceanu”)\n\n  \nSECȚIA ÎMPRUMUT CARTE PENTRU COPII \n\n18.00 – 00.00 – Eroii copilăriei : călătorii prin destine de poveste – expoziție de carte\n18.00 – 00.00 – Dăm culoare personajelor din povești – atelier de desen\n18.00 – 00.00 – Magia prieteniei pe un fir de ață – atelier confecționare brățări\n18.00 – 00.00 – Să deslușim tainele rebusului – personaje de basm\n18.00 – 00.00 – Dar din dar se face…poveste. Citește și dă mai departe! – dăruiește o carte\n21.00 – 23:00 – Cronicile din Narnia – vizionare de film\n\n \nEvenimentul „Nocturna bibliotecilor 2025 – O noapte în bibliotecă” este  sponsorizat de PPC România și Evenimente ideale\,  parteneri ai Bibliotecii Judetene „Alexandru și Aristia Aman”. \n  \nVă așteptăm cu drag!
URL:https://craiovalive.ro/eveniment/nocturna-bibliotecilor-2025-o-noapte-in-biblioteca/
LOCATION:Biblioteca Județeană Alexandru și Aristia Aman\, Str. M. Kogălniceanu\, nr. 9\, Craiova\, Dolj\, România
CATEGORIES:Evenimente pentru copii
ATTACH;FMTTYPE=image/jpeg:https://craiovalive.ro/wp-content/uploads/2025/09/Nocturna-bibliotecilor-2025-–-O-noapte-in-biblioteca.jpeg
ORGANIZER;CN="Biblioteca Jude%C8%9Bean%C4%83 Alexandru %C8%99i Aristia Aman":MAILTO:bib@aman.ro
GEO:44.3157663;23.796749
X-APPLE-STRUCTURED-LOCATION;VALUE=URI;X-ADDRESS=Biblioteca Județeană Alexandru și Aristia Aman Str. M. Kogălniceanu nr. 9 Craiova Dolj România;X-APPLE-RADIUS=500;X-TITLE=Str. M. Kogălniceanu\, nr. 9:geo:23.796749,44.3157663
END:VEVENT
END:VCALENDAR