BEGIN:VCALENDAR
VERSION:2.0
PRODID:-//Craiova Live - ECPv6.15.18//NONSGML v1.0//EN
CALSCALE:GREGORIAN
METHOD:PUBLISH
X-ORIGINAL-URL:https://craiovalive.ro
X-WR-CALDESC:Evenimente pentru Craiova Live
REFRESH-INTERVAL;VALUE=DURATION:PT1H
X-Robots-Tag:noindex
X-PUBLISHED-TTL:PT1H
BEGIN:VTIMEZONE
TZID:Europe/Bucharest
BEGIN:DAYLIGHT
TZOFFSETFROM:+0200
TZOFFSETTO:+0300
TZNAME:EEST
DTSTART:20240331T010000
END:DAYLIGHT
BEGIN:STANDARD
TZOFFSETFROM:+0300
TZOFFSETTO:+0200
TZNAME:EET
DTSTART:20241027T010000
END:STANDARD
BEGIN:DAYLIGHT
TZOFFSETFROM:+0200
TZOFFSETTO:+0300
TZNAME:EEST
DTSTART:20250330T010000
END:DAYLIGHT
BEGIN:STANDARD
TZOFFSETFROM:+0300
TZOFFSETTO:+0200
TZNAME:EET
DTSTART:20251026T010000
END:STANDARD
BEGIN:DAYLIGHT
TZOFFSETFROM:+0200
TZOFFSETTO:+0300
TZNAME:EEST
DTSTART:20260329T010000
END:DAYLIGHT
BEGIN:STANDARD
TZOFFSETFROM:+0300
TZOFFSETTO:+0200
TZNAME:EET
DTSTART:20261025T010000
END:STANDARD
END:VTIMEZONE
BEGIN:VEVENT
DTSTART;TZID=Europe/Bucharest:20250808T193000
DTEND;TZID=Europe/Bucharest:20250808T230000
DTSTAMP:20260424T185003
CREATED:20250805T110006Z
LAST-MODIFIED:20250805T110006Z
UID:10007886-1754681400-1754694000@craiovalive.ro
SUMMARY:SummerVerse & AstroShow - Astre & Dez-Astre: Real vs Fals în astronomie și spațiul cosmic
DESCRIPTION:🌌 Astre & Dez-Astre: Real vs Fals în astronomie și spațiul cosmic\n➡️ 8 august | 🕢 19:30 – 23:00 | 📍 Terasa Promenada Craiova \nEști gata să pornești într-o călătorie intergalactică… chiar de pe terasa Promenada Craiova? Vino să descoperi ce e real și ce e mit în universul fascinant al astronomiei\, într-un eveniment special pentru toate vârstele\, plin de știință\, curiozitate și magie cosmică! 🌠 \n🔭 Ce te așteaptă în Astro Show:\n✨ Experimente cu Profesorul Trăsnit\nUn spectacol interactiv și educativ pentru copii și adulți – știința devine super fun! \n🪐 Prezentare captivantă cu Cătălin Beldea\, „vânătorul de eclipse”\nDescoperă adevăruri și mituri despre spațiu\, planete și astre. Pune o întrebare bună și poți câștiga un premiu special Astro Show! \n🔍 Observații astronomice prin telescoape profesionale\nPrivește stelele ca un adevărat astronom. Cine știe\, poate vezi o planetă sau o stea căzătoare! \n🧒 Astro Kids Corner & Atelier de creat comete\nMicii exploratori vor putea învăța despre spațiu prin joacă și activități distractive. \n\n📅 Program detaliat:\n19:30 – 20:00 – Acces eveniment\n20:00 – 20:55 – Profesorul Trăsnit: show științific interactiv\n20:00 – 22:00 – Astro Kids Corner + Atelier de comete\n21:00 – 21:45 – Cătălin Beldea: „Astre & Dez-Astre” – mituri vs realități din cosmos\n21:30 – 23:00 – Observații astronomice la telescoape \n\n🎫 Intrarea este liberă și distracția e pe orbită! Vino cu familia sau prietenii și petrece o seară de vară sub stele\, printre povești\, experimente și universul magic al astronomiei. 🚀
URL:https://craiovalive.ro/eveniment/summerverse-astroshow-astre-dez-astre-real-vs-fals-in-astronomie-si-spatiul-cosmic/
LOCATION:Promenada Mall\, Calea Severinului 61\, Craiova\, Dolj\, România
CATEGORIES:Ateliere,Evenimente pentru copii
ATTACH;FMTTYPE=image/jpeg:https://craiovalive.ro/wp-content/uploads/2025/08/SummerVerse-AstroShow-Astre-Dez-Astre-Real-vs-Fals-in-astronomie-si-spatiul-cosmic.jpg
GEO:44.3487242;23.7559265
X-APPLE-STRUCTURED-LOCATION;VALUE=URI;X-ADDRESS=Promenada Mall Calea Severinului 61 Craiova Dolj România;X-APPLE-RADIUS=500;X-TITLE=Calea Severinului 61:geo:23.7559265,44.3487242
END:VEVENT
END:VCALENDAR