BEGIN:VCALENDAR
VERSION:2.0
PRODID:-//Craiova Live - ECPv6.15.18//NONSGML v1.0//EN
CALSCALE:GREGORIAN
METHOD:PUBLISH
X-WR-CALNAME:Craiova Live
X-ORIGINAL-URL:https://craiovalive.ro
X-WR-CALDESC:Evenimente pentru Craiova Live
REFRESH-INTERVAL;VALUE=DURATION:PT1H
X-Robots-Tag:noindex
X-PUBLISHED-TTL:PT1H
BEGIN:VTIMEZONE
TZID:Europe/Bucharest
BEGIN:DAYLIGHT
TZOFFSETFROM:+0200
TZOFFSETTO:+0300
TZNAME:EEST
DTSTART:20250330T010000
END:DAYLIGHT
BEGIN:STANDARD
TZOFFSETFROM:+0300
TZOFFSETTO:+0200
TZNAME:EET
DTSTART:20251026T010000
END:STANDARD
BEGIN:DAYLIGHT
TZOFFSETFROM:+0200
TZOFFSETTO:+0300
TZNAME:EEST
DTSTART:20260329T010000
END:DAYLIGHT
BEGIN:STANDARD
TZOFFSETFROM:+0300
TZOFFSETTO:+0200
TZNAME:EET
DTSTART:20261025T010000
END:STANDARD
BEGIN:DAYLIGHT
TZOFFSETFROM:+0200
TZOFFSETTO:+0300
TZNAME:EEST
DTSTART:20270328T010000
END:DAYLIGHT
BEGIN:STANDARD
TZOFFSETFROM:+0300
TZOFFSETTO:+0200
TZNAME:EET
DTSTART:20271031T010000
END:STANDARD
END:VTIMEZONE
BEGIN:VEVENT
DTSTART;TZID=Europe/Bucharest:20260424T181000
DTEND;TZID=Europe/Bucharest:20260424T191000
DTSTAMP:20260424T002119
CREATED:20260422T122753Z
LAST-MODIFIED:20260422T122753Z
UID:10014585-1777054200-1777057800@craiovalive.ro
SUMMARY:Jocuri magice
DESCRIPTION:Vineri\, 24 aprilie\, de la ora 18:10\, actorii Teatrului pentru Copii și Tineret Colibri vă întâmpină la Târgul de Paște Craiova 2026 cu „Jocuri magice”\, de Titus Jucov\, care semnează și regia și ilustrația muzicală. Scenografia: Vladimir Cantor. Un spectacol despre valorile prieteniei\, vesel și interactiv\, cu personaje simpatice\, plin de culoare și muzică\, avându-i în distribuție pe Alla Cebotari\, Adriana Ioncu\, Emanuel Popescu. Vârsta recomandată:3+. \n„Jocuri magice” deschide porțile unei lumi de poveste\, în care se regăsesc cu bucurie păpușile\, actorii și publicul.
URL:https://craiovalive.ro/eveniment/jocuri-magice/
LOCATION:Parcul Nicolae Romanescu\, Craiova\, Dolj\, România
CATEGORIES:Evenimente pentru copii
ATTACH;FMTTYPE=image/jpeg:https://craiovalive.ro/wp-content/uploads/2026/04/Jocuri-magice-24-aprilie.jpeg
ORGANIZER;CN="Teatrul pentru copii si tineret Colibri":MAILTO:contact@teatrulcolibri.ro
GEO:44.301907335609;23.799200026224
END:VEVENT
BEGIN:VEVENT
DTSTART;TZID=Europe/Bucharest:20260425T180000
DTEND;TZID=Europe/Bucharest:20260425T190000
DTSTAMP:20260424T002119
CREATED:20260330T115323Z
LAST-MODIFIED:20260422T124340Z
UID:10014522-1777140000-1777143600@craiovalive.ro
SUMMARY:Cenușăreasa
DESCRIPTION:Cenușăreasa (5+) \nSpectacol după Frații Grimm \nRegia și scenariul Ionica Dobrescu \nScenografia Iulia Goanță \nMuzica Alin Macovei-Moraru \nVersuri Valentin Dobrescu \nCu actorii: Alis Ianoș\, Cosmin Dolea\, Adriana Ioncu\, Geo Dinescu\, Oana Stancu\, Daniel Mirea\, Robert Iovan\, Ionica Dobrescu. \nSpectacolul „Cenușăreasa” poartă mantia trecutului de poveste\, cu inserții verbale și muzicale actuale\, creat pentru copii\, dar mai ales pentru copilul din fiecare. Este o dorință împlinită\, în care imaginația unui copil a devenit poveste pe scenă\, a crescut precum Alunul udat cu lacrimile Cenușăresei. \n Preț bilet: 13 lei / pers.\n Biletele se pot procura de la Agenţia Teatrului Colibri. Mai multe informații se pot obține la tel.: 0251.412.473.\nDupă începerea spectacolelor\, accesul în sală nu mai este permis! Persoanele care au bilete și întârzie le pot reprograma la următoarele spectacole.
URL:https://craiovalive.ro/eveniment/cenusareasa/
LOCATION:Teatrul pentru copii și tineret Colibri\, Calea București\, nr. 56\, Craiova\, Dolj\, România
CATEGORIES:Evenimente pentru copii
ATTACH;FMTTYPE=image/jpeg:https://craiovalive.ro/wp-content/uploads/2026/03/Teatrul-pentru-copii-si-tineret-Colibri-program-aprilie-2026.jpg
ORGANIZER;CN="Teatrul pentru copii si tineret Colibri":MAILTO:contact@teatrulcolibri.ro
GEO:44.3151148;23.8215842
X-APPLE-STRUCTURED-LOCATION;VALUE=URI;X-ADDRESS=Teatrul pentru copii și tineret Colibri Calea București nr. 56 Craiova Dolj România;X-APPLE-RADIUS=500;X-TITLE=Calea București\, nr. 56:geo:23.8215842,44.3151148
END:VEVENT
BEGIN:VEVENT
DTSTART;TZID=Europe/Bucharest:20260426T110000
DTEND;TZID=Europe/Bucharest:20260426T120000
DTSTAMP:20260424T002119
CREATED:20241031T095219Z
LAST-MODIFIED:20260422T124512Z
UID:10003213-1777201200-1777204800@craiovalive.ro
SUMMARY:Aladin
DESCRIPTION:ALADIN  (3+)\, regia Apostolache Kiss Zenoreinterpretare în versuri de Andreea RaduRegia și muzica originală: Apostolache Kiss ZenoScenografia și păpușile: Tomos TündeSand-art: Alice BratuDistribuția: Marin Fagu\, Emanuel Popescu\, Oana Stancu\, Alis Ianoș\, Cosmin Dolea\, Adriana Ioncu\, Ionica Dobrescu\, Daniel MireaRegizor tehnic: Mugurel VitanLumini: Laurențiu MiliciSunet: Constantin BîrțanMașinist: Costică JianuCroitorie: Georgeta Bălășoiu\, Mihaela CalciuTâmplărie: Alexandru Bălășoiu \nSpectacolul Aladin este o reinterpretare în versuri\, cu muzică originală\, a poveștii clasice. De data aceasta povestitorul este chiar Duhul din lampa fermecată. Aladin\, un tânăr sărac\, o întâlnește pe prințesa Jasmine de care se îndrăgostește pe loc\, iar de acolo\, cu ajutor sau cu piedici\, el va face orice pentru a deveni prinț și pentru a se căsători cu prințesa. Ce nu știe Aladin este că Jafar\, vrăjitorul\, pe de altă parte\, va lupta ca să obțină puterea deplină. Prin cântece și momente ritmate\, povestea ne arată cum Aladin învață că iubirea\, prietenia și libertatea sunt adevărata bogăție\, iar Duhul\, cu umorul său\, ne ghidează prin toate întâmplările.📍Biletele se pot procura de la Agenția Teatrului Colibri. Preț bilet: 13 lei / pers. Mai multe informații se pot obține la tel.: 0251.412.473. \n❗ După ora începerii spectacolului\, accesul în sală nu mai este permis! Persoanele care au bilete și întârzie le pot reprograma la următoarele spectacole.
URL:https://craiovalive.ro/eveniment/aladin/
LOCATION:Teatrul pentru copii și tineret Colibri\, Calea București\, nr. 56\, Craiova\, Dolj\, România
CATEGORIES:Evenimente pentru copii
ATTACH;FMTTYPE=image/jpeg:https://craiovalive.ro/wp-content/uploads/2024/10/Aladin-Teatrul-Colibri-Craiova.jpg
ORGANIZER;CN="Teatrul pentru copii si tineret Colibri":MAILTO:contact@teatrulcolibri.ro
GEO:44.3151148;23.8215842
X-APPLE-STRUCTURED-LOCATION;VALUE=URI;X-ADDRESS=Teatrul pentru copii și tineret Colibri Calea București nr. 56 Craiova Dolj România;X-APPLE-RADIUS=500;X-TITLE=Calea București\, nr. 56:geo:23.8215842,44.3151148
END:VEVENT
BEGIN:VEVENT
DTSTART;TZID=Europe/Bucharest:20260426T110000
DTEND;TZID=Europe/Bucharest:20260426T123000
DTSTAMP:20260424T002119
CREATED:20260217T173759Z
LAST-MODIFIED:20260217T173759Z
UID:10014015-1777201200-1777206600@craiovalive.ro
SUMMARY:Muzică și magie în baloane de săpun
DESCRIPTION:MUZICĂ ȘI MAGIE ÎN BALOANE DE SĂPUN | CRAIOVA \nMINUNAȚII prezintă spectacolul „Muzică și magie în baloane de săpun”! După succesul de la Sala Palatului\, cel mai tare show de muzică originală și magie pentru întreaga familie ajunge la tine în oraș! \nVino să te bucuri de un spectacol memorabil cu hit-urile „Dansează Bunica”\, „Tu ești Minunat” și toate celelalte melodii de care nu te mai saturi\, plus magia impresionantă a lui Verdini. Noi știm că fericirea se măsoară în surprize și emoții trăite cu familia. Spectacolul Minunații e o superbă experiență de familie. \nMINUNAȚII\, Magicianul VERDINI\, DJ BUMBA și BUMBIZZA vor deveni prietenii voștri\, garantat! Fiecare dintre ei transmite o poveste\, iar împreună învățăm cum să fim mai empatici\, cum să îi acceptăm pe cei din jur\, cum să transformăm orice defect într-o calitate și cum să credem în magie\, indiferent de vârstă! Să nu uităm nici de finalul spectaculos plin de baloane de săpun. \nCu un scenariu conceput cu grijă pentru copii\, aprobat de psihologul Gabriela Maalouf și cu muzica originală semnată de compozitorul și producătorul muzical Robert Toma\, spectacolul „Muzică și magie în baloane de săpun” este o experiență pentru întreaga familie! \nDe retinut! \n• Durata spectacolului: o oră și 20 de minute \n• Un bilet de acces este valabil pentru o singură persoană (copil sau adult). Copiii sub 2 ani au acces gratuit\, dar nu au loc asigurat. \n• Accesul minorilor (0-18 ani) în locația evenimentului este permis doar împreună cu un adult. \n• Pe durata evenimentului se vor realiza înregistrări audio și video. Prin participarea la eveniment\, sunteți de acord cu cedarea drepturilor de imagine pentru aceste materiale.
URL:https://craiovalive.ro/eveniment/muzica-si-magie-in-baloane-de-sapun/
LOCATION:Cercul Militar Craiova\, Str. Marin Sorescu\, nr. 2\, Craiova\, Dolj\, 200642\, România
CATEGORIES:Evenimente pentru copii
ATTACH;FMTTYPE=image/webp:https://craiovalive.ro/wp-content/uploads/2026/02/Muzica-si-magie-in-baloane-de-sapun.webp
GEO:44.308454;23.7956757
X-APPLE-STRUCTURED-LOCATION;VALUE=URI;X-ADDRESS=Cercul Militar Craiova Str. Marin Sorescu nr. 2 Craiova Dolj 200642 România;X-APPLE-RADIUS=500;X-TITLE=Str. Marin Sorescu\, nr. 2:geo:23.7956757,44.308454
END:VEVENT
BEGIN:VEVENT
DTSTART;TZID=Europe/Bucharest:20260426T180000
DTEND;TZID=Europe/Bucharest:20260426T193000
DTSTAMP:20260424T002119
CREATED:20260422T091551Z
LAST-MODIFIED:20260422T091551Z
UID:10014581-1777226400-1777231800@craiovalive.ro
SUMMARY:Lectură publică și sesiune de autografe cu Iulia Iordan
DESCRIPTION:Lectură publică și sesiune de autografe cu Iulia Iordan – Cărturești Craiova\, Electroputere Mall\, 26 aprilie\, ora 18.00\nVârsta recomandată : 7 ani\nÎi invităm pe copii la o joacă a minții în preajma artei\, împreună cu autoarea Iulia Iordan. Structura întâlnirii este alcătuită din câteva activități ludice\, discuții și o parte practică. “Câte culori există în lume?” se întreabă Primul Punct. Așa vom începe întâlnirea. Cum o vom încheia? Cu noi aventuri ale celor două personaje\, inventate chiar de către copiii participanți la atelier. Vă așteptăm cu drag!\nAtelier inspirat de cartea “Primul Punct și Al Doilea Punct” (Ed. Univers)\, o colecție de povești despre descoperire prin întrebări în preajma frumuseții pe care oamenii au creat-o de-a lungul timpului sau o pot crea.\n*\nÎntâlnirea face parte din proiectul „PlayLIT – Aplauze la cartea deschisă”. Timp de o săptămână\, șase scriitoare de referință transformă lectura într-o experiență interactivă\, îmbinând teatrul\, filozofia și arta vizuală în școli\, librării și comunități rurale din Dolj.\n______\nScriitoare\, educator cultural și doctorandă în studii culturale la Centrul de Excelență în Studiul Imaginii\, Universitatea din București\, Iulia studiat filosofia și pedagogia\, iar în prezent experimentează modalități diverse de a-i implica activ pe copii și tineri în propria lor educație culturală. Lucrează de douăzeci de ani ca educator muzeal\, iar în prezent inventează în echipe multidisciplinare proiecte culturale care au ca scop apropierea copiilor și tinerilor de patrimoniu\, filosofie\, literatură sau artă contemporană\, alături de cele două asociații pe care le-a co-fondat\, Asociația Da’DeCe (2011) și De Basm. Asociația Scriitorilor pentru Copii și Adolescenți din România (2018).\nScrie povești pentru copii din anul 2012\, fiind\, printre altele\, co-autoarea volumelor „Nes(u)pusele”\, o colecție de povești inspirate de istoria feminină a României (editura Univers\, 2018 și 2019) și autoarea colecției de poezie și filosofie\, co-creată alături de 18 adolescenți români din diverse sate și orașe ale țării\, „Rămâi cu tine” (editura Seneca\, 2024).\n_____\n**Proiectul nu reprezintă în mod necesar poziţia Administrației Fondului Cultural Național. AFCN nu este responsabilă de conținutul proiectului sau de modul în care rezultatele proiectului pot fi folosite. Acestea sunt în întregime responsabilitea beneficiarului finațării.
URL:https://craiovalive.ro/eveniment/lectura-publica-si-sesiune-de-autografe-cu-iulia-iordan/
LOCATION:Electroputere Parc Mall\, Calea București\, nr. 80\, Craiova\, Dolj\, România
CATEGORIES:Conferință,Evenimente pentru copii
ATTACH;FMTTYPE=image/jpeg:https://craiovalive.ro/wp-content/uploads/2026/04/Lectura-publica-si-sesiune-de-autografe-cu-Iulia-Iordan.jpg
GEO:44.312934978525;23.833569266691
X-APPLE-STRUCTURED-LOCATION;VALUE=URI;X-ADDRESS=Electroputere Parc Mall Calea București nr. 80 Craiova Dolj România;X-APPLE-RADIUS=500;X-TITLE=Calea București\, nr. 80:geo:23.833569266691,44.312934978525
END:VEVENT
BEGIN:VEVENT
DTSTART;TZID=Europe/Bucharest:20260825T100000
DTEND;TZID=Europe/Bucharest:20260825T220000
DTSTAMP:20260424T002119
CREATED:20260312T125545Z
LAST-MODIFIED:20260312T130635Z
UID:10014181-1787652000-1787695200@craiovalive.ro
SUMMARY:Puppets Occupy Street 2026 - Stardust Edition
DESCRIPTION:Puppets Occupy Street 2026 – Stardust Edition\nPe vremuri\, într-un oraș plin de magie și creativitate\, păpușile au prins viață pentru a spune cele mai încântătoare povești…  🏰🧚‍♀️🐉 În 2026\, Teatrul Colibri vă invită la cea de-a 13-a ediție a Festivalului Puppets Occupy Street\, care se va desfășura la Craiova în perioada 25 august – 1 septembrie 2026. Tema ediției din acest an va fi STARDUST! Festivalul se va desfășura pe mai multe secțiuni (spectacole & happenings; ateliere; concerte; expoziții; arte plastice și vizuale\, instalații; scurtmetraje & animații) și va include teatru stradal\, spectacole de păpuși\, reprezentații bazate pe mișcare\, experiențe interactive sau orice poate aduce un strop de uimire în orașul Craiova! \n\n Puppets Occupy Street – Stardust Edition 2026\n––\nPuppets Occupy Street este primul festival de arta animației din România care se desfășoară exclusiv în spații neconvenționale\, creat pentru comunitate\, ce aduce la un loc companii de teatru private din țară și din străinătate\, încurajând astfel parteneriatul public-privat. Prima ediție a avut loc în anul 2014.\n\n\n\nFestivalul este  finanțat integral de Primăria și Consiliul Local Craiova și organizat de Teatrul pentru copii și tineret Colibri. \nScopul Puppets Occupy Street este de a promova arta animației în comunitate și de a genera accesibilitate la actul artistic către toate categoriile de vârstă și toate grupurile socio-profesionale.
URL:https://craiovalive.ro/eveniment/puppets-occupy-street-2026-stardust-edition/2026-08-25/
LOCATION:Locații multiple\, Craiova\, Dolj\, România
CATEGORIES:Ateliere,Evenimente pentru copii,Expoziție,Magie,Teatru
ATTACH;FMTTYPE=image/jpeg:https://craiovalive.ro/wp-content/uploads/2026/03/Puppets-Occupy-Street-Craiova-2026.jpeg
ORGANIZER;CN="Teatrul pentru copii si tineret Colibri":MAILTO:contact@teatrulcolibri.ro
GEO:44.3301785;23.7948808
END:VEVENT
END:VCALENDAR