BEGIN:VCALENDAR
VERSION:2.0
PRODID:-//Craiova Live - ECPv6.15.18//NONSGML v1.0//EN
CALSCALE:GREGORIAN
METHOD:PUBLISH
X-ORIGINAL-URL:https://craiovalive.ro
X-WR-CALDESC:Evenimente pentru Craiova Live
REFRESH-INTERVAL;VALUE=DURATION:PT1H
X-Robots-Tag:noindex
X-PUBLISHED-TTL:PT1H
BEGIN:VTIMEZONE
TZID:Europe/Bucharest
BEGIN:DAYLIGHT
TZOFFSETFROM:+0200
TZOFFSETTO:+0300
TZNAME:EEST
DTSTART:20240331T010000
END:DAYLIGHT
BEGIN:STANDARD
TZOFFSETFROM:+0300
TZOFFSETTO:+0200
TZNAME:EET
DTSTART:20241027T010000
END:STANDARD
BEGIN:DAYLIGHT
TZOFFSETFROM:+0200
TZOFFSETTO:+0300
TZNAME:EEST
DTSTART:20250330T010000
END:DAYLIGHT
BEGIN:STANDARD
TZOFFSETFROM:+0300
TZOFFSETTO:+0200
TZNAME:EET
DTSTART:20251026T010000
END:STANDARD
BEGIN:DAYLIGHT
TZOFFSETFROM:+0200
TZOFFSETTO:+0300
TZNAME:EEST
DTSTART:20260329T010000
END:DAYLIGHT
BEGIN:STANDARD
TZOFFSETFROM:+0300
TZOFFSETTO:+0200
TZNAME:EET
DTSTART:20261025T010000
END:STANDARD
END:VTIMEZONE
BEGIN:VEVENT
DTSTART;TZID=Europe/Bucharest:20251110T173000
DTEND;TZID=Europe/Bucharest:20251110T190000
DTSTAMP:20260424T055858
CREATED:20250921T194153Z
LAST-MODIFIED:20251012T151843Z
UID:10010246-1762795800-1762801200@craiovalive.ro
SUMMARY:Șoriceii Bucătari
DESCRIPTION:Șoriceii Bucătari   \nSpectacol muzical cu mascote\, personaje și păpuși \nVINERI 10 Noiembrie 2025   ora 17:30 \nCasa Armatei (Cercul Militar) Craiova  \nAcum ai ocazia să îți întâlnești pe cei mai faimosi șoricei\,personajele favorite ale copiilor \,în cadrul celui mai distractiv spectacol pentru copii. \nȘoriceii știu cât de important este micul dejun pentru a avea energie întreaga zi\, așa că au pregătit pentru cei mici un spectacol muzical inedit. \nAlături de cele mai îndrăgite personaje\, veți învăța retete delicioase\, transmise prin cântec\, dans și veselie. O să fie dezvaluit și ingredientul magic\, necesar oricărei rețete reușite. \nAmplificăm misterul și cu un personaj pofticios\, dar cam răutăcios care va fura tortul aniversar. Noroc cu catelusii care rezolvă problema și totul revine la normal în casa prietenilor noștri dragi! \nTotul se termină cu un program special de dans\, pe care actorii GoldenParty l-au pregatit pentru cei mici-  Mini Disco. \nVă așteptăm cu drag la spectacol\, să învățăm să gătim împreună pe ritmuri de dans și veselie!! \nDurata spectacolului: 50 minute \nSpectacol pentru audiență +2 ani
URL:https://craiovalive.ro/eveniment/soriceii-bucatari/
LOCATION:Cercul Militar Craiova\, Str. Marin Sorescu\, nr. 2\, Craiova\, Dolj\, 200642\, România
CATEGORIES:Evenimente pentru copii
ATTACH;FMTTYPE=image/jpeg:https://craiovalive.ro/wp-content/uploads/2025/09/Soriceii-Bucatari-Craiova-e1760282314948.jpg
GEO:44.308454;23.7956757
X-APPLE-STRUCTURED-LOCATION;VALUE=URI;X-ADDRESS=Cercul Militar Craiova Str. Marin Sorescu nr. 2 Craiova Dolj 200642 România;X-APPLE-RADIUS=500;X-TITLE=Str. Marin Sorescu\, nr. 2:geo:23.7956757,44.308454
END:VEVENT
BEGIN:VEVENT
DTSTART;TZID=Europe/Bucharest:20251129T180000
DTEND;TZID=Europe/Bucharest:20251129T190000
DTSTAMP:20260424T055858
CREATED:20251109T171047Z
LAST-MODIFIED:20251109T171047Z
UID:10012426-1764439200-1764442800@craiovalive.ro
SUMMARY:Pinocchio
DESCRIPTION: PINOCCHIOScenariu de Cristian Pepino după Carlo CollodiRegia: Cristian PepinoScenografia: Cristina PepinoMuzica: Dan BălanDistribuţia: Geo Dinescu\, Emanuel Popescu\, Marin Fagu\, Alla Cebotari\, Oana Stancu\, Iulia Cârstea\, Adriana Ioncu; voci: Rodica Prisăcaru\, Mugur Prisăcaru\, Mihai Brumă – Uzeanu Biletele se pot procura de la Agenția Teatrului Colibri. Preț bilet: 13 lei / pers.Mai multe informații se pot obține la tel.: 0251.412.473. După începerea spectacolului\, accesul în sală nu mai este permis! Persoanele care au bilete și întârzie le pot reprograma.
URL:https://craiovalive.ro/eveniment/pinocchio-3/
LOCATION:Teatrul pentru copii și tineret Colibri\, Calea București\, nr. 56\, Craiova\, Dolj\, România
CATEGORIES:Evenimente pentru copii
ATTACH;FMTTYPE=image/jpeg:https://craiovalive.ro/wp-content/uploads/2022/11/Pinocchio-la-Colibri.jpg
ORGANIZER;CN="Teatrul pentru copii si tineret Colibri":MAILTO:contact@teatrulcolibri.ro
GEO:44.3151148;23.8215842
X-APPLE-STRUCTURED-LOCATION;VALUE=URI;X-ADDRESS=Teatrul pentru copii și tineret Colibri Calea București nr. 56 Craiova Dolj România;X-APPLE-RADIUS=500;X-TITLE=Calea București\, nr. 56:geo:23.8215842,44.3151148
END:VEVENT
END:VCALENDAR