BEGIN:VCALENDAR
VERSION:2.0
PRODID:-//Craiova Live - ECPv6.15.18//NONSGML v1.0//EN
CALSCALE:GREGORIAN
METHOD:PUBLISH
X-WR-CALNAME:Craiova Live
X-ORIGINAL-URL:https://craiovalive.ro
X-WR-CALDESC:Evenimente pentru Craiova Live
REFRESH-INTERVAL;VALUE=DURATION:PT1H
X-Robots-Tag:noindex
X-PUBLISHED-TTL:PT1H
BEGIN:VTIMEZONE
TZID:Europe/Bucharest
BEGIN:DAYLIGHT
TZOFFSETFROM:+0200
TZOFFSETTO:+0300
TZNAME:EEST
DTSTART:20240331T010000
END:DAYLIGHT
BEGIN:STANDARD
TZOFFSETFROM:+0300
TZOFFSETTO:+0200
TZNAME:EET
DTSTART:20241027T010000
END:STANDARD
BEGIN:DAYLIGHT
TZOFFSETFROM:+0200
TZOFFSETTO:+0300
TZNAME:EEST
DTSTART:20250330T010000
END:DAYLIGHT
BEGIN:STANDARD
TZOFFSETFROM:+0300
TZOFFSETTO:+0200
TZNAME:EET
DTSTART:20251026T010000
END:STANDARD
BEGIN:DAYLIGHT
TZOFFSETFROM:+0200
TZOFFSETTO:+0300
TZNAME:EEST
DTSTART:20260329T010000
END:DAYLIGHT
BEGIN:STANDARD
TZOFFSETFROM:+0300
TZOFFSETTO:+0200
TZNAME:EET
DTSTART:20261025T010000
END:STANDARD
END:VTIMEZONE
BEGIN:VEVENT
DTSTART;TZID=Europe/Bucharest:20251004T100000
DTEND;TZID=Europe/Bucharest:20251004T123000
DTSTAMP:20260424T083029
CREATED:20250928T153714Z
LAST-MODIFIED:20250928T153714Z
UID:10010261-1759572000-1759581000@craiovalive.ro
SUMMARY:Cupa StartSport 2025
DESCRIPTION:– CUPA STARTSPORT 2025 – Ediția a IV-a – vă așteaptă la start într-un număr cât mai mare. Se adresează tuturor copiilor și adolescenților\, legitimați și nelegitimați\, cu un singur obiectiv: ALEARGĂ\, SARI\, ARUNCĂ!– Participarea este gratuită\, concurenții putând participa doar la categoria de vârstă corespunzătoare anului de naștere.– Premierea se va face pe categorii de vârstă\, astfel:2006 – 2013\, conform probelor și categoriilor din concurs\, (se va premia locul I\, II și III cu premii constând în: diplomă\, medalie pentru toate locurile\, și cupă pentru locul I) + alte premii.– Pentru categoriile 2014 și mai mici nu se face clasament\, se acordă premii doar pentru participare.– Cu ajutorul sponsorilor\, vom acorda premii primilor 400 de copii înscriși\, constând în diplomă\, medalie de participare + alte premii.– Este interzisă folosirea pantofilor cu cuie (profesionali)\, se va alerga în încălțăminte sport.– Participarea se face pe propria răspundere a părinților/tutorilor legali și presupune acordul GDPR privind fotografierea\, promovarea și folosirea datelor personale în scopul acțiunii.– Înscrierea se face prin e-mail: asociatiastartsport@gmail.com\, cu următoarele date: NUME ȘI PRENUME\, CNP\, PROBA\, ȘCOALA DE PROVENIENȚĂ.– Entitățile sportive/ școlile vor face înscrierea pe bază de tabel\, cuprinzând datele mai sus menționate.PARTENERI:1) CSM CRAIOVA;2) AJA DOLJ;3) ȘCOALA GIMNAZIALĂ „TRAIAN”;4) ȘCOALA GIMNAZIALĂ „C-TIN GEORGHITĂ”- PODARI;5) ȘCOALA GIMNAZIALĂ „MIHAI EMINESCU”.\nDetalii la tel. 0744563528.
URL:https://craiovalive.ro/eveniment/cupa-startsport-2025/
LOCATION:Dolj
CATEGORIES:Evenimente pentru copii,Sport
ATTACH;FMTTYPE=image/jpeg:https://craiovalive.ro/wp-content/uploads/2025/09/Cupa-StartSport-2025.jpg
END:VEVENT
BEGIN:VEVENT
DTSTART;TZID=Europe/Bucharest:20251011T110000
DTEND;TZID=Europe/Bucharest:20251011T120000
DTSTAMP:20260424T083029
CREATED:20251007T211846Z
LAST-MODIFIED:20251007T211846Z
UID:10010298-1760180400-1760184000@craiovalive.ro
SUMMARY:Atelier de lectură și creație „Fetița-lup”
DESCRIPTION:Dragi părinți și copii\, vă invităm la o aventură plină de imaginație și curaj! Pornim de la povestea emoționantă „Fetița-lup” de Jo Loring-Fisher și descoperim împreună ce înseamnă să ai încredere în tine\, să îți învingi timiditatea și să îți găsești vocea.\n Vom citi povestea împreună Vom crea măști de lup Vom construi împreună Lanțul prieteniei\n Eveniment recomandat copiilor cu vârste între 4 și 7 ani Participarea este pe bază de donație: 40 lei Locuri limitate – maxim 10 participanți\n Înscrieri și detalii: tribulparintilor@gmail.com\n Telefon: 0767 458 472\nHaideți să transformăm lectura într-o experiență de joacă și descoperire\, într-un spațiu cald și primitor\, la Cărturești ElectroPutere Mall! 
URL:https://craiovalive.ro/eveniment/atelier-de-lectura-si-creatie-fetita-lup/
LOCATION:Dolj
CATEGORIES:Ateliere,Evenimente pentru copii
ATTACH;FMTTYPE=image/jpeg:https://craiovalive.ro/wp-content/uploads/2025/10/Atelier-de-lectura-si-creatie-„Fetita-lup.jpg
END:VEVENT
BEGIN:VEVENT
DTSTART;TZID=Europe/Bucharest:20251011T190000
DTEND;TZID=Europe/Bucharest:20251011T203000
DTSTAMP:20260424T083029
CREATED:20251006T101411Z
LAST-MODIFIED:20251006T101411Z
UID:10010283-1760209200-1760214600@craiovalive.ro
SUMMARY:Albă ca Zăpada și cei șapte pitici
DESCRIPTION:Denumire: Albă ca Zăpada și cei șapte pitici \nData: 11 octombrie 2025 \nOra: 19.00 \nLocația: Cercul Militar \n\nSpectatorii de toate vârstele sunt invitați la spectacolul de dans Albă ca Zăpada și cei șapte pitici\, o călătorie în lumea magică a uneia dintre cele mai frumoase povești. Prin limbajul unic și plin de expresivitate al dansului\, Soliștii și Baletul Operei Române Craiova\, alături de Școala de Balet Attitude vor da viață mult îndrăgitelor personaje și universului lor fermecător. \nOra și locul evenimentului\nVa asteptam pe 11 octombrie\, incepand cu ora 19:00 la Cercul Militar. \n  \nPret: \n\nBilet Adult – 40 RON \nBilet Copil – 20 RON
URL:https://craiovalive.ro/eveniment/alba-ca-zapada-si-cei-sapte-pitici/
LOCATION:Cercul Militar Craiova\, Str. Marin Sorescu\, nr. 2\, Craiova\, Dolj\, 200642\, România
CATEGORIES:Evenimente pentru copii
ATTACH;FMTTYPE=image/png:https://craiovalive.ro/wp-content/uploads/2025/10/Alba-ca-Zapada-si-cei-sapte-pitici.png
ORGANIZER;CN="Opera Rom%C3%A2n%C4%83 Craiova":MAILTO:rezervari@operacraiova.ro
GEO:44.308454;23.7956757
X-APPLE-STRUCTURED-LOCATION;VALUE=URI;X-ADDRESS=Cercul Militar Craiova Str. Marin Sorescu nr. 2 Craiova Dolj 200642 România;X-APPLE-RADIUS=500;X-TITLE=Str. Marin Sorescu\, nr. 2:geo:23.7956757,44.308454
END:VEVENT
BEGIN:VEVENT
DTSTART;TZID=Europe/Bucharest:20251013T173000
DTEND;TZID=Europe/Bucharest:20251013T193000
DTSTAMP:20260424T083029
CREATED:20251012T144535Z
LAST-MODIFIED:20251012T154143Z
UID:10010437-1760376600-1760383800@craiovalive.ro
SUMMARY:Atelier creativ: Lipici si vrăji de Halloween!
DESCRIPTION:Atelier creativ: Lipici si vrăji de Halloween!\n\n\nVârsta: copii 4 ani+\nLuni\, 13 octombrie 2025\nOra: 17.30 – 19.30\nAcces atelier: 50 lei\n\n\n Locație: Altheon – Strada Împăratul Traian nr. 22A\, Craiova\n Detalii și înscrieri: 0784 968 233\n E-mail: explore@altheonmetropolis.com\n\n\nSe anunta un atelier plin de magie\, râsete si… lipici peste tot! \n\n\nVom decupa\, colora si picta dovlecei haiosi\, fantome prietenoase si decoruri de Halloween.\n\n\nPe lângã distractie\, promitem si o doză serioasă de creativitate — fiecare copil va pleca acasã cu propriile decoratiuni si o amintire frumoasa de toamna!\n\n\nNu garantăm haine curate\, dar garantăm zâmbete\, culoare si voie bună!
URL:https://craiovalive.ro/eveniment/atelier-creativ-lipici-si-vraji-de-halloween/
LOCATION:Altheon\, Str. Imparatul Traian\, nr. 22\, Craiova\, Dolj\, România
CATEGORIES:Evenimente pentru copii
ATTACH;FMTTYPE=image/jpeg:https://craiovalive.ro/wp-content/uploads/2025/10/Atelier-creativ-Lipici-si-vraji-de-Halloween.jpg
ORGANIZER;CN="Altheon":MAILTO:explore@altheonmetropolis.com
GEO:44.316432407791;23.804282670174
X-APPLE-STRUCTURED-LOCATION;VALUE=URI;X-ADDRESS=Altheon Str. Imparatul Traian nr. 22 Craiova Dolj România;X-APPLE-RADIUS=500;X-TITLE=Str. Imparatul Traian\, nr. 22:geo:23.804282670174,44.316432407791
END:VEVENT
BEGIN:VEVENT
DTSTART;TZID=Europe/Bucharest:20251022T173000
DTEND;TZID=Europe/Bucharest:20251022T193000
DTSTAMP:20260424T083029
CREATED:20251019T180601Z
LAST-MODIFIED:20251019T180601Z
UID:10010854-1761154200-1761161400@craiovalive.ro
SUMMARY:Atelier creativ Ghirlande cu decorațiuni de Halloween
DESCRIPTION: Miercuri\, 22 octombrie 2025 Ora 17:30 – 19:30 Acces atelier: 50 lei Locație: ALTHEON – Strada Împăratul Traian nr. 22A\, Craiova Detalii și înscrieri: 0784 968 233 explore@altheonmetropolis.com\nSe anunță o nouă după-amiază plină de culoare\, lipici și zâmbete!De data aceasta\, ne pregătim pentru Halloween realizând ghirlande tematice – cu dovlecei\, fantome și lilieci prietenoși\, care vor transforma orice colț într-un decor vesel de toamnă. \nFiecare copil va crea propria ghirlandă\, pe care o va duce acasă\, gata să coloreze atmosfera de Halloween. \nNu garantăm haine curate\, dar garantăm distracție\, creativitate și bucurie! 
URL:https://craiovalive.ro/eveniment/atelier-creativ-ghirlande-cu-decoratiuni-de-halloween/
LOCATION:Altheon\, Str. Imparatul Traian\, nr. 22\, Craiova\, Dolj\, România
CATEGORIES:Evenimente pentru copii
ATTACH;FMTTYPE=image/jpeg:https://craiovalive.ro/wp-content/uploads/2025/10/Atelier-creativ-Ghirlande-cu-decoratiuni-de-Halloween.jpg
ORGANIZER;CN="Altheon":MAILTO:explore@altheonmetropolis.com
GEO:44.316432407791;23.804282670174
X-APPLE-STRUCTURED-LOCATION;VALUE=URI;X-ADDRESS=Altheon Str. Imparatul Traian nr. 22 Craiova Dolj România;X-APPLE-RADIUS=500;X-TITLE=Str. Imparatul Traian\, nr. 22:geo:23.804282670174,44.316432407791
END:VEVENT
BEGIN:VEVENT
DTSTART;TZID=Europe/Bucharest:20251025T180000
DTEND;TZID=Europe/Bucharest:20251025T190000
DTSTAMP:20260424T083029
CREATED:20231101T121824Z
LAST-MODIFIED:20251023T092057Z
UID:10003284-1761415200-1761418800@craiovalive.ro
SUMMARY:Ursul păcălit de vulpe
DESCRIPTION:URSUL PĂCĂLIT DE VULPE (3+)\nde Ion Creangă\nScenariul\, regia şi scenografia: Valentin Dobrescu\nMuzica: Alin Macovei – Moraru\nDistribuție: Ionica Dobrescu\, Daniel Mirea\, Marin Fagu\, Alla Cebotari\, Adriana Ioncu\, Emanuel Popescu; voce: Mugur Prisăcaru.\n\nCelebra și clasica poveste a lui Ion Creangă este spusă pe scena teatrului de actori\, păpuși\, mascote\, cu umor\, fantezie\, muzică și multă bucurie.\nVârsta minimă recomandată: 3 ani\n\n\n Preț: 13 lei / pers.\n Biletele se pot procura de la Agenția Teatrului Colibri. Mai multe informații se pot obține la tel.: 0251.412.473.\n\nDupă începerea spectacolului\, accesul în sală nu mai este permis! Persoanele care au bilete și întârzie le pot reprograma.
URL:https://craiovalive.ro/eveniment/ursul-pacalit-de-vulpe/
LOCATION:Teatrul pentru copii și tineret Colibri\, Calea București\, nr. 56\, Craiova\, Dolj\, România
CATEGORIES:Evenimente pentru copii
ORGANIZER;CN="Teatrul pentru copii si tineret Colibri":MAILTO:contact@teatrulcolibri.ro
GEO:44.3151148;23.8215842
X-APPLE-STRUCTURED-LOCATION;VALUE=URI;X-ADDRESS=Teatrul pentru copii și tineret Colibri Calea București nr. 56 Craiova Dolj România;X-APPLE-RADIUS=500;X-TITLE=Calea București\, nr. 56:geo:23.8215842,44.3151148
END:VEVENT
BEGIN:VEVENT
DTSTART;TZID=Europe/Bucharest:20251026T100000
DTEND;TZID=Europe/Bucharest:20251026T120000
DTSTAMP:20260424T083029
CREATED:20250818T103208Z
LAST-MODIFIED:20250818T103208Z
UID:10007926-1761472800-1761480000@craiovalive.ro
SUMMARY:„Promisiunea Zurli” la Craiova
DESCRIPTION:CRAIOVA “Promisiunea Zurli” Maya si Gasca Zurli \nTeatrul National Marin Sorescu – Sala Amza Pellea\, Strada Alexandru Ioan Cuza\, nr. 11\, Craiova\, Craiova \n26 octombrie 2025\, Ora 10:00  Ora acces: 09:00 \nInfo eveniment: CRAIOVA “ Promisiunea Zurli” Maya si Gasca Zurli\n„Promisiunea Zurli” este noua aventură plină de culoare\, cântec și emoție pe care Gașca Zurli o aduce în inimile copiilor și părinților din toată țara. Inspirat de cartea cu același nume scrisă de Mirela Retegan\, spectacolul spune o poveste despre legămintele care ne apropie și ne fac mai buni – promisiunile între copii\, părinți\, bunici\, dar și promisiunile către noi înșine. \nPe scenă\, cele mai iubite personaje Zurli îi poartă pe spectatori într-un univers magic\, unde veselia se împletește cu emoția\, iar mesajele simple\, dar profunde\, ajung direct la inimă. În stilul său inconfundabil\, Mirela Retegan transformă fiecare moment într-o lecție de iubire și încredere\, amintindu-ne că o promisiune este un pod invizibil între două suflete\, construit din grijă și sinceritate. \nPublicul va cânta și va dansa pe ritmurile unor piese noi\, precum „Astăzi vreau îmbrățișare”\, „Promite-mi” și „Îmi place viața mea”\, dar și pe melodiile deja consacrate – „Am o căsuță mică”\, „Avion cu motor”\, „Aramsamsam” sau „Pupici cu sclipici”. \nPublicul va fi întâmpinat încă de la intrarea în sala de spectacol\, cu o oră înainte de începere\, prin surprize pregătite special pentru cei mici. După spectacol\, copiii se vor bucura de o întâlnire specială cu Tanti Prezentatoarea și Maya\, care îi vor îmbrățișa\, vor sta de vorbă și vor face poze cu fiecare. \nCu regia semnată de Eduard Zănoagă și muzica purtând semnăturile compozitorilor Cornel Sorian\, Emanuel Mirea\, Mihai Alexandru și David (Hahaha Production)\, „Promisiunea Zurli” promite să fie o experiență completă – un spectacol pe care îl vei purta mereu în suflet.
URL:https://craiovalive.ro/eveniment/promisiunea-zurli-la-craiova/
LOCATION:Teatrul Național Craiova – Sala Amza Pellea\, Str. A. I. Cuza\, nr. 11\, Craiova\, Dolj\, 200585\, România
CATEGORIES:Evenimente pentru copii
ATTACH;FMTTYPE=image/jpeg:https://craiovalive.ro/wp-content/uploads/2025/08/Promisiunea-Zurli-la-Craiova.jpg
GEO:44.3186661;23.8003743
X-APPLE-STRUCTURED-LOCATION;VALUE=URI;X-ADDRESS=Teatrul Național Craiova – Sala Amza Pellea Str. A. I. Cuza nr. 11 Craiova Dolj 200585 România;X-APPLE-RADIUS=500;X-TITLE=Str. A. I. Cuza\, nr. 11:geo:23.8003743,44.3186661
END:VEVENT
BEGIN:VEVENT
DTSTART;TZID=Europe/Bucharest:20251030T183000
DTEND;TZID=Europe/Bucharest:20251030T200000
DTSTAMP:20260424T083029
CREATED:20251026T235517Z
LAST-MODIFIED:20251026T235517Z
UID:10012178-1761849000-1761854400@craiovalive.ro
SUMMARY:Trick or Treat…cu prietenii de la Altheon
DESCRIPTION:Pe 30 octombrie\, la ceas de seară\, între 18:30 și 20:00\, pornim în cea mai veselă misiune fantomatică din oraș: Colindăm de Halloween în zona Altheon și Centrul Vechi al Craiovei!\nNu doar pentru dulciuri și fructe; ci ca să aducem zâmbete și magie pe unde trecem!(Și da… promitem să fim super politicoși când cerem bomboane )\n Evenimentul este gratuit\, dar plin de bucurie! Costumați haios\, puși pe șotii și accesorizați cu zâmbete\, vrăjim gazdele cu bună dispoziție și umplem ghiozdănelele cu dulciuri!\n Colindăm cu mic\, cu mare!Sunt bineveniți toți copiii\, dar și frații mai mari\, părinții\, bunicii – oricine are magia jocului în suflet și are chef de colindat cu fantome prietenoase și vrăjitoare amuzante. Copiii sub 5 ani sunt așteptați însoțiți.Spiritul de familie și prietenie ne face colinda și mai frumoasă!\n P.S. Antrenamentul perfect pentru Halloween Ball-ul Altheon din 31 octombrie!\nSună sau scrie un mesaj dacă vrei să te alături colindătorilor! 0784 968 233 explore@altheonmetropolis.com
URL:https://craiovalive.ro/eveniment/trick-or-treatcu-prietenii-de-la-altheon/
LOCATION:Locații multiple\, Craiova\, Dolj\, România
CATEGORIES:Evenimente pentru copii
ATTACH;FMTTYPE=image/jpeg:https://craiovalive.ro/wp-content/uploads/2025/10/Trick-or-Treat…cu-prietenii-de-la-Altheon.jpg
ORGANIZER;CN="Altheon":MAILTO:explore@altheonmetropolis.com
GEO:44.3301785;23.7948808
END:VEVENT
END:VCALENDAR