BEGIN:VCALENDAR
VERSION:2.0
PRODID:-//Craiova Live - ECPv6.15.18//NONSGML v1.0//EN
CALSCALE:GREGORIAN
METHOD:PUBLISH
X-ORIGINAL-URL:https://craiovalive.ro
X-WR-CALDESC:Evenimente pentru Craiova Live
REFRESH-INTERVAL;VALUE=DURATION:PT1H
X-Robots-Tag:noindex
X-PUBLISHED-TTL:PT1H
BEGIN:VTIMEZONE
TZID:Europe/Bucharest
BEGIN:DAYLIGHT
TZOFFSETFROM:+0200
TZOFFSETTO:+0300
TZNAME:EEST
DTSTART:20250330T010000
END:DAYLIGHT
BEGIN:STANDARD
TZOFFSETFROM:+0300
TZOFFSETTO:+0200
TZNAME:EET
DTSTART:20251026T010000
END:STANDARD
BEGIN:DAYLIGHT
TZOFFSETFROM:+0200
TZOFFSETTO:+0300
TZNAME:EEST
DTSTART:20260329T010000
END:DAYLIGHT
BEGIN:STANDARD
TZOFFSETFROM:+0300
TZOFFSETTO:+0200
TZNAME:EET
DTSTART:20261025T010000
END:STANDARD
BEGIN:DAYLIGHT
TZOFFSETFROM:+0200
TZOFFSETTO:+0300
TZNAME:EEST
DTSTART:20270328T010000
END:DAYLIGHT
BEGIN:STANDARD
TZOFFSETFROM:+0300
TZOFFSETTO:+0200
TZNAME:EET
DTSTART:20271031T010000
END:STANDARD
END:VTIMEZONE
BEGIN:VEVENT
DTSTART;TZID=Europe/Bucharest:20260302T190000
DTEND;TZID=Europe/Bucharest:20260302T200000
DTSTAMP:20260424T015133
CREATED:20260225T092310Z
LAST-MODIFIED:20260225T092310Z
UID:10014094-1772478000-1772481600@craiovalive.ro
SUMMARY:Spectacol „Primăvara începe cu noi”
DESCRIPTION:Primăvara începe cu noi! \nCentrul Județean de Cultură și Artă Dolj\, prin Școala Populară de Arte și Meserii „Cornetti”\, vă invită luni\, 2 martie 2026\, ora 19:00\, în foaierul Filarmonicii Oltenia Craiova\, la spectacolul „Primăvara începe cu noi”.\nEvenimentul reunește pe scenă elevii claselor de balet\, actorie și modeling\, într-un act artistic dedicat primăverii\, sensibilității și expresivității scenice.\nPublicul este invitat să descopere energia și talentul tinerilor artiști\, într-o seară în care dansul\, mișcarea și emoția se împletesc armonios.\n Intrarea este liberă.\nVă așteptăm alături de noi pentru a celebra primăvara prin artă!
URL:https://craiovalive.ro/eveniment/spectacol-primavara-incepe-cu-noi/
LOCATION:Filarmonica Oltenia\, Calea Unirii\, nr. 16\, Craiova\, Dolj\, 200585\, România
CATEGORIES:Dans
ATTACH;FMTTYPE=image/jpeg:https://craiovalive.ro/wp-content/uploads/2026/02/Spectacol-„Primavara-incepe-cu-noi.jpg
ORGANIZER;CN="Centrul Jude%C8%9Bean de Cultur%C4%83 %C8%99i Art%C4%83 Dolj":MAILTO:cjcadolj@yahoo.com
GEO:44.3172308;23.7944364
X-APPLE-STRUCTURED-LOCATION;VALUE=URI;X-ADDRESS=Filarmonica Oltenia Calea Unirii nr. 16 Craiova Dolj 200585 România;X-APPLE-RADIUS=500;X-TITLE=Calea Unirii\, nr. 16:geo:23.7944364,44.3172308
END:VEVENT
BEGIN:VEVENT
DTSTART;TZID=Europe/Bucharest:20260322T190000
DTEND;TZID=Europe/Bucharest:20260322T210000
DTSTAMP:20260424T015133
CREATED:20250909T192036Z
LAST-MODIFIED:20260215T190131Z
UID:10009706-1774206000-1774213200@craiovalive.ro
SUMMARY:Lacul Lebedelor (Balet în 4 acte)
DESCRIPTION:Lacul Lebedelor – Capodopera baletului clasic\, acum în turneu național \nEmerald Production\, în parteneriat cu Teatrul Național de Operă și Balet „Maria Bieșu” din Chișinău\, aduce pe scenă unul dintre cele mai îndrăgite spectacole ale tuturor timpurilor – „Lacul Lebedelor” de Piotr Ilici Ceaikovski.\n\nCu decoruri spectaculoase\, costume rafinate și o distribuție impresionantă de artiști de talie internațională\, spectacolul promite emoție\, eleganță și frumusețe pură.\n\nFiecare reprezentație este o invitație într-o lume de basm\, unde iubirea\, sacrificiul și destinul se împletesc în pași de dans desăvârșiți. \nRezervă-ți acum locul și trăiește magia baletului clasic pe viu!
URL:https://craiovalive.ro/eveniment/lacul-lebedelor-balet-in-4-acte/
LOCATION:Teatrul Național Craiova – Sala Amza Pellea\, Str. A. I. Cuza\, nr. 11\, Craiova\, Dolj\, 200585\, România
CATEGORIES:Dans
ATTACH;FMTTYPE=image/webp:https://craiovalive.ro/wp-content/uploads/2025/09/Lacul-Lebedelor-Balet-in-4-acte-1.webp
GEO:44.3186661;23.8003743
X-APPLE-STRUCTURED-LOCATION;VALUE=URI;X-ADDRESS=Teatrul Național Craiova – Sala Amza Pellea Str. A. I. Cuza nr. 11 Craiova Dolj 200585 România;X-APPLE-RADIUS=500;X-TITLE=Str. A. I. Cuza\, nr. 11:geo:23.8003743,44.3186661
END:VEVENT
BEGIN:VEVENT
DTSTART;TZID=Europe/Bucharest:20260328T110000
DTEND;TZID=Europe/Bucharest:20260328T130000
DTSTAMP:20260424T015133
CREATED:20260324T191634Z
LAST-MODIFIED:20260324T191634Z
UID:10014394-1774695600-1774702800@craiovalive.ro
SUMMARY:Spectacol Omagial dedicat Zilei Naționale a Greciei
DESCRIPTION:Spectacol Omagial dedicat Zilei Naționale a Greciei \nComunitatea Elenă Craiova\, în parteneriat cu Uniunea Elenă din România\, vă invită la o celebrare a tradiției\, identității și spiritului elen\, într-un eveniment de înaltă ținută culturală.\n Filarmonica Oltenia Craiova 28 martie 2026 11:00 Intrare liberă\nPe scenă vor evolua:Ansamblul “Irini” – Craiova • Ansamblul “Asteria” – București • Ansamblul “Ilios” – Târgoviște • Ansamblul “Prietenii lui Zorba” – Drobeta Turnu-Severin • Ansamblul “Eleftheria” – Calafat • Ansamblul “Filia” – Pitești\nO întâlnire autentică între cultură\, tradiție și prietenie româno-elenă.\nVă așteptăm! 
URL:https://craiovalive.ro/eveniment/spectacol-omagial-dedicat-zilei-nationale-a-greciei/
LOCATION:Filarmonica Oltenia\, Calea Unirii\, nr. 16\, Craiova\, Dolj\, 200585\, România
CATEGORIES:Dans,Muzică
ATTACH;FMTTYPE=image/jpeg:https://craiovalive.ro/wp-content/uploads/2026/03/Spectacol-Omagial-dedicat-Zilei-Nationale-a-Greciei.jpg
GEO:44.3172308;23.7944364
X-APPLE-STRUCTURED-LOCATION;VALUE=URI;X-ADDRESS=Filarmonica Oltenia Calea Unirii nr. 16 Craiova Dolj 200585 România;X-APPLE-RADIUS=500;X-TITLE=Calea Unirii\, nr. 16:geo:23.7944364,44.3172308
END:VEVENT
BEGIN:VEVENT
DTSTART;TZID=Europe/Bucharest:20260416T190000
DTEND;TZID=Europe/Bucharest:20260416T203000
DTSTAMP:20260424T015133
CREATED:20260215T092520Z
LAST-MODIFIED:20260215T092520Z
UID:10013077-1776366000-1776371400@craiovalive.ro
SUMMARY:Flamenco Weekend
DESCRIPTION:Peste 30 de spectacole în România într-un singur an.\n7 turnee naționale.\nSăli pline de la Iași la Constanța\, până în Timișoara.\nIar acum\, emoția și pasiunea flamenco ajung și la Craiova!\n\nFlamenco Weekend aduce pe scenă un show intens\, plin de forță\, ritm și trăire autentică – o experiență care a cucerit publicul din toată țara. \nMaria Rubí revine în fața publicului român cu pasiunea ei debordantă și cu ceva în plus: momente noi\, surprize speciale și o energie care depășește orice așteptare. \nDacă ai mai fost la un spectacol Flamenco Weekend\, știi că urmează emoții mari și multă pasiune.\nDacă vii pentru prima dată\, pregătește-te să descoperi de ce Maria Rubí a cucerit România. \nCraiova\, e rândul tău să simți magia flamenco!
URL:https://craiovalive.ro/eveniment/flamenco-weekend/
LOCATION:Filarmonica Oltenia\, Calea Unirii\, nr. 16\, Craiova\, Dolj\, 200585\, România
CATEGORIES:Dans,Muzică
ATTACH;FMTTYPE=image/jpeg:https://craiovalive.ro/wp-content/uploads/2026/02/Flamenco-Weekend.jpg
GEO:44.3172308;23.7944364
X-APPLE-STRUCTURED-LOCATION;VALUE=URI;X-ADDRESS=Filarmonica Oltenia Calea Unirii nr. 16 Craiova Dolj 200585 România;X-APPLE-RADIUS=500;X-TITLE=Calea Unirii\, nr. 16:geo:23.7944364,44.3172308
END:VEVENT
END:VCALENDAR